| Back to Build/check report for BioC 3.14 experimental data |
|
This page was generated on 2022-04-13 14:50:22 -0400 (Wed, 13 Apr 2022).
| Hostname | OS | Arch (*) | R version | Installed pkgs |
|---|---|---|---|---|
| nebbiolo2 | Linux (Ubuntu 20.04.4 LTS) | x86_64 | 4.1.3 (2022-03-10) -- "One Push-Up" | 4324 |
| Click on any hostname to see more info about the system (e.g. compilers) (*) as reported by 'uname -p', except on Windows and Mac OS X | ||||
|
To the developers/maintainers of the chipenrich.data package: Make sure to use the following settings in order to reproduce any error or warning you see on this page. |
| Package 57/408 | Hostname | OS / Arch | INSTALL | BUILD | CHECK | ||||||||
| chipenrich.data 2.18.0 (landing page) Raymond G. Cavalcante
| nebbiolo2 | Linux (Ubuntu 20.04.4 LTS) / x86_64 | OK | OK | WARNINGS | ||||||||
| Package: chipenrich.data |
| Version: 2.18.0 |
| Command: /home/biocbuild/bbs-3.14-bioc/R/bin/R CMD build --keep-empty-dirs --no-resave-data chipenrich.data |
| StartedAt: 2022-04-13 10:14:36 -0400 (Wed, 13 Apr 2022) |
| EndedAt: 2022-04-13 10:16:25 -0400 (Wed, 13 Apr 2022) |
| EllapsedTime: 108.7 seconds |
| RetCode: 0 |
| Status: OK |
| PackageFile: chipenrich.data_2.18.0.tar.gz |
| PackageFileSize: 123.7 MiB |
##############################################################################
##############################################################################
###
### Running command:
###
### /home/biocbuild/bbs-3.14-bioc/R/bin/R CMD build --keep-empty-dirs --no-resave-data chipenrich.data
###
##############################################################################
##############################################################################
* checking for file ‘chipenrich.data/DESCRIPTION’ ... OK
* preparing ‘chipenrich.data’:
* checking DESCRIPTION meta-information ... OK
* installing the package to build vignettes
* creating vignettes ... OK
Warning: ‘inst/doc’ files
‘chipenrich.data-vignette.Rmd’, ‘chipenrich.data-vignette.html’, ‘chipenrich.data-vignette.R’
ignored as vignettes have been rebuilt.
Run R CMD build with --no-build-vignettes to prevent rebuilding.
* checking for LF line-endings in source and make files and shell scripts
* checking for empty or unneeded directories
NB: this package now depends on R (>= 3.5.0)
WARNING: Added dependency on R >= 3.5.0 because serialized objects in
serialize/load version 3 cannot be read in older versions of R.
File(s) containing such objects:
‘chipenrich.data/data/enhancer.hg19.RData’
‘chipenrich.data/data/enhancer.hg38.RData’
‘chipenrich.data/data/enhancer.mm10.RData’
‘chipenrich.data/data/enhancer.mm9.RData’
‘chipenrich.data/data/gene.enh.desc.hg19.RData’
‘chipenrich.data/data/gene.enh.desc.mm10.RData’
‘chipenrich.data/data/gene.enh.desc.mm9.RData’
‘chipenrich.data/data/locusdef.hg19.enhancer.RData’
‘chipenrich.data/data/locusdef.hg19.enhancer_plus5kb.RData’
‘chipenrich.data/data/locusdef.hg38.enhancer.RData’
‘chipenrich.data/data/locusdef.hg38.enhancer_plus5kb.RData’
* building ‘chipenrich.data_2.18.0.tar.gz’