| Back to Multiple platform build/check report for BioC 3.14 |
|
This page was generated on 2022-04-13 12:06:55 -0400 (Wed, 13 Apr 2022).
| Hostname | OS | Arch (*) | R version | Installed pkgs |
|---|---|---|---|---|
| nebbiolo2 | Linux (Ubuntu 20.04.4 LTS) | x86_64 | 4.1.3 (2022-03-10) -- "One Push-Up" | 4324 |
| tokay2 | Windows Server 2012 R2 Standard | x64 | 4.1.3 (2022-03-10) -- "One Push-Up" | 4077 |
| machv2 | macOS 10.14.6 Mojave | x86_64 | 4.1.3 (2022-03-10) -- "One Push-Up" | 4137 |
| Click on any hostname to see more info about the system (e.g. compilers) (*) as reported by 'uname -p', except on Windows and Mac OS X | ||||
|
To the developers/maintainers of the mixOmics package: - Please allow up to 24 hours (and sometimes 48 hours) for your latest push to git@git.bioconductor.org:packages/mixOmics.git to reflect on this report. See How and When does the builder pull? When will my changes propagate? for more information. - Make sure to use the following settings in order to reproduce any error or warning you see on this page. |
| Package 1178/2083 | Hostname | OS / Arch | INSTALL | BUILD | CHECK | BUILD BIN | ||||||||
| mixOmics 6.18.1 (landing page) Al J Abadi
| nebbiolo2 | Linux (Ubuntu 20.04.4 LTS) / x86_64 | OK | OK | OK | |||||||||
| tokay2 | Windows Server 2012 R2 Standard / x64 | OK | OK | OK | OK | |||||||||
| machv2 | macOS 10.14.6 Mojave / x86_64 | OK | OK | OK | OK | |||||||||
| Package: mixOmics |
| Version: 6.18.1 |
| Command: rm -rf mixOmics.buildbin-libdir && mkdir mixOmics.buildbin-libdir && C:\Users\biocbuild\bbs-3.14-bioc\R\bin\R.exe CMD INSTALL --merge-multiarch --build --library=mixOmics.buildbin-libdir mixOmics_6.18.1.tar.gz |
| StartedAt: 2022-04-13 06:37:40 -0400 (Wed, 13 Apr 2022) |
| EndedAt: 2022-04-13 06:38:45 -0400 (Wed, 13 Apr 2022) |
| EllapsedTime: 64.5 seconds |
| RetCode: 0 |
| Status: OK |
| PackageFile: mixOmics_6.18.1.zip |
| PackageFileSize: 7.747 MiB |
##############################################################################
##############################################################################
###
### Running command:
###
### rm -rf mixOmics.buildbin-libdir && mkdir mixOmics.buildbin-libdir && C:\Users\biocbuild\bbs-3.14-bioc\R\bin\R.exe CMD INSTALL --merge-multiarch --build --library=mixOmics.buildbin-libdir mixOmics_6.18.1.tar.gz
###
##############################################################################
##############################################################################
install for i386
* installing *source* package 'mixOmics' ...
** using staged installation
It is recommended to use 'given' instead of 'middle'.
** R
** data
** inst
** byte-compile and prepare package for lazy loading
** help
*** installing help indices
converting help for package 'mixOmics'
finding HTML links ... done
Koren.16S html
S3methods-print html
auroc html
background.predict html
biplot html
block.pls html
block.plsda html
block.spls html
block.splsda html
breast.TCGA html
breast.tumors html
cim html
cimDiablo html
circosPlot html
colors html
diverse.16S html
explained_variance html
get.confusion_matrix html
image.tune.rcc html
imgCor html
impute.nipals html
ipca html
linnerud html
liver.toxicity html
logratio-transformations html
map html
mat.rank html
mint.block.pls html
mint.block.plsda html
mint.block.spls html
mint.block.splsda html
mint.pca html
mint.pls html
mint.plsda html
mint.spls html
mint.splsda html
mixOmics-package html
mixOmics html
multidrug html
nearZeroVar html
network html
nipals html
nutrimouse html
pca html
perf html
plot.pca html
plot.perf html
plot.perf.pls html
plot.rcc html
plot.tune html
plotArrow html
plotDiablo html
plotIndiv html
plotLoadings html
plotMarkers html
plotVar html
pls html
plsda html
predict html
rcc html
finding level-2 HTML links ... done
selectVar html
sipca html
spca html
spls html
splsda html
srbct html
stemcells html
study_split html
summary html
tune html
tune.block.splsda html
tune.mint.splsda html
tune.pca html
tune.rcc html
tune.spca html
tune.spls html
tune.splsda html
tune.splslevel html
unmap html
vac18 html
vac18.simulated html
vip html
withinVariation html
wrapper.rgcca html
wrapper.sgcca html
yeast html
zz-defunct html
** building package indices
** installing vignettes
** testing if installed package can be loaded from temporary location
** testing if installed package can be loaded from final location
** testing if installed package keeps a record of temporary installation path
install for x64
* installing *source* package 'mixOmics' ...
** testing if installed package can be loaded
* MD5 sums
packaged installation of 'mixOmics' as mixOmics_6.18.1.zip
* DONE (mixOmics)