| Back to Multiple platform build/check report for BioC 3.14 |
|
This page was generated on 2022-04-13 12:05:37 -0400 (Wed, 13 Apr 2022).
| Hostname | OS | Arch (*) | R version | Installed pkgs |
|---|---|---|---|---|
| nebbiolo2 | Linux (Ubuntu 20.04.4 LTS) | x86_64 | 4.1.3 (2022-03-10) -- "One Push-Up" | 4324 |
| tokay2 | Windows Server 2012 R2 Standard | x64 | 4.1.3 (2022-03-10) -- "One Push-Up" | 4077 |
| machv2 | macOS 10.14.6 Mojave | x86_64 | 4.1.3 (2022-03-10) -- "One Push-Up" | 4137 |
| Click on any hostname to see more info about the system (e.g. compilers) (*) as reported by 'uname -p', except on Windows and Mac OS X | ||||
|
To the developers/maintainers of the mixOmics package: - Please allow up to 24 hours (and sometimes 48 hours) for your latest push to git@git.bioconductor.org:packages/mixOmics.git to reflect on this report. See How and When does the builder pull? When will my changes propagate? for more information. - Make sure to use the following settings in order to reproduce any error or warning you see on this page. |
| Package 1178/2083 | Hostname | OS / Arch | INSTALL | BUILD | CHECK | BUILD BIN | ||||||||
| mixOmics 6.18.1 (landing page) Al J Abadi
| nebbiolo2 | Linux (Ubuntu 20.04.4 LTS) / x86_64 | OK | OK | OK | |||||||||
| tokay2 | Windows Server 2012 R2 Standard / x64 | OK | OK | OK | OK | |||||||||
| machv2 | macOS 10.14.6 Mojave / x86_64 | OK | OK | OK | OK | |||||||||
| Package: mixOmics |
| Version: 6.18.1 |
| Command: /home/biocbuild/bbs-3.14-bioc/R/bin/R CMD check --install=check:mixOmics.install-out.txt --library=/home/biocbuild/bbs-3.14-bioc/R/library --no-vignettes --timings mixOmics_6.18.1.tar.gz |
| StartedAt: 2022-04-12 08:17:14 -0400 (Tue, 12 Apr 2022) |
| EndedAt: 2022-04-12 08:21:06 -0400 (Tue, 12 Apr 2022) |
| EllapsedTime: 232.2 seconds |
| RetCode: 0 |
| Status: OK |
| CheckDir: mixOmics.Rcheck |
| Warnings: 0 |
##############################################################################
##############################################################################
###
### Running command:
###
### /home/biocbuild/bbs-3.14-bioc/R/bin/R CMD check --install=check:mixOmics.install-out.txt --library=/home/biocbuild/bbs-3.14-bioc/R/library --no-vignettes --timings mixOmics_6.18.1.tar.gz
###
##############################################################################
##############################################################################
* using log directory ‘/home/biocbuild/bbs-3.14-bioc/meat/mixOmics.Rcheck’
* using R version 4.1.3 (2022-03-10)
* using platform: x86_64-pc-linux-gnu (64-bit)
* using session charset: UTF-8
* using option ‘--no-vignettes’
* checking for file ‘mixOmics/DESCRIPTION’ ... OK
* checking extension type ... Package
* this is package ‘mixOmics’ version ‘6.18.1’
* package encoding: UTF-8
* checking package namespace information ... OK
* checking package dependencies ... OK
* checking if this is a source package ... OK
* checking if there is a namespace ... OK
* checking for hidden files and directories ... OK
* checking for portable file names ... OK
* checking for sufficient/correct file permissions ... OK
* checking whether package ‘mixOmics’ can be installed ... OK
* checking installed package size ... NOTE
installed size is 6.2Mb
sub-directories of 1Mb or more:
R 1.3Mb
data 3.3Mb
* checking package directory ... OK
* checking DESCRIPTION meta-information ...It is recommended to use ‘given’ instead of ‘middle’.
OK
* checking top-level files ... OK
* checking for left-over files ... OK
* checking index information ... OK
* checking package subdirectories ... OK
* checking R files for non-ASCII characters ... OK
* checking R files for syntax errors ... OK
* checking whether the package can be loaded ... OK
* checking whether the package can be loaded with stated dependencies ... OK
* checking whether the package can be unloaded cleanly ... OK
* checking whether the namespace can be loaded with stated dependencies ... OK
* checking whether the namespace can be unloaded cleanly ... OK
* checking dependencies in R code ... OK
* checking S3 generic/method consistency ... OK
* checking replacement functions ... OK
* checking foreign function calls ... OK
* checking R code for possible problems ... OK
* checking Rd files ... OK
* checking Rd metadata ... OK
* checking Rd cross-references ... OK
* checking for missing documentation entries ... OK
* checking for code/documentation mismatches ... OK
* checking Rd \usage sections ... OK
* checking Rd contents ... OK
* checking for unstated dependencies in examples ... OK
* checking contents of ‘data’ directory ... OK
* checking data for non-ASCII characters ... OK
* checking data for ASCII and uncompressed saves ... OK
* checking files in ‘vignettes’ ... OK
* checking examples ... OK
Examples with CPU (user + system) or elapsed time > 5s
user system elapsed
biplot 13.163 0.120 13.283
circosPlot 7.902 0.060 7.962
background.predict 6.466 0.148 6.614
block.splsda 5.100 0.044 5.144
* checking for unstated dependencies in ‘tests’ ... OK
* checking tests ...
Running ‘testthat.R’
OK
* checking for unstated dependencies in vignettes ... OK
* checking package vignettes in ‘inst/doc’ ... OK
* checking running R code from vignettes ... SKIPPED
* checking re-building of vignette outputs ... SKIPPED
* checking PDF version of manual ... OK
* DONE
Status: 1 NOTE
See
‘/home/biocbuild/bbs-3.14-bioc/meat/mixOmics.Rcheck/00check.log’
for details.
mixOmics.Rcheck/00install.out
############################################################################## ############################################################################## ### ### Running command: ### ### /home/biocbuild/bbs-3.14-bioc/R/bin/R CMD INSTALL mixOmics ### ############################################################################## ############################################################################## * installing to library ‘/home/biocbuild/bbs-3.14-bioc/R/library’ * installing *source* package ‘mixOmics’ ... ** using staged installation It is recommended to use ‘given’ instead of ‘middle’. It is recommended to use ‘given’ instead of ‘middle’. ** R ** data ** inst ** byte-compile and prepare package for lazy loading ** help *** installing help indices ** building package indices ** installing vignettes ** testing if installed package can be loaded from temporary location ** testing if installed package can be loaded from final location ** testing if installed package keeps a record of temporary installation path * DONE (mixOmics)
mixOmics.Rcheck/tests/testthat.Rout
R version 4.1.3 (2022-03-10) -- "One Push-Up"
Copyright (C) 2022 The R Foundation for Statistical Computing
Platform: x86_64-pc-linux-gnu (64-bit)
R is free software and comes with ABSOLUTELY NO WARRANTY.
You are welcome to redistribute it under certain conditions.
Type 'license()' or 'licence()' for distribution details.
R is a collaborative project with many contributors.
Type 'contributors()' for more information and
'citation()' on how to cite R or R packages in publications.
Type 'demo()' for some demos, 'help()' for on-line help, or
'help.start()' for an HTML browser interface to help.
Type 'q()' to quit R.
> library(testthat)
> library(mixOmics)
Loading required package: MASS
Loading required package: lattice
Loading required package: ggplot2
Loaded mixOmics 6.18.1
Thank you for using mixOmics!
Tutorials: http://mixomics.org
Bookdown vignette: https://mixomicsteam.github.io/Bookdown
Questions, issues: Follow the prompts at http://mixomics.org/contact-us
Cite us: citation('mixOmics')
>
> test_check("mixOmics")
$Comp1
AUC p-value
AF vs BE 0.863 2.473e-05
$Comp2
AUC p-value
AF vs BE 0.9981 7.124e-09
adding block name to feature names in the output similarity matrix as there are similar feature names across blocks.
Performing repeated cross-validation with nrepeat = 3...
|
| | 0%
|
|======================= | 33%
|
|=============================================== | 67%
|
|======================================================================| 100%
Performing repeated cross-validation with nrepeat = 3...
|
| | 0%[ FAIL 0 | WARN 0 | SKIP 0 | PASS 134 ]
>
> proc.time()
user system elapsed
42.846 1.460 44.151
mixOmics.Rcheck/mixOmics-Ex.timings
| name | user | system | elapsed | |
| S3methods-print | 0.015 | 0.001 | 0.016 | |
| auroc | 0.800 | 0.022 | 0.822 | |
| background.predict | 6.466 | 0.148 | 6.614 | |
| biplot | 13.163 | 0.120 | 13.283 | |
| block.pls | 0.4 | 0.0 | 0.4 | |
| block.plsda | 0.564 | 0.000 | 0.564 | |
| block.spls | 4.501 | 0.088 | 4.589 | |
| block.splsda | 5.100 | 0.044 | 5.144 | |
| cim | 0.036 | 0.000 | 0.036 | |
| cimDiablo | 0.258 | 0.000 | 0.258 | |
| circosPlot | 7.902 | 0.060 | 7.962 | |
| colors | 0.028 | 0.000 | 0.028 | |
| explained_variance | 0.439 | 0.016 | 0.455 | |
| get.confusion_matrix | 0.124 | 0.004 | 0.128 | |
| image.tune.rcc | 1.557 | 0.016 | 1.573 | |
| imgCor | 0.071 | 0.004 | 0.075 | |
| impute.nipals | 0.011 | 0.000 | 0.011 | |
| ipca | 0.634 | 0.020 | 0.654 | |
| logratio-transformations | 0.051 | 0.004 | 0.056 | |
| map | 0.000 | 0.004 | 0.004 | |
| mat.rank | 0.001 | 0.000 | 0.002 | |
| mint.block.pls | 0.131 | 0.000 | 0.131 | |
| mint.block.plsda | 0.099 | 0.004 | 0.103 | |
| mint.block.spls | 0.135 | 0.000 | 0.134 | |
| mint.block.splsda | 0.111 | 0.000 | 0.110 | |
| mint.pca | 0.322 | 0.000 | 0.322 | |
| mint.pls | 0.442 | 0.004 | 0.447 | |
| mint.plsda | 0.447 | 0.004 | 0.452 | |
| mint.spls | 0.401 | 0.000 | 0.400 | |
| mint.splsda | 0.459 | 0.007 | 0.466 | |
| mixOmics | 0.243 | 0.012 | 0.254 | |
| nearZeroVar | 0.669 | 0.008 | 0.676 | |
| network | 0.011 | 0.000 | 0.011 | |
| pca | 3.700 | 0.032 | 3.731 | |
| perf | 2.516 | 0.024 | 2.539 | |
| plot.rcc | 0.013 | 0.000 | 0.012 | |
| plot.tune | 0 | 0 | 0 | |
| plotArrow | 3.112 | 0.042 | 3.155 | |
| plotDiablo | 0.156 | 0.004 | 0.161 | |
| plotIndiv | 0.521 | 0.028 | 0.550 | |
| plotLoadings | 0.091 | 0.004 | 0.096 | |
| plotMarkers | 0 | 0 | 0 | |
| plotVar | 0.445 | 0.003 | 0.449 | |
| pls | 0.003 | 0.004 | 0.007 | |
| plsda | 0.291 | 0.004 | 0.295 | |
| predict | 0.130 | 0.000 | 0.129 | |
| rcc | 0.003 | 0.000 | 0.002 | |
| selectVar | 0.304 | 0.012 | 0.316 | |
| sipca | 0.340 | 0.004 | 0.344 | |
| spca | 2.479 | 0.020 | 2.499 | |
| spls | 0.211 | 0.000 | 0.211 | |
| splsda | 0.308 | 0.000 | 0.308 | |
| study_split | 0.006 | 0.000 | 0.006 | |
| summary | 0.010 | 0.004 | 0.014 | |
| tune | 4.307 | 0.041 | 4.363 | |
| tune.block.splsda | 0.001 | 0.000 | 0.001 | |
| tune.mint.splsda | 2.128 | 0.000 | 2.128 | |
| tune.pca | 0.174 | 0.000 | 0.175 | |
| tune.rcc | 1.599 | 0.000 | 1.599 | |
| tune.spca | 0.538 | 0.000 | 0.538 | |
| tune.spls | 0.000 | 0.000 | 0.001 | |
| tune.splsda | 3.837 | 0.086 | 3.938 | |
| tune.splslevel | 0.97 | 0.00 | 0.97 | |
| unmap | 0.004 | 0.000 | 0.004 | |
| vip | 0.009 | 0.000 | 0.009 | |
| withinVariation | 0.678 | 0.000 | 0.679 | |
| wrapper.rgcca | 0.057 | 0.000 | 0.056 | |
| wrapper.sgcca | 0.118 | 0.000 | 0.118 | |