| Back to Multiple platform build/check report for BioC 3.14 |
|
This page was generated on 2022-04-13 12:06:44 -0400 (Wed, 13 Apr 2022).
| Hostname | OS | Arch (*) | R version | Installed pkgs |
|---|---|---|---|---|
| nebbiolo2 | Linux (Ubuntu 20.04.4 LTS) | x86_64 | 4.1.3 (2022-03-10) -- "One Push-Up" | 4324 |
| tokay2 | Windows Server 2012 R2 Standard | x64 | 4.1.3 (2022-03-10) -- "One Push-Up" | 4077 |
| machv2 | macOS 10.14.6 Mojave | x86_64 | 4.1.3 (2022-03-10) -- "One Push-Up" | 4137 |
| Click on any hostname to see more info about the system (e.g. compilers) (*) as reported by 'uname -p', except on Windows and Mac OS X | ||||
|
To the developers/maintainers of the imageHTS package: - Please allow up to 24 hours (and sometimes 48 hours) for your latest push to git@git.bioconductor.org:packages/imageHTS.git to reflect on this report. See How and When does the builder pull? When will my changes propagate? for more information. - Make sure to use the following settings in order to reproduce any error or warning you see on this page. |
| Package 921/2083 | Hostname | OS / Arch | INSTALL | BUILD | CHECK | BUILD BIN | ||||||||
| imageHTS 1.44.1 (landing page) Joseph Barry
| nebbiolo2 | Linux (Ubuntu 20.04.4 LTS) / x86_64 | OK | OK | ERROR | |||||||||
| tokay2 | Windows Server 2012 R2 Standard / x64 | OK | OK | ERROR | OK | |||||||||
| machv2 | macOS 10.14.6 Mojave / x86_64 | OK | OK | ERROR | OK | |||||||||
| Package: imageHTS |
| Version: 1.44.1 |
| Command: rm -rf imageHTS.buildbin-libdir && mkdir imageHTS.buildbin-libdir && C:\Users\biocbuild\bbs-3.14-bioc\R\bin\R.exe --arch i386 CMD INSTALL --no-multiarch --build --library=imageHTS.buildbin-libdir imageHTS_1.44.1.tar.gz |
| StartedAt: 2022-04-13 06:26:28 -0400 (Wed, 13 Apr 2022) |
| EndedAt: 2022-04-13 06:27:05 -0400 (Wed, 13 Apr 2022) |
| EllapsedTime: 36.7 seconds |
| RetCode: 0 |
| Status: OK |
| PackageFile: imageHTS_1.44.1.zip |
| PackageFileSize: 2.593 MiB |
##############################################################################
##############################################################################
###
### Running command:
###
### rm -rf imageHTS.buildbin-libdir && mkdir imageHTS.buildbin-libdir && C:\Users\biocbuild\bbs-3.14-bioc\R\bin\R.exe --arch i386 CMD INSTALL --no-multiarch --build --library=imageHTS.buildbin-libdir imageHTS_1.44.1.tar.gz
###
##############################################################################
##############################################################################
* installing *source* package 'imageHTS' ...
** using staged installation
** R
** inst
** byte-compile and prepare package for lazy loading
** help
*** installing help indices
converting help for package 'imageHTS'
finding HTML links ... done
collectCellFeatures html
countObjects html
extractFeatures html
fileHTS html
getImageConf html
getUnames html
getWellFeatures html
finding level-2 HTML links ... done
highlightSegmentation html
imageHTS html
installCellPicker html
makeCellHTS html
parseDCF html
parseImageConf html
popCellPicker html
prw2uname html
readLearnTS html
segmentATH html
segmentWells html
segmentYeastBF html
summarizeWells html
zprime html
** building package indices
** installing vignettes
** testing if installed package can be loaded from temporary location
** testing if installed package can be loaded from final location
** testing if installed package keeps a record of temporary installation path
* MD5 sums
packaged installation of 'imageHTS' as imageHTS_1.44.1.zip
* DONE (imageHTS)