| Back to Multiple platform build/check report for BioC 3.14 |
|
This page was generated on 2022-04-13 12:06:31 -0400 (Wed, 13 Apr 2022).
| Hostname | OS | Arch (*) | R version | Installed pkgs |
|---|---|---|---|---|
| nebbiolo2 | Linux (Ubuntu 20.04.4 LTS) | x86_64 | 4.1.3 (2022-03-10) -- "One Push-Up" | 4324 |
| tokay2 | Windows Server 2012 R2 Standard | x64 | 4.1.3 (2022-03-10) -- "One Push-Up" | 4077 |
| machv2 | macOS 10.14.6 Mojave | x86_64 | 4.1.3 (2022-03-10) -- "One Push-Up" | 4137 |
| Click on any hostname to see more info about the system (e.g. compilers) (*) as reported by 'uname -p', except on Windows and Mac OS X | ||||
|
To the developers/maintainers of the exomePeak2 package: - Please allow up to 24 hours (and sometimes 48 hours) for your latest push to git@git.bioconductor.org:packages/exomePeak2.git to reflect on this report. See How and When does the builder pull? When will my changes propagate? for more information. - Make sure to use the following settings in order to reproduce any error or warning you see on this page. |
| Package 614/2083 | Hostname | OS / Arch | INSTALL | BUILD | CHECK | BUILD BIN | ||||||||
| exomePeak2 1.6.1 (landing page) Zhen Wei
| nebbiolo2 | Linux (Ubuntu 20.04.4 LTS) / x86_64 | OK | OK | WARNINGS | |||||||||
| tokay2 | Windows Server 2012 R2 Standard / x64 | OK | OK | WARNINGS | OK | |||||||||
| machv2 | macOS 10.14.6 Mojave / x86_64 | OK | OK | WARNINGS | OK | |||||||||
| Package: exomePeak2 |
| Version: 1.6.1 |
| Command: chmod a+r exomePeak2 -R && C:\Users\biocbuild\bbs-3.14-bioc\R\bin\R.exe CMD build --keep-empty-dirs --no-resave-data exomePeak2 |
| StartedAt: 2022-04-12 10:23:38 -0400 (Tue, 12 Apr 2022) |
| EndedAt: 2022-04-12 10:28:23 -0400 (Tue, 12 Apr 2022) |
| EllapsedTime: 284.6 seconds |
| RetCode: 0 |
| Status: OK |
| PackageFile: exomePeak2_1.6.1.tar.gz |
| PackageFileSize: 2.384 MiB |
##############################################################################
##############################################################################
###
### Running command:
###
### chmod a+r exomePeak2 -R && C:\Users\biocbuild\bbs-3.14-bioc\R\bin\R.exe CMD build --keep-empty-dirs --no-resave-data exomePeak2
###
##############################################################################
##############################################################################
* checking for file 'exomePeak2/DESCRIPTION' ... OK
* preparing 'exomePeak2':
* checking DESCRIPTION meta-information ... OK
* installing the package to build vignettes
* creating vignettes ... OK
* checking for LF line-endings in source and make files and shell scripts
* checking for empty or unneeded directories
Omitted 'LazyData' from DESCRIPTION
NB: this package now depends on R (>= 3.5.0)
WARNING: Added dependency on R >= 3.5.0 because serialized objects in
serialize/load version 3 cannot be read in older versions of R.
File(s) containing such objects:
'exomePeak2/inst/extdata/mod_annot.rds'
'exomePeak2/inst/extdata/sep_ex_dm.rds'
'exomePeak2/inst/extdata/sep_ex_mod.rds'
* building 'exomePeak2_1.6.1.tar.gz'