| Back to Multiple platform build/check report for BioC 3.14 | 
 | 
This page was generated on 2022-04-13 12:06:31 -0400 (Wed, 13 Apr 2022).
| Hostname | OS | Arch (*) | R version | Installed pkgs | 
|---|---|---|---|---|
| nebbiolo2 | Linux (Ubuntu 20.04.4 LTS) | x86_64 | 4.1.3 (2022-03-10) -- "One Push-Up" | 4324 | 
| tokay2 | Windows Server 2012 R2 Standard | x64 | 4.1.3 (2022-03-10) -- "One Push-Up" | 4077 | 
| machv2 | macOS 10.14.6 Mojave | x86_64 | 4.1.3 (2022-03-10) -- "One Push-Up" | 4137 | 
| Click on any hostname to see more info about the system (e.g. compilers) (*) as reported by 'uname -p', except on Windows and Mac OS X | ||||
| To the developers/maintainers of the exomePeak2 package: - Please allow up to 24 hours (and sometimes 48 hours) for your latest push to git@git.bioconductor.org:packages/exomePeak2.git to reflect on this report. See How and When does the builder pull? When will my changes propagate? for more information. - Make sure to use the following settings in order to reproduce any error or warning you see on this page. | 
| Package 614/2083 | Hostname | OS / Arch | INSTALL | BUILD | CHECK | BUILD BIN | ||||||||
| exomePeak2 1.6.1  (landing page) Zhen Wei 
 | nebbiolo2 | Linux (Ubuntu 20.04.4 LTS) / x86_64 | OK | OK | WARNINGS |  | ||||||||
| tokay2 | Windows Server 2012 R2 Standard / x64 | OK | OK | WARNINGS | OK |  | ||||||||
| machv2 | macOS 10.14.6 Mojave / x86_64 | OK | OK | WARNINGS | OK |  | ||||||||
| Package: exomePeak2 | 
| Version: 1.6.1 | 
| Command: rm -rf exomePeak2.buildbin-libdir && mkdir exomePeak2.buildbin-libdir && C:\Users\biocbuild\bbs-3.14-bioc\R\bin\R.exe CMD INSTALL --merge-multiarch --build --library=exomePeak2.buildbin-libdir exomePeak2_1.6.1.tar.gz | 
| StartedAt: 2022-04-13 06:11:21 -0400 (Wed, 13 Apr 2022) | 
| EndedAt: 2022-04-13 06:12:53 -0400 (Wed, 13 Apr 2022) | 
| EllapsedTime: 92.0 seconds | 
| RetCode: 0 | 
| Status: OK | 
| PackageFile: exomePeak2_1.6.1.zip | 
| PackageFileSize: 2.681 MiB | 
##############################################################################
##############################################################################
###
### Running command:
###
###   rm -rf exomePeak2.buildbin-libdir && mkdir exomePeak2.buildbin-libdir && C:\Users\biocbuild\bbs-3.14-bioc\R\bin\R.exe CMD INSTALL --merge-multiarch --build --library=exomePeak2.buildbin-libdir exomePeak2_1.6.1.tar.gz
###
##############################################################################
##############################################################################
install for i386
* installing *source* package 'exomePeak2' ...
** using staged installation
** R
** inst
** byte-compile and prepare package for lazy loading
** help
*** installing help indices
  converting help for package 'exomePeak2'
    finding HTML links ... done
    GC_content_over_grl                     html  
    GCsizeFactors-methods                   html  
    GLM_inference                           html  
    LibraryType-methods                     html  
    MeripBamFileList-class                  html  
    finding level-2 HTML links ... done
    Parameter-methods                       html  
    Results-methods                         html  
    SummarizedExomePeak-class               html  
    call_peaks_with_GLM                     html  
    convertTxDb                             html  
    ctest                                   html  
    decision_deseq2                         html  
    disj_background                         html  
    estimateSeqDepth-methods                html  
    exomePeak2                              html  
    exomePeak2Results-methods               html  
    exomePeakCalling-methods                html  
    exome_bins_from_txdb                    html  
    exonPlot                                html  
    exons_by_unique_gene                    html  
    exportResults-methods                   html  
    flank_on_exons                          html  
    glmDM-methods                           html  
    glmM-methods                            html  
    mclust_bg                               html  
    normalizeGC-methods                     html  
    plotExonLength-methods                  html  
    plotLfcGC-methods                       html  
    plotReadsGC-methods                     html  
    plotSizeFactors-methods                 html  
    quiet                                   html  
    reads_five_POS                          html  
    reads_five_POS_rev                      html  
    reduce_peaks                            html  
    remove_introns                          html  
    replace_bg                              html  
    scanMeripBAM                            html  
    sort_sep                                html  
    split_by_name                           html  
** building package indices
** installing vignettes
** testing if installed package can be loaded from temporary location
** testing if installed package can be loaded from final location
** testing if installed package keeps a record of temporary installation path
install for x64
* installing *source* package 'exomePeak2' ...
** testing if installed package can be loaded
* MD5 sums
packaged installation of 'exomePeak2' as exomePeak2_1.6.1.zip
* DONE (exomePeak2)