| Back to Multiple platform build/check report for BioC 3.14 | 
  | 
This page was generated on 2022-04-13 12:06:26 -0400 (Wed, 13 Apr 2022).
| Hostname | OS | Arch (*) | R version | Installed pkgs | 
|---|---|---|---|---|
| nebbiolo2 | Linux (Ubuntu 20.04.4 LTS) | x86_64 | 4.1.3 (2022-03-10) -- "One Push-Up" | 4324 | 
| tokay2 | Windows Server 2012 R2 Standard | x64 | 4.1.3 (2022-03-10) -- "One Push-Up" | 4077 | 
| machv2 | macOS 10.14.6 Mojave | x86_64 | 4.1.3 (2022-03-10) -- "One Push-Up" | 4137 | 
| Click on any hostname to see more info about the system (e.g. compilers) (*) as reported by 'uname -p', except on Windows and Mac OS X | ||||
| 
To the developers/maintainers of the deepSNV package: - Please allow up to 24 hours (and sometimes 48 hours) for your latest push to git@git.bioconductor.org:packages/deepSNV.git to reflect on this report. See How and When does the builder pull? When will my changes propagate? for more information. - Make sure to use the following settings in order to reproduce any error or warning you see on this page.  | 
| Package 471/2083 | Hostname | OS / Arch | INSTALL | BUILD | CHECK | BUILD BIN | ||||||||
| deepSNV 1.40.0  (landing page) Moritz Gerstung 
  | nebbiolo2 | Linux (Ubuntu 20.04.4 LTS) / x86_64 | OK | OK | OK | |||||||||
| tokay2 | Windows Server 2012 R2 Standard / x64 | OK | OK | OK | OK | |||||||||
| machv2 | macOS 10.14.6 Mojave / x86_64 | OK | OK | OK | OK | |||||||||
| Package: deepSNV | 
| Version: 1.40.0 | 
| Command: rm -rf deepSNV.buildbin-libdir && mkdir deepSNV.buildbin-libdir && C:\Users\biocbuild\bbs-3.14-bioc\R\bin\R.exe CMD INSTALL --merge-multiarch --build --library=deepSNV.buildbin-libdir deepSNV_1.40.0.tar.gz | 
| StartedAt: 2022-04-13 06:01:13 -0400 (Wed, 13 Apr 2022) | 
| EndedAt: 2022-04-13 06:02:57 -0400 (Wed, 13 Apr 2022) | 
| EllapsedTime: 103.9 seconds | 
| RetCode: 0 | 
| Status: OK | 
| PackageFile: deepSNV_1.40.0.zip | 
| PackageFileSize: 5.262 MiB | 
##############################################################################
##############################################################################
###
### Running command:
###
###   rm -rf deepSNV.buildbin-libdir && mkdir deepSNV.buildbin-libdir && C:\Users\biocbuild\bbs-3.14-bioc\R\bin\R.exe CMD INSTALL --merge-multiarch --build --library=deepSNV.buildbin-libdir deepSNV_1.40.0.tar.gz
###
##############################################################################
##############################################################################
install for i386
* installing *source* package 'deepSNV' ...
** using staged installation
** libs
"C:/rtools40/mingw32/bin/"g++ -std=gnu++11  -I"C:/Users/BIOCBU~1/BBS-3~1.14-/R/include" -DNDEBUG -D_FILE_OFFSET_BITS=64 -I'C:/Users/biocbuild/bbs-3.14-bioc/R/library/Rhtslib/include'   -I"C:/extsoft/include"     -O2 -Wall  -mfpmath=sse -msse2 -mstackrealign  -c bam2R.cpp -o bam2R.o
bam2R.cpp: In function 'int bam2R(char**, char**, int*, int*, int*, int*, int*, int*, int*, int*, int*, int*, int*, int*)':
bam2R.cpp:97:13: warning: unused variable 'iter' [-Wunused-variable]
  hts_itr_t *iter = NULL;
             ^~~~
bam2R.cpp:100:6: warning: unused variable 'c' [-Wunused-variable]
  int c = 0;
      ^
"C:/rtools40/mingw32/bin/"gcc  -I"C:/Users/BIOCBU~1/BBS-3~1.14-/R/include" -DNDEBUG -D_FILE_OFFSET_BITS=64 -I'C:/Users/biocbuild/bbs-3.14-bioc/R/library/Rhtslib/include'   -I"C:/extsoft/include"     -O2 -Wall  -std=gnu99 -mfpmath=sse -msse2 -mstackrealign  -c betabinom.c -o betabinom.o
betabinom.c: In function 'pbb':
betabinom.c:27:9: warning: unused variable 'log' [-Wunused-variable]
  int i, log=0;
         ^~~
C:/rtools40/mingw32/bin/g++ -std=gnu++11 -shared -s -static-libgcc -o deepSNV.dll tmp.def bam2R.o betabinom.o C:/Users/biocbuild/bbs-3.14-bioc/R/library/Rhtslib/usrlib/i386/libhts.a -LC:/extsoft/lib/i386 -lcurl -lrtmp -lssl -lssh2 -lcrypto -lgdi32 -lz -lws2_32 -lwldap32 -lwinmm -lidn -LC:/extsoft/lib/i386 -LC:/extsoft/lib -LC:/Users/BIOCBU~1/BBS-3~1.14-/R/bin/i386 -lR
installing to C:/Users/biocbuild/bbs-3.14-bioc/meat/deepSNV.buildbin-libdir/00LOCK-deepSNV/00new/deepSNV/libs/i386
** R
** data
** inst
** byte-compile and prepare package for lazy loading
** help
*** installing help indices
  converting help for package 'deepSNV'
    finding HTML links ... done
    Extract-methods                         html  
    RCC                                     html  
    RF                                      html  
    bam2R                                   html  
    betabinLRT                              html  
    bf2Vcf                                  html  
    finding level-2 HTML links ... done
    consensusSequence-methods               html  
    control-methods                         html  
    coordinates-methods                     html  
    counts                                  html  
    dbetabinom                              html  
    deepSNV-class                           html  
    deepSNV-methods                         html  
    deepSNV-package                         html  
    estimateDirichlet-methods               html  
    estimateDispersion-methods              html  
    estimateRho                             html  
    loadAllData                             html  
    makePrior                               html  
    manhattanPlot                           html  
    mcChunk                                 html  
    normalize-methods                       html  
    p.combine                               html  
    p.val-methods                           html  
    pbetabinom                              html  
    phiX                                    html  
    pi                                      html  
    plot.deepSNV                            html  
    qvals2Vcf                               html  
    repeatMask-methods                      html  
    shearwater                              html  
    show-deepSNV-method                     html  
    summary-methods                         html  
    test-methods                            html  
    trueSNVs                                html  
** building package indices
** installing vignettes
** testing if installed package can be loaded from temporary location
** testing if installed package can be loaded from final location
** testing if installed package keeps a record of temporary installation path
install for x64
* installing *source* package 'deepSNV' ...
** libs
"C:/rtools40/mingw64/bin/"g++ -std=gnu++11  -I"C:/Users/BIOCBU~1/BBS-3~1.14-/R/include" -DNDEBUG -D_FILE_OFFSET_BITS=64 -I'C:/Users/biocbuild/bbs-3.14-bioc/R/library/Rhtslib/include'   -I"C:/extsoft/include"     -O2 -Wall  -mfpmath=sse -msse2 -mstackrealign  -c bam2R.cpp -o bam2R.o
bam2R.cpp: In function 'int bam2R(char**, char**, int*, int*, int*, int*, int*, int*, int*, int*, int*, int*, int*, int*)':
bam2R.cpp:97:13: warning: unused variable 'iter' [-Wunused-variable]
  hts_itr_t *iter = NULL;
             ^~~~
bam2R.cpp:100:6: warning: unused variable 'c' [-Wunused-variable]
  int c = 0;
      ^
"C:/rtools40/mingw64/bin/"gcc  -I"C:/Users/BIOCBU~1/BBS-3~1.14-/R/include" -DNDEBUG -D_FILE_OFFSET_BITS=64 -I'C:/Users/biocbuild/bbs-3.14-bioc/R/library/Rhtslib/include'   -I"C:/extsoft/include"     -O2 -Wall  -std=gnu99 -mfpmath=sse -msse2 -mstackrealign  -c betabinom.c -o betabinom.o
betabinom.c: In function 'pbb':
betabinom.c:27:9: warning: unused variable 'log' [-Wunused-variable]
  int i, log=0;
         ^~~
C:/rtools40/mingw64/bin/g++ -std=gnu++11 -shared -s -static-libgcc -o deepSNV.dll tmp.def bam2R.o betabinom.o C:/Users/biocbuild/bbs-3.14-bioc/R/library/Rhtslib/usrlib/x64/libhts.a -LC:/extsoft/lib/x64 -lcurl -lrtmp -lssl -lssh2 -lcrypto -lgdi32 -lz -lws2_32 -lwldap32 -lwinmm -LC:/extsoft/lib/x64 -LC:/extsoft/lib -LC:/Users/BIOCBU~1/BBS-3~1.14-/R/bin/x64 -lR
installing to C:/Users/biocbuild/bbs-3.14-bioc/meat/deepSNV.buildbin-libdir/deepSNV/libs/x64
** testing if installed package can be loaded
* MD5 sums
packaged installation of 'deepSNV' as deepSNV_1.40.0.zip
* DONE (deepSNV)