| Back to Multiple platform build/check report for BioC 3.14 |
|
This page was generated on 2022-04-13 12:07:53 -0400 (Wed, 13 Apr 2022).
| Hostname | OS | Arch (*) | R version | Installed pkgs |
|---|---|---|---|---|
| nebbiolo2 | Linux (Ubuntu 20.04.4 LTS) | x86_64 | 4.1.3 (2022-03-10) -- "One Push-Up" | 4324 |
| tokay2 | Windows Server 2012 R2 Standard | x64 | 4.1.3 (2022-03-10) -- "One Push-Up" | 4077 |
| machv2 | macOS 10.14.6 Mojave | x86_64 | 4.1.3 (2022-03-10) -- "One Push-Up" | 4137 |
| Click on any hostname to see more info about the system (e.g. compilers) (*) as reported by 'uname -p', except on Windows and Mac OS X | ||||
|
To the developers/maintainers of the deepSNV package: - Please allow up to 24 hours (and sometimes 48 hours) for your latest push to git@git.bioconductor.org:packages/deepSNV.git to reflect on this report. See How and When does the builder pull? When will my changes propagate? for more information. - Make sure to use the following settings in order to reproduce any error or warning you see on this page. |
| Package 471/2083 | Hostname | OS / Arch | INSTALL | BUILD | CHECK | BUILD BIN | ||||||||
| deepSNV 1.40.0 (landing page) Moritz Gerstung
| nebbiolo2 | Linux (Ubuntu 20.04.4 LTS) / x86_64 | OK | OK | OK | |||||||||
| tokay2 | Windows Server 2012 R2 Standard / x64 | OK | OK | OK | OK | |||||||||
| machv2 | macOS 10.14.6 Mojave / x86_64 | OK | OK | OK | OK | |||||||||
| Package: deepSNV |
| Version: 1.40.0 |
| Command: /Library/Frameworks/R.framework/Resources/bin/R CMD check --install=check:deepSNV.install-out.txt --library=/Library/Frameworks/R.framework/Resources/library --no-vignettes --timings deepSNV_1.40.0.tar.gz |
| StartedAt: 2022-04-12 12:21:20 -0400 (Tue, 12 Apr 2022) |
| EndedAt: 2022-04-12 12:28:50 -0400 (Tue, 12 Apr 2022) |
| EllapsedTime: 450.3 seconds |
| RetCode: 0 |
| Status: OK |
| CheckDir: deepSNV.Rcheck |
| Warnings: 0 |
##############################################################################
##############################################################################
###
### Running command:
###
### /Library/Frameworks/R.framework/Resources/bin/R CMD check --install=check:deepSNV.install-out.txt --library=/Library/Frameworks/R.framework/Resources/library --no-vignettes --timings deepSNV_1.40.0.tar.gz
###
##############################################################################
##############################################################################
* using log directory ‘/Users/biocbuild/bbs-3.14-bioc/meat/deepSNV.Rcheck’
* using R version 4.1.3 (2022-03-10)
* using platform: x86_64-apple-darwin17.0 (64-bit)
* using session charset: UTF-8
* using option ‘--no-vignettes’
* checking for file ‘deepSNV/DESCRIPTION’ ... OK
* checking extension type ... Package
* this is package ‘deepSNV’ version ‘1.40.0’
* checking package namespace information ... OK
* checking package dependencies ... NOTE
Depends: includes the non-default packages:
'parallel', 'IRanges', 'GenomicRanges', 'SummarizedExperiment',
'Biostrings', 'VGAM', 'VariantAnnotation'
Adding so many packages to the search path is excessive and importing
selectively is preferable.
* checking if this is a source package ... OK
* checking if there is a namespace ... OK
* checking for hidden files and directories ... OK
* checking for portable file names ... OK
* checking for sufficient/correct file permissions ... OK
* checking whether package ‘deepSNV’ can be installed ... OK
* checking installed package size ... OK
* checking package directory ... OK
* checking ‘build’ directory ... OK
* checking DESCRIPTION meta-information ... NOTE
Malformed Title field: should not end in a period.
Versioned 'LinkingTo' value for ‘Rhtslib’ is only usable in R >= 3.0.2
* checking top-level files ... OK
* checking for left-over files ... OK
* checking index information ... OK
* checking package subdirectories ... OK
* checking R files for non-ASCII characters ... OK
* checking R files for syntax errors ... OK
* checking whether the package can be loaded ... OK
* checking whether the package can be loaded with stated dependencies ... OK
* checking whether the package can be unloaded cleanly ... OK
* checking whether the namespace can be loaded with stated dependencies ... OK
* checking whether the namespace can be unloaded cleanly ... OK
* checking dependencies in R code ... NOTE
Packages in Depends field not imported from:
‘GenomicRanges’ ‘SummarizedExperiment’ ‘VariantAnnotation’ ‘parallel’
These packages need to be imported from (in the NAMESPACE file)
for when this namespace is loaded but not attached.
There are ::: calls to the package's namespace in its code. A package
almost never needs to use ::: for its own objects:
‘estimateRho’ ‘logbb’
* checking S3 generic/method consistency ... OK
* checking replacement functions ... OK
* checking foreign function calls ... OK
* checking R code for possible problems ... NOTE
.deepSNVsingle: no visible global function definition for ‘pchisq’
.estimateDispersion: no visible global function definition for
‘optimize’
.significantSNV: no visible global function definition for ‘p.adjust’
.significantSNV: no visible global function definition for ‘VCF’
.significantSNV: no visible global function definition for ‘GRanges’
.significantSNV: no visible global function definition for ‘IRanges’
.significantSNV: no visible global function definition for ‘DataFrame’
.significantSNV: no visible global function definition for ‘SimpleList’
.significantSNV: no visible global function definition for
‘scanVcfHeader’
.significantSNV: no visible global function definition for ‘metadata’
.significantSNV: no visible global function definition for ‘metadata<-’
bbb: no visible global function definition for ‘na.omit’
betabinLRT: no visible global function definition for ‘pchisq’
betabinLRT: no visible global function definition for ‘p.adjust’
bf2Vcf: no visible global function definition for ‘VCF’
bf2Vcf: no visible global function definition for ‘GRanges’
bf2Vcf: no visible global function definition for ‘IRanges’
bf2Vcf: no visible global function definition for ‘DataFrame’
bf2Vcf: no visible global function definition for ‘scanVcfHeader’
bf2Vcf: no visible global function definition for ‘SimpleList’
bf2Vcf: no visible global function definition for ‘metadata’
bf2Vcf: no visible global function definition for ‘metadata<-’
bf2Vcf: no visible global function definition for ‘meta’
bf2Vcf: no visible global function definition for ‘meta<-’
loadAllData: no visible global function definition for ‘mclapply’
makePrior: no visible global function definition for ‘info’
manhattanPlot: no visible global function definition for ‘legend’
mcChunk: no visible global function definition for ‘mclapply’
mutID: no visible global function definition for ‘seqnames’
p.combine: no visible global function definition for ‘pgamma’
plot.deepSNV: no visible global function definition for ‘legend’
plot.deepSNV: no visible global function definition for ‘par’
plot.deepSNV: no visible global function definition for ‘abline’
qvals2Vcf: no visible global function definition for ‘VCF’
qvals2Vcf: no visible global function definition for ‘GRanges’
qvals2Vcf: no visible global function definition for ‘IRanges’
qvals2Vcf: no visible global function definition for ‘DataFrame’
qvals2Vcf: no visible global function definition for ‘scanVcfHeader’
qvals2Vcf: no visible global function definition for ‘SimpleList’
qvals2Vcf: no visible global function definition for ‘metadata’
qvals2Vcf: no visible global function definition for ‘metadata<-’
qvals2Vcf: no visible global function definition for ‘meta’
qvals2Vcf: no visible global function definition for ‘meta<-’
PCRTest,matrix-matrix: no visible global function definition for
‘pnorm’
estimateDirichlet,matrix: no visible binding for global variable
‘dirichlet’
estimateDirichlet,matrix: no visible global function definition for
‘coefficients’
normalize,matrix-matrix : <anonymous>: no visible global function
definition for ‘loess’
overDispersion,matrix-matrix: no visible global function definition for
‘optimize’
overDispersion,matrix-matrix : <anonymous>: no visible global function
definition for ‘na.omit’
Undefined global functions or variables:
DataFrame GRanges IRanges SimpleList VCF abline coefficients
dirichlet info legend loess mclapply meta meta<- metadata metadata<-
na.omit optimize p.adjust par pchisq pgamma pnorm scanVcfHeader
seqnames
Consider adding
importFrom("graphics", "abline", "legend", "par")
importFrom("stats", "coefficients", "loess", "na.omit", "optimize",
"p.adjust", "pchisq", "pgamma", "pnorm")
to your NAMESPACE file.
* checking Rd files ... OK
* checking Rd metadata ... OK
* checking Rd cross-references ... OK
* checking for missing documentation entries ... OK
* checking for code/documentation mismatches ... OK
* checking Rd \usage sections ... OK
* checking Rd contents ... OK
* checking for unstated dependencies in examples ... OK
* checking contents of ‘data’ directory ... OK
* checking data for non-ASCII characters ... OK
* checking data for ASCII and uncompressed saves ... OK
* checking line endings in C/C++/Fortran sources/headers ... OK
* checking line endings in Makefiles ... OK
* checking compilation flags in Makevars ... OK
* checking for GNU extensions in Makefiles ... NOTE
GNU make is a SystemRequirements.
* checking for portable use of $(BLAS_LIBS) and $(LAPACK_LIBS) ... OK
* checking use of PKG_*FLAGS in Makefiles ... OK
* checking compiled code ... NOTE
Note: information on .o files is not available
File ‘/Library/Frameworks/R.framework/Versions/4.1/Resources/library/deepSNV/libs/deepSNV.so’:
Found ‘___assert_rtn’, possibly from ‘assert’ (C)
Found ‘___stderrp’, possibly from ‘stderr’ (C)
Found ‘___stdoutp’, possibly from ‘stdout’ (C)
Found ‘_abort’, possibly from ‘abort’ (C)
Found ‘_exit’, possibly from ‘exit’ (C)
Found ‘_printf’, possibly from ‘printf’ (C)
Found ‘_putchar’, possibly from ‘putchar’ (C)
Found ‘_puts’, possibly from ‘printf’ (C), ‘puts’ (C)
Found ‘_srand48’, possibly from ‘srand48’ (C)
Compiled code should not call entry points which might terminate R nor
write to stdout/stderr instead of to the console, nor use Fortran I/O
nor system RNGs. The detected symbols are linked into the code but
might come from libraries and not actually be called.
See ‘Writing portable packages’ in the ‘Writing R Extensions’ manual.
* checking sizes of PDF files under ‘inst/doc’ ... OK
* checking files in ‘vignettes’ ... OK
* checking examples ... OK
Examples with CPU (user + system) or elapsed time > 5s
user system elapsed
RCC 7.881 0.422 8.32
* checking for unstated dependencies in vignettes ... OK
* checking package vignettes in ‘inst/doc’ ... OK
* checking running R code from vignettes ... SKIPPED
* checking re-building of vignette outputs ... SKIPPED
* checking PDF version of manual ... OK
* DONE
Status: 6 NOTEs
See
‘/Users/biocbuild/bbs-3.14-bioc/meat/deepSNV.Rcheck/00check.log’
for details.
deepSNV.Rcheck/00install.out
##############################################################################
##############################################################################
###
### Running command:
###
### /Library/Frameworks/R.framework/Resources/bin/R CMD INSTALL deepSNV
###
##############################################################################
##############################################################################
* installing to library ‘/Library/Frameworks/R.framework/Versions/4.1/Resources/library’
* installing *source* package ‘deepSNV’ ...
** using staged installation
** libs
clang++ -mmacosx-version-min=10.13 -std=gnu++14 -I"/Library/Frameworks/R.framework/Resources/include" -DNDEBUG -D_FILE_OFFSET_BITS=64 -I'/Library/Frameworks/R.framework/Versions/4.1/Resources/library/Rhtslib/include' -I/usr/local/include -fPIC -Wall -g -O2 -c bam2R.cpp -o bam2R.o
bam2R.cpp:97:13: warning: unused variable 'iter' [-Wunused-variable]
hts_itr_t *iter = NULL;
^
bam2R.cpp:100:6: warning: unused variable 'c' [-Wunused-variable]
int c = 0;
^
2 warnings generated.
clang -mmacosx-version-min=10.13 -I"/Library/Frameworks/R.framework/Resources/include" -DNDEBUG -D_FILE_OFFSET_BITS=64 -I'/Library/Frameworks/R.framework/Versions/4.1/Resources/library/Rhtslib/include' -I/usr/local/include -fPIC -Wall -g -O2 -c betabinom.c -o betabinom.o
betabinom.c:27:9: warning: unused variable 'log' [-Wunused-variable]
int i, log=0;
^
1 warning generated.
clang++ -mmacosx-version-min=10.13 -std=gnu++14 -dynamiclib -Wl,-headerpad_max_install_names -undefined dynamic_lookup -single_module -multiply_defined suppress -L/Library/Frameworks/R.framework/Resources/lib -L/usr/local/lib -o deepSNV.so bam2R.o betabinom.o /Library/Frameworks/R.framework/Versions/4.1/Resources/library/Rhtslib/usrlib/libhts.a -lcurl -F/Library/Frameworks/R.framework/.. -framework R -Wl,-framework -Wl,CoreFoundation
installing to /Library/Frameworks/R.framework/Versions/4.1/Resources/library/00LOCK-deepSNV/00new/deepSNV/libs
** R
** data
** inst
** byte-compile and prepare package for lazy loading
** help
*** installing help indices
** building package indices
** installing vignettes
** testing if installed package can be loaded from temporary location
** checking absolute paths in shared objects and dynamic libraries
** testing if installed package can be loaded from final location
** testing if installed package keeps a record of temporary installation path
* DONE (deepSNV)
deepSNV.Rcheck/deepSNV-Ex.timings
| name | user | system | elapsed | |
| Extract-methods | 0.013 | 0.004 | 0.017 | |
| RCC | 7.881 | 0.422 | 8.320 | |
| RF | 0.007 | 0.005 | 0.011 | |
| bam2R | 0.026 | 0.008 | 0.035 | |
| betabinLRT | 0 | 0 | 0 | |
| consensusSequence-methods | 0.030 | 0.004 | 0.033 | |
| control-methods | 0.005 | 0.004 | 0.009 | |
| coordinates-methods | 0.007 | 0.004 | 0.011 | |
| counts | 0.024 | 0.002 | 0.026 | |
| deepSNV-class | 1.880 | 0.042 | 1.930 | |
| deepSNV-methods | 0.477 | 0.024 | 0.503 | |
| deepSNV-package | 0.380 | 0.022 | 0.403 | |
| estimateDirichlet-methods | 2.991 | 0.197 | 3.197 | |
| estimateDispersion-methods | 4.394 | 0.189 | 4.592 | |
| makePrior | 0 | 0 | 0 | |
| manhattanPlot | 1.750 | 0.027 | 1.779 | |
| normalize-methods | 2.848 | 0.098 | 2.953 | |
| p.combine | 0.837 | 0.041 | 0.881 | |
| p.val-methods | 0.004 | 0.004 | 0.007 | |
| phiX | 3.282 | 0.108 | 3.410 | |
| pi | 0.633 | 0.010 | 0.646 | |
| plot.deepSNV | 0.222 | 0.023 | 0.245 | |
| repeatMask-methods | 1.752 | 0.112 | 1.870 | |
| shearwater | 1.313 | 0.111 | 1.429 | |
| show-deepSNV-method | 0.303 | 0.046 | 0.350 | |
| summary-methods | 0.359 | 0.025 | 0.419 | |
| test-methods | 0.006 | 0.004 | 0.010 | |
| trueSNVs | 0.026 | 0.007 | 0.034 | |