| Back to Multiple platform build/check report for BioC 3.14 |
|
This page was generated on 2022-04-13 12:05:09 -0400 (Wed, 13 Apr 2022).
| Hostname | OS | Arch (*) | R version | Installed pkgs |
|---|---|---|---|---|
| nebbiolo2 | Linux (Ubuntu 20.04.4 LTS) | x86_64 | 4.1.3 (2022-03-10) -- "One Push-Up" | 4324 |
| tokay2 | Windows Server 2012 R2 Standard | x64 | 4.1.3 (2022-03-10) -- "One Push-Up" | 4077 |
| machv2 | macOS 10.14.6 Mojave | x86_64 | 4.1.3 (2022-03-10) -- "One Push-Up" | 4137 |
| Click on any hostname to see more info about the system (e.g. compilers) (*) as reported by 'uname -p', except on Windows and Mac OS X | ||||
|
To the developers/maintainers of the cellbaseR package: - Please allow up to 24 hours (and sometimes 48 hours) for your latest push to git@git.bioconductor.org:packages/cellbaseR.git to reflect on this report. See How and When does the builder pull? When will my changes propagate? for more information. - Make sure to use the following settings in order to reproduce any error or warning you see on this page. |
| Package 264/2083 | Hostname | OS / Arch | INSTALL | BUILD | CHECK | BUILD BIN | ||||||||
| cellbaseR 1.18.0 (landing page) Mohammed OE Abdallah
| nebbiolo2 | Linux (Ubuntu 20.04.4 LTS) / x86_64 | OK | OK | OK | |||||||||
| tokay2 | Windows Server 2012 R2 Standard / x64 | OK | OK | OK | OK | |||||||||
| machv2 | macOS 10.14.6 Mojave / x86_64 | OK | OK | OK | OK | |||||||||
| Package: cellbaseR |
| Version: 1.18.0 |
| Command: /home/biocbuild/bbs-3.14-bioc/R/bin/R CMD check --install=check:cellbaseR.install-out.txt --library=/home/biocbuild/bbs-3.14-bioc/R/library --no-vignettes --timings cellbaseR_1.18.0.tar.gz |
| StartedAt: 2022-04-12 06:43:53 -0400 (Tue, 12 Apr 2022) |
| EndedAt: 2022-04-12 06:45:52 -0400 (Tue, 12 Apr 2022) |
| EllapsedTime: 119.6 seconds |
| RetCode: 0 |
| Status: OK |
| CheckDir: cellbaseR.Rcheck |
| Warnings: 0 |
##############################################################################
##############################################################################
###
### Running command:
###
### /home/biocbuild/bbs-3.14-bioc/R/bin/R CMD check --install=check:cellbaseR.install-out.txt --library=/home/biocbuild/bbs-3.14-bioc/R/library --no-vignettes --timings cellbaseR_1.18.0.tar.gz
###
##############################################################################
##############################################################################
* using log directory ‘/home/biocbuild/bbs-3.14-bioc/meat/cellbaseR.Rcheck’
* using R version 4.1.3 (2022-03-10)
* using platform: x86_64-pc-linux-gnu (64-bit)
* using session charset: UTF-8
* using option ‘--no-vignettes’
* checking for file ‘cellbaseR/DESCRIPTION’ ... OK
* checking extension type ... Package
* this is package ‘cellbaseR’ version ‘1.18.0’
* checking package namespace information ... OK
* checking package dependencies ... OK
* checking if this is a source package ... OK
* checking if there is a namespace ... OK
* checking for hidden files and directories ... OK
* checking for portable file names ... OK
* checking for sufficient/correct file permissions ... OK
* checking whether package ‘cellbaseR’ can be installed ... OK
* checking installed package size ... OK
* checking package directory ... OK
* checking ‘build’ directory ... OK
* checking DESCRIPTION meta-information ... OK
* checking top-level files ... OK
* checking for left-over files ... OK
* checking index information ... OK
* checking package subdirectories ... OK
* checking R files for non-ASCII characters ... OK
* checking R files for syntax errors ... OK
* checking whether the package can be loaded ... OK
* checking whether the package can be loaded with stated dependencies ... OK
* checking whether the package can be unloaded cleanly ... OK
* checking whether the namespace can be loaded with stated dependencies ... OK
* checking whether the namespace can be unloaded cleanly ... OK
* checking dependencies in R code ... OK
* checking S3 generic/method consistency ... OK
* checking replacement functions ... OK
* checking foreign function calls ... OK
* checking R code for possible problems ... OK
* checking Rd files ... OK
* checking Rd metadata ... OK
* checking Rd cross-references ... OK
* checking for missing documentation entries ... OK
* checking for code/documentation mismatches ... OK
* checking Rd \usage sections ... OK
* checking Rd contents ... OK
* checking for unstated dependencies in examples ... OK
* checking files in ‘vignettes’ ... OK
* checking examples ... OK
Examples with CPU (user + system) or elapsed time > 5s
user system elapsed
AnnotateVcf-CellBaseR-method 3.499 0.875 10.965
* checking for unstated dependencies in vignettes ... OK
* checking package vignettes in ‘inst/doc’ ... OK
* checking running R code from vignettes ... SKIPPED
* checking re-building of vignette outputs ... SKIPPED
* checking PDF version of manual ... OK
* DONE
Status: OK
cellbaseR.Rcheck/00install.out
############################################################################## ############################################################################## ### ### Running command: ### ### /home/biocbuild/bbs-3.14-bioc/R/bin/R CMD INSTALL cellbaseR ### ############################################################################## ############################################################################## * installing to library ‘/home/biocbuild/bbs-3.14-bioc/R/library’ * installing *source* package ‘cellbaseR’ ... ** using staged installation ** R ** inst ** byte-compile and prepare package for lazy loading ** help *** installing help indices ** building package indices ** installing vignettes ** testing if installed package can be loaded from temporary location ** testing if installed package can be loaded from final location ** testing if installed package keeps a record of temporary installation path * DONE (cellbaseR)
cellbaseR.Rcheck/cellbaseR-Ex.timings
| name | user | system | elapsed | |
| AnnotateVcf-CellBaseR-method | 3.499 | 0.875 | 10.965 | |
| CellBaseParam | 0.002 | 0.000 | 0.002 | |
| CellBaseR | 0.039 | 0.008 | 0.350 | |
| createGeneModel | 0.162 | 0.008 | 1.002 | |
| getCaddScores | 0.051 | 0.004 | 0.563 | |
| getCellBase-CellBaseR-method | 0.062 | 0.024 | 0.606 | |
| getCellBaseResourceHelp | 0.161 | 0.020 | 0.807 | |
| getChromosomeInfo-CellBaseR-method | 0.053 | 0.004 | 0.573 | |
| getClinical-CellBaseR-method | 0.557 | 0.064 | 1.724 | |
| getClinicalByRegion | 0.922 | 0.132 | 3.404 | |
| getConservationByRegion | 0.093 | 0.013 | 0.999 | |
| getGene-CellBaseR-method | 0.104 | 0.000 | 0.949 | |
| getGeneInfo | 0.072 | 0.000 | 0.586 | |
| getMeta-CellBaseR-method | 0.054 | 0.008 | 0.564 | |
| getProtein-CellBaseR-method | 0.129 | 0.016 | 0.760 | |
| getProteinInfo | 0.113 | 0.000 | 0.728 | |
| getRegion-CellBaseR-method | 0.113 | 0.003 | 1.040 | |
| getRegulatoryByRegion | 0.158 | 0.016 | 1.148 | |
| getSnp-CellBaseR-method | 0.066 | 0.007 | 0.584 | |
| getSnpByGene | 0.069 | 0.008 | 0.615 | |
| getTf-CellBaseR-method | 0.052 | 0.004 | 2.857 | |
| getTfbsByRegion | 0.074 | 0.003 | 0.620 | |
| getTranscript-CellBaseR-method | 0.047 | 0.008 | 0.575 | |
| getTranscriptByGene | 0.058 | 0.001 | 0.570 | |
| getVariant-CellBaseR-method | 0.116 | 0.004 | 0.950 | |
| getVariantAnnotation | 0.144 | 0.024 | 0.975 | |
| getXref-CellBaseR-method | 0.058 | 0.004 | 0.575 | |