| Back to Multiple platform build/check report for BioC 3.14 |
|
This page was generated on 2022-04-13 12:07:45 -0400 (Wed, 13 Apr 2022).
| Hostname | OS | Arch (*) | R version | Installed pkgs |
|---|---|---|---|---|
| nebbiolo2 | Linux (Ubuntu 20.04.4 LTS) | x86_64 | 4.1.3 (2022-03-10) -- "One Push-Up" | 4324 |
| tokay2 | Windows Server 2012 R2 Standard | x64 | 4.1.3 (2022-03-10) -- "One Push-Up" | 4077 |
| machv2 | macOS 10.14.6 Mojave | x86_64 | 4.1.3 (2022-03-10) -- "One Push-Up" | 4137 |
| Click on any hostname to see more info about the system (e.g. compilers) (*) as reported by 'uname -p', except on Windows and Mac OS X | ||||
|
To the developers/maintainers of the cellbaseR package: - Please allow up to 24 hours (and sometimes 48 hours) for your latest push to git@git.bioconductor.org:packages/cellbaseR.git to reflect on this report. See How and When does the builder pull? When will my changes propagate? for more information. - Make sure to use the following settings in order to reproduce any error or warning you see on this page. |
| Package 264/2083 | Hostname | OS / Arch | INSTALL | BUILD | CHECK | BUILD BIN | ||||||||
| cellbaseR 1.18.0 (landing page) Mohammed OE Abdallah
| nebbiolo2 | Linux (Ubuntu 20.04.4 LTS) / x86_64 | OK | OK | OK | |||||||||
| tokay2 | Windows Server 2012 R2 Standard / x64 | OK | OK | OK | OK | |||||||||
| machv2 | macOS 10.14.6 Mojave / x86_64 | OK | OK | OK | OK | |||||||||
| Package: cellbaseR |
| Version: 1.18.0 |
| Command: /Library/Frameworks/R.framework/Resources/bin/R CMD check --install=check:cellbaseR.install-out.txt --library=/Library/Frameworks/R.framework/Resources/library --no-vignettes --timings cellbaseR_1.18.0.tar.gz |
| StartedAt: 2022-04-12 11:17:10 -0400 (Tue, 12 Apr 2022) |
| EndedAt: 2022-04-12 11:20:17 -0400 (Tue, 12 Apr 2022) |
| EllapsedTime: 186.5 seconds |
| RetCode: 0 |
| Status: OK |
| CheckDir: cellbaseR.Rcheck |
| Warnings: 0 |
##############################################################################
##############################################################################
###
### Running command:
###
### /Library/Frameworks/R.framework/Resources/bin/R CMD check --install=check:cellbaseR.install-out.txt --library=/Library/Frameworks/R.framework/Resources/library --no-vignettes --timings cellbaseR_1.18.0.tar.gz
###
##############################################################################
##############################################################################
* using log directory ‘/Users/biocbuild/bbs-3.14-bioc/meat/cellbaseR.Rcheck’
* using R version 4.1.3 (2022-03-10)
* using platform: x86_64-apple-darwin17.0 (64-bit)
* using session charset: UTF-8
* using option ‘--no-vignettes’
* checking for file ‘cellbaseR/DESCRIPTION’ ... OK
* checking extension type ... Package
* this is package ‘cellbaseR’ version ‘1.18.0’
* checking package namespace information ... OK
* checking package dependencies ... OK
* checking if this is a source package ... OK
* checking if there is a namespace ... OK
* checking for hidden files and directories ... OK
* checking for portable file names ... OK
* checking for sufficient/correct file permissions ... OK
* checking whether package ‘cellbaseR’ can be installed ... OK
* checking installed package size ... OK
* checking package directory ... OK
* checking ‘build’ directory ... OK
* checking DESCRIPTION meta-information ... OK
* checking top-level files ... OK
* checking for left-over files ... OK
* checking index information ... OK
* checking package subdirectories ... OK
* checking R files for non-ASCII characters ... OK
* checking R files for syntax errors ... OK
* checking whether the package can be loaded ... OK
* checking whether the package can be loaded with stated dependencies ... OK
* checking whether the package can be unloaded cleanly ... OK
* checking whether the namespace can be loaded with stated dependencies ... OK
* checking whether the namespace can be unloaded cleanly ... OK
* checking dependencies in R code ... OK
* checking S3 generic/method consistency ... OK
* checking replacement functions ... OK
* checking foreign function calls ... OK
* checking R code for possible problems ... OK
* checking Rd files ... OK
* checking Rd metadata ... OK
* checking Rd cross-references ... OK
* checking for missing documentation entries ... OK
* checking for code/documentation mismatches ... OK
* checking Rd \usage sections ... OK
* checking Rd contents ... OK
* checking for unstated dependencies in examples ... OK
* checking files in ‘vignettes’ ... OK
* checking examples ... OK
Examples with CPU (user + system) or elapsed time > 5s
user system elapsed
AnnotateVcf-CellBaseR-method 6.15 1.442 8.791
* checking for unstated dependencies in vignettes ... OK
* checking package vignettes in ‘inst/doc’ ... OK
* checking running R code from vignettes ... SKIPPED
* checking re-building of vignette outputs ... SKIPPED
* checking PDF version of manual ... OK
* DONE
Status: OK
cellbaseR.Rcheck/00install.out
############################################################################## ############################################################################## ### ### Running command: ### ### /Library/Frameworks/R.framework/Resources/bin/R CMD INSTALL cellbaseR ### ############################################################################## ############################################################################## * installing to library ‘/Library/Frameworks/R.framework/Versions/4.1/Resources/library’ * installing *source* package ‘cellbaseR’ ... ** using staged installation ** R ** inst ** byte-compile and prepare package for lazy loading ** help *** installing help indices ** building package indices ** installing vignettes ** testing if installed package can be loaded from temporary location ** testing if installed package can be loaded from final location ** testing if installed package keeps a record of temporary installation path * DONE (cellbaseR)
cellbaseR.Rcheck/cellbaseR-Ex.timings
| name | user | system | elapsed | |
| AnnotateVcf-CellBaseR-method | 6.150 | 1.442 | 8.791 | |
| CellBaseParam | 0.004 | 0.002 | 0.005 | |
| CellBaseR | 0.049 | 0.007 | 0.393 | |
| createGeneModel | 0.187 | 0.021 | 0.944 | |
| getCaddScores | 0.060 | 0.006 | 0.625 | |
| getCellBase-CellBaseR-method | 0.066 | 0.006 | 0.641 | |
| getCellBaseResourceHelp | 0.303 | 0.031 | 1.017 | |
| getChromosomeInfo-CellBaseR-method | 0.062 | 0.006 | 0.630 | |
| getClinical-CellBaseR-method | 0.944 | 0.081 | 1.952 | |
| getClinicalByRegion | 1.875 | 0.062 | 3.777 | |
| getConservationByRegion | 0.097 | 0.004 | 1.003 | |
| getGene-CellBaseR-method | 0.161 | 0.008 | 0.984 | |
| getGeneInfo | 0.072 | 0.004 | 0.764 | |
| getMeta-CellBaseR-method | 0.079 | 0.003 | 0.689 | |
| getProtein-CellBaseR-method | 0.169 | 0.006 | 0.872 | |
| getProteinInfo | 0.145 | 0.004 | 0.919 | |
| getRegion-CellBaseR-method | 0.171 | 0.004 | 1.129 | |
| getRegulatoryByRegion | 0.199 | 0.005 | 1.264 | |
| getSnp-CellBaseR-method | 0.074 | 0.002 | 0.654 | |
| getSnpByGene | 0.091 | 0.002 | 0.667 | |
| getTf-CellBaseR-method | 0.066 | 0.002 | 2.956 | |
| getTfbsByRegion | 0.070 | 0.002 | 0.679 | |
| getTranscript-CellBaseR-method | 0.067 | 0.003 | 0.643 | |
| getTranscriptByGene | 0.068 | 0.002 | 0.656 | |
| getVariant-CellBaseR-method | 0.181 | 0.004 | 0.958 | |
| getVariantAnnotation | 0.197 | 0.004 | 0.975 | |
| getXref-CellBaseR-method | 0.066 | 0.003 | 0.627 | |