| Back to Multiple platform build/check report for BioC 3.14 |
|
This page was generated on 2022-04-13 12:07:12 -0400 (Wed, 13 Apr 2022).
| Hostname | OS | Arch (*) | R version | Installed pkgs |
|---|---|---|---|---|
| nebbiolo2 | Linux (Ubuntu 20.04.4 LTS) | x86_64 | 4.1.3 (2022-03-10) -- "One Push-Up" | 4324 |
| tokay2 | Windows Server 2012 R2 Standard | x64 | 4.1.3 (2022-03-10) -- "One Push-Up" | 4077 |
| machv2 | macOS 10.14.6 Mojave | x86_64 | 4.1.3 (2022-03-10) -- "One Push-Up" | 4137 |
| Click on any hostname to see more info about the system (e.g. compilers) (*) as reported by 'uname -p', except on Windows and Mac OS X | ||||
|
To the developers/maintainers of the RedeR package: - Please allow up to 24 hours (and sometimes 48 hours) for your latest push to git@git.bioconductor.org:packages/RedeR.git to reflect on this report. See How and When does the builder pull? When will my changes propagate? for more information. - Make sure to use the following settings in order to reproduce any error or warning you see on this page. |
| Package 1569/2083 | Hostname | OS / Arch | INSTALL | BUILD | CHECK | BUILD BIN | ||||||||
| RedeR 1.42.0 (landing page) Mauro Castro
| nebbiolo2 | Linux (Ubuntu 20.04.4 LTS) / x86_64 | OK | OK | OK | |||||||||
| tokay2 | Windows Server 2012 R2 Standard / x64 | OK | OK | OK | OK | |||||||||
| machv2 | macOS 10.14.6 Mojave / x86_64 | OK | OK | OK | OK | |||||||||
| Package: RedeR |
| Version: 1.42.0 |
| Command: C:\cygwin\bin\curl.exe -O http://155.52.207.166/BBS/3.14/bioc/src/contrib/RedeR_1.42.0.tar.gz && rm -rf RedeR.buildbin-libdir && mkdir RedeR.buildbin-libdir && C:\Users\biocbuild\bbs-3.14-bioc\R\bin\R.exe CMD INSTALL --merge-multiarch --build --library=RedeR.buildbin-libdir RedeR_1.42.0.tar.gz && C:\Users\biocbuild\bbs-3.14-bioc\R\bin\R.exe CMD INSTALL RedeR_1.42.0.zip && rm RedeR_1.42.0.tar.gz RedeR_1.42.0.zip |
| StartedAt: 2022-04-12 04:17:10 -0400 (Tue, 12 Apr 2022) |
| EndedAt: 2022-04-12 04:19:56 -0400 (Tue, 12 Apr 2022) |
| EllapsedTime: 165.8 seconds |
| RetCode: 0 |
| Status: OK |
##############################################################################
##############################################################################
###
### Running command:
###
### C:\cygwin\bin\curl.exe -O http://155.52.207.166/BBS/3.14/bioc/src/contrib/RedeR_1.42.0.tar.gz && rm -rf RedeR.buildbin-libdir && mkdir RedeR.buildbin-libdir && C:\Users\biocbuild\bbs-3.14-bioc\R\bin\R.exe CMD INSTALL --merge-multiarch --build --library=RedeR.buildbin-libdir RedeR_1.42.0.tar.gz && C:\Users\biocbuild\bbs-3.14-bioc\R\bin\R.exe CMD INSTALL RedeR_1.42.0.zip && rm RedeR_1.42.0.tar.gz RedeR_1.42.0.zip
###
##############################################################################
##############################################################################
% Total % Received % Xferd Average Speed Time Time Time Current
Dload Upload Total Spent Left Speed
0 0 0 0 0 0 0 0 --:--:-- --:--:-- --:--:-- 0
12 8430k 12 1069k 0 0 2027k 0 0:00:04 --:--:-- 0:00:04 2028k
58 8430k 58 4922k 0 0 3227k 0 0:00:02 0:00:01 0:00:01 3227k
100 8430k 100 8430k 0 0 3716k 0 0:00:02 0:00:02 --:--:-- 3718k
install for i386
* installing *source* package 'RedeR' ...
** using staged installation
** R
** data
** inst
** byte-compile and prepare package for lazy loading
** help
*** installing help indices
converting help for package 'RedeR'
finding HTML links ... done
RedPort-class html
RedPort html
RedeR-package html
RedeR.data html
addEdgeBetweenContainers html
addEdges html
addGraph html
addLegend html
addNodes html
addSeries html
addSubgraph html
addSubgraph.list html
att html
calld html
cea html
deSelectEdges html
deSelectGraph html
deSelectNodes html
deleteEdges html
deleteNodes html
deleteSelectedEdges html
deleteSelectedNodes html
duplicateGraph html
exitd html
getContainerComponets html
getEdgeIDs html
getEdges html
getGraph html
getNodeIDs html
getNodes html
getSourceEdgeIDs html
getTargetEdgeIDs html
gtoy.rm html
isDynamicsActive html
mergeNodes html
mergeOutEdges html
nestNodes html
nesthc html
ping html
rederpost html
relax html
resetd html
selectAllEdges html
selectAllNodes html
selectEdges html
selectGraph html
selectNodes html
setArrowDirection html
subg html
updateContainerSize html
updateGraph html
version html
** building package indices
** installing vignettes
** testing if installed package can be loaded from temporary location
** testing if installed package can be loaded from final location
** testing if installed package keeps a record of temporary installation path
install for x64
* installing *source* package 'RedeR' ...
** testing if installed package can be loaded
* MD5 sums
packaged installation of 'RedeR' as RedeR_1.42.0.zip
* DONE (RedeR)
* installing to library 'C:/Users/biocbuild/bbs-3.14-bioc/R/library'
package 'RedeR' successfully unpacked and MD5 sums checked