| Back to Multiple platform build/check report for BioC 3.14 |
|
This page was generated on 2022-04-13 12:08:38 -0400 (Wed, 13 Apr 2022).
| Hostname | OS | Arch (*) | R version | Installed pkgs |
|---|---|---|---|---|
| nebbiolo2 | Linux (Ubuntu 20.04.4 LTS) | x86_64 | 4.1.3 (2022-03-10) -- "One Push-Up" | 4324 |
| tokay2 | Windows Server 2012 R2 Standard | x64 | 4.1.3 (2022-03-10) -- "One Push-Up" | 4077 |
| machv2 | macOS 10.14.6 Mojave | x86_64 | 4.1.3 (2022-03-10) -- "One Push-Up" | 4137 |
| Click on any hostname to see more info about the system (e.g. compilers) (*) as reported by 'uname -p', except on Windows and Mac OS X | ||||
|
To the developers/maintainers of the RedeR package: - Please allow up to 24 hours (and sometimes 48 hours) for your latest push to git@git.bioconductor.org:packages/RedeR.git to reflect on this report. See How and When does the builder pull? When will my changes propagate? for more information. - Make sure to use the following settings in order to reproduce any error or warning you see on this page. |
| Package 1569/2083 | Hostname | OS / Arch | INSTALL | BUILD | CHECK | BUILD BIN | ||||||||
| RedeR 1.42.0 (landing page) Mauro Castro
| nebbiolo2 | Linux (Ubuntu 20.04.4 LTS) / x86_64 | OK | OK | OK | |||||||||
| tokay2 | Windows Server 2012 R2 Standard / x64 | OK | OK | OK | OK | |||||||||
| machv2 | macOS 10.14.6 Mojave / x86_64 | OK | OK | OK | OK | |||||||||
| Package: RedeR |
| Version: 1.42.0 |
| Command: /Library/Frameworks/R.framework/Resources/bin/R CMD check --install=check:RedeR.install-out.txt --library=/Library/Frameworks/R.framework/Resources/library --no-vignettes --timings RedeR_1.42.0.tar.gz |
| StartedAt: 2022-04-12 17:26:05 -0400 (Tue, 12 Apr 2022) |
| EndedAt: 2022-04-12 17:27:12 -0400 (Tue, 12 Apr 2022) |
| EllapsedTime: 66.5 seconds |
| RetCode: 0 |
| Status: OK |
| CheckDir: RedeR.Rcheck |
| Warnings: 0 |
##############################################################################
##############################################################################
###
### Running command:
###
### /Library/Frameworks/R.framework/Resources/bin/R CMD check --install=check:RedeR.install-out.txt --library=/Library/Frameworks/R.framework/Resources/library --no-vignettes --timings RedeR_1.42.0.tar.gz
###
##############################################################################
##############################################################################
* using log directory ‘/Users/biocbuild/bbs-3.14-bioc/meat/RedeR.Rcheck’
* using R version 4.1.3 (2022-03-10)
* using platform: x86_64-apple-darwin17.0 (64-bit)
* using session charset: UTF-8
* using option ‘--no-vignettes’
* checking for file ‘RedeR/DESCRIPTION’ ... OK
* checking extension type ... Package
* this is package ‘RedeR’ version ‘1.42.0’
* checking package namespace information ... OK
* checking package dependencies ... OK
* checking if this is a source package ... OK
* checking if there is a namespace ... OK
* checking for hidden files and directories ... OK
* checking for portable file names ... OK
* checking for sufficient/correct file permissions ... OK
* checking whether package ‘RedeR’ can be installed ... OK
* checking installed package size ... NOTE
installed size is 8.2Mb
sub-directories of 1Mb or more:
data 3.3Mb
java 4.3Mb
* checking package directory ... OK
* checking ‘build’ directory ... OK
* checking DESCRIPTION meta-information ... OK
* checking top-level files ... OK
* checking for left-over files ... OK
* checking index information ... OK
* checking package subdirectories ... OK
* checking R files for non-ASCII characters ... OK
* checking R files for syntax errors ... OK
* checking whether the package can be loaded ... OK
* checking whether the package can be loaded with stated dependencies ... OK
* checking whether the package can be unloaded cleanly ... OK
* checking whether the namespace can be loaded with stated dependencies ... OK
* checking whether the namespace can be unloaded cleanly ... OK
* checking dependencies in R code ... OK
* checking S3 generic/method consistency ... OK
* checking replacement functions ... OK
* checking foreign function calls ... OK
* checking R code for possible problems ... OK
* checking Rd files ... OK
* checking Rd metadata ... OK
* checking Rd cross-references ... OK
* checking for missing documentation entries ... OK
* checking for code/documentation mismatches ... OK
* checking Rd \usage sections ... OK
* checking Rd contents ... OK
* checking for unstated dependencies in examples ... OK
* checking contents of ‘data’ directory ... OK
* checking data for non-ASCII characters ... OK
* checking data for ASCII and uncompressed saves ... OK
* checking files in ‘vignettes’ ... OK
* checking examples ... OK
* checking for unstated dependencies in vignettes ... OK
* checking package vignettes in ‘inst/doc’ ... OK
* checking running R code from vignettes ... SKIPPED
* checking re-building of vignette outputs ... SKIPPED
* checking PDF version of manual ... OK
* DONE
Status: 1 NOTE
See
‘/Users/biocbuild/bbs-3.14-bioc/meat/RedeR.Rcheck/00check.log’
for details.
RedeR.Rcheck/00install.out
############################################################################## ############################################################################## ### ### Running command: ### ### /Library/Frameworks/R.framework/Resources/bin/R CMD INSTALL RedeR ### ############################################################################## ############################################################################## * installing to library ‘/Library/Frameworks/R.framework/Versions/4.1/Resources/library’ * installing *source* package ‘RedeR’ ... ** using staged installation ** R ** data ** inst ** byte-compile and prepare package for lazy loading ** help *** installing help indices ** building package indices ** installing vignettes ** testing if installed package can be loaded from temporary location ** testing if installed package can be loaded from final location ** testing if installed package keeps a record of temporary installation path * DONE (RedeR)
RedeR.Rcheck/RedeR-Ex.timings
| name | user | system | elapsed | |
| RedPort-class | 0.005 | 0.000 | 0.006 | |
| RedPort | 0.001 | 0.000 | 0.001 | |
| RedeR.data | 0.547 | 0.022 | 0.570 | |
| addEdgeBetweenContainers | 0.019 | 0.002 | 0.021 | |
| addEdges | 0.013 | 0.001 | 0.014 | |
| addGraph | 0.014 | 0.002 | 0.016 | |
| addLegend | 0.013 | 0.002 | 0.015 | |
| addNodes | 0.012 | 0.001 | 0.013 | |
| addSeries | 0.015 | 0.001 | 0.016 | |
| addSubgraph | 0.008 | 0.001 | 0.010 | |
| addSubgraph.list | 0.014 | 0.001 | 0.015 | |
| att | 0.063 | 0.005 | 0.069 | |
| calld | 0.000 | 0.001 | 0.001 | |
| cea | 0.033 | 0.003 | 0.035 | |
| deSelectEdges | 0.013 | 0.001 | 0.014 | |
| deSelectGraph | 0.013 | 0.001 | 0.014 | |
| deSelectNodes | 0.016 | 0.001 | 0.016 | |
| deleteEdges | 0.015 | 0.001 | 0.016 | |
| deleteNodes | 0.013 | 0.001 | 0.013 | |
| deleteSelectedEdges | 0.009 | 0.001 | 0.010 | |
| deleteSelectedNodes | 0.013 | 0.001 | 0.014 | |
| duplicateGraph | 0.013 | 0.001 | 0.014 | |
| exitd | 0.001 | 0.000 | 0.000 | |
| getContainerComponets | 0.015 | 0.001 | 0.016 | |
| getEdgeIDs | 0.015 | 0.001 | 0.016 | |
| getEdges | 0.015 | 0.001 | 0.017 | |
| getGraph | 0.012 | 0.001 | 0.012 | |
| getNodeIDs | 0.009 | 0.001 | 0.010 | |
| getNodes | 0.011 | 0.001 | 0.012 | |
| getSourceEdgeIDs | 0.011 | 0.001 | 0.012 | |
| getTargetEdgeIDs | 0.017 | 0.001 | 0.017 | |
| gtoy.rm | 0.000 | 0.001 | 0.000 | |
| isDynamicsActive | 0.001 | 0.000 | 0.000 | |
| mergeNodes | 0.009 | 0.001 | 0.010 | |
| mergeOutEdges | 0.012 | 0.001 | 0.013 | |
| nestNodes | 0.014 | 0.001 | 0.015 | |
| nesthc | 1.813 | 0.076 | 1.890 | |
| ping | 0.002 | 0.000 | 0.002 | |
| relax | 0.014 | 0.001 | 0.015 | |
| resetd | 0 | 0 | 0 | |
| selectAllEdges | 0.014 | 0.001 | 0.017 | |
| selectAllNodes | 0.015 | 0.002 | 0.017 | |
| selectEdges | 0.011 | 0.001 | 0.012 | |
| selectGraph | 0.016 | 0.002 | 0.019 | |
| selectNodes | 0.014 | 0.002 | 0.015 | |
| setArrowDirection | 0.015 | 0.002 | 0.017 | |
| subg | 0.054 | 0.004 | 0.058 | |
| updateContainerSize | 0.014 | 0.002 | 0.015 | |
| updateGraph | 0.010 | 0.001 | 0.013 | |
| version | 0.001 | 0.000 | 0.001 | |