| Back to Multiple platform build/check report for BioC 3.14 |
|
This page was generated on 2022-04-13 12:07:10 -0400 (Wed, 13 Apr 2022).
| Hostname | OS | Arch (*) | R version | Installed pkgs |
|---|---|---|---|---|
| nebbiolo2 | Linux (Ubuntu 20.04.4 LTS) | x86_64 | 4.1.3 (2022-03-10) -- "One Push-Up" | 4324 |
| tokay2 | Windows Server 2012 R2 Standard | x64 | 4.1.3 (2022-03-10) -- "One Push-Up" | 4077 |
| machv2 | macOS 10.14.6 Mojave | x86_64 | 4.1.3 (2022-03-10) -- "One Push-Up" | 4137 |
| Click on any hostname to see more info about the system (e.g. compilers) (*) as reported by 'uname -p', except on Windows and Mac OS X | ||||
|
To the developers/maintainers of the RadioGx package: - Please allow up to 24 hours (and sometimes 48 hours) for your latest push to git@git.bioconductor.org:packages/RadioGx.git to reflect on this report. See How and When does the builder pull? When will my changes propagate? for more information. - Make sure to use the following settings in order to reproduce any error or warning you see on this page. |
| Package 1519/2083 | Hostname | OS / Arch | INSTALL | BUILD | CHECK | BUILD BIN | ||||||||
| RadioGx 1.4.0 (landing page) Benjamin Haibe-Kains
| nebbiolo2 | Linux (Ubuntu 20.04.4 LTS) / x86_64 | OK | OK | OK | |||||||||
| tokay2 | Windows Server 2012 R2 Standard / x64 | OK | OK | OK | OK | |||||||||
| machv2 | macOS 10.14.6 Mojave / x86_64 | OK | OK | OK | OK | |||||||||
| Package: RadioGx |
| Version: 1.4.0 |
| Command: rm -rf RadioGx.buildbin-libdir && mkdir RadioGx.buildbin-libdir && C:\Users\biocbuild\bbs-3.14-bioc\R\bin\R.exe CMD INSTALL --merge-multiarch --build --library=RadioGx.buildbin-libdir RadioGx_1.4.0.tar.gz |
| StartedAt: 2022-04-13 06:54:28 -0400 (Wed, 13 Apr 2022) |
| EndedAt: 2022-04-13 06:55:27 -0400 (Wed, 13 Apr 2022) |
| EllapsedTime: 59.3 seconds |
| RetCode: 0 |
| Status: OK |
| PackageFile: RadioGx_1.4.0.zip |
| PackageFileSize: 4.443 MiB |
##############################################################################
##############################################################################
###
### Running command:
###
### rm -rf RadioGx.buildbin-libdir && mkdir RadioGx.buildbin-libdir && C:\Users\biocbuild\bbs-3.14-bioc\R\bin\R.exe CMD INSTALL --merge-multiarch --build --library=RadioGx.buildbin-libdir RadioGx_1.4.0.tar.gz
###
##############################################################################
##############################################################################
install for i386
* installing *source* package 'RadioGx' ...
** using staged installation
** R
** data
*** moving datasets to lazyload DB
** inst
** byte-compile and prepare package for lazy loading
** help
*** installing help indices
converting help for package 'RadioGx'
finding HTML links ... done
RadioSet-class html
RadioSet html
RadioSig html
availableRSets html
checkRSetStructure html
clevelandSmall html
computeAUC html
computeD10 html
computeSF2 html
dim-RadioSet-method html
doseResponseCurve html
downloadRSet html
linearQuadraticModel html
mDataNames-RadioSet-method html
plotCurve html
radSensitivitySig html
radiationInfo-set html
radiationInfo html
radiationTypes-set html
radiationTypes html
show-RadioSet-method html
show-RadioSig-method html
showSigAnnot-RadioSig-method html
sub-RadioSet-ANY-ANY-ANY-method html
subsetTo-RadioSet-method html
summarizeMolecularProfiles-RadioSet-method
html
summarizeSensitivityProfiles-RadioSet-method
html
** building package indices
** installing vignettes
** testing if installed package can be loaded from temporary location
** testing if installed package can be loaded from final location
** testing if installed package keeps a record of temporary installation path
install for x64
* installing *source* package 'RadioGx' ...
** testing if installed package can be loaded
* MD5 sums
packaged installation of 'RadioGx' as RadioGx_1.4.0.zip
* DONE (RadioGx)