| Back to Multiple platform build/check report for BioC 3.14 | 
 | 
This page was generated on 2022-04-13 12:06:24 -0400 (Wed, 13 Apr 2022).
| Hostname | OS | Arch (*) | R version | Installed pkgs | 
|---|---|---|---|---|
| nebbiolo2 | Linux (Ubuntu 20.04.4 LTS) | x86_64 | 4.1.3 (2022-03-10) -- "One Push-Up" | 4324 | 
| tokay2 | Windows Server 2012 R2 Standard | x64 | 4.1.3 (2022-03-10) -- "One Push-Up" | 4077 | 
| machv2 | macOS 10.14.6 Mojave | x86_64 | 4.1.3 (2022-03-10) -- "One Push-Up" | 4137 | 
| Click on any hostname to see more info about the system (e.g. compilers) (*) as reported by 'uname -p', except on Windows and Mac OS X | ||||
| To the developers/maintainers of the CrispRVariants package: - Please allow up to 24 hours (and sometimes 48 hours) for your latest push to git@git.bioconductor.org:packages/CrispRVariants.git to reflect on this report. See How and When does the builder pull? When will my changes propagate? for more information. - Make sure to use the following settings in order to reproduce any error or warning you see on this page. | 
| Package 418/2083 | Hostname | OS / Arch | INSTALL | BUILD | CHECK | BUILD BIN | ||||||||
| CrispRVariants 1.22.0  (landing page) Helen Lindsay 
 | nebbiolo2 | Linux (Ubuntu 20.04.4 LTS) / x86_64 | OK | OK | WARNINGS |  | ||||||||
| tokay2 | Windows Server 2012 R2 Standard / x64 | OK | OK | WARNINGS | OK |  | ||||||||
| machv2 | macOS 10.14.6 Mojave / x86_64 | OK | OK | WARNINGS | OK |  | ||||||||
| Package: CrispRVariants | 
| Version: 1.22.0 | 
| Command: rm -rf CrispRVariants.buildbin-libdir && mkdir CrispRVariants.buildbin-libdir && C:\Users\biocbuild\bbs-3.14-bioc\R\bin\R.exe CMD INSTALL --merge-multiarch --build --library=CrispRVariants.buildbin-libdir CrispRVariants_1.22.0.tar.gz | 
| StartedAt: 2022-04-13 05:57:39 -0400 (Wed, 13 Apr 2022) | 
| EndedAt: 2022-04-13 05:58:45 -0400 (Wed, 13 Apr 2022) | 
| EllapsedTime: 65.9 seconds | 
| RetCode: 0 | 
| Status: OK | 
| PackageFile: CrispRVariants_1.22.0.zip | 
| PackageFileSize: 1.898 MiB | 
##############################################################################
##############################################################################
###
### Running command:
###
###   rm -rf CrispRVariants.buildbin-libdir && mkdir CrispRVariants.buildbin-libdir && C:\Users\biocbuild\bbs-3.14-bioc\R\bin\R.exe CMD INSTALL --merge-multiarch --build --library=CrispRVariants.buildbin-libdir CrispRVariants_1.22.0.tar.gz
###
##############################################################################
##############################################################################
install for i386
* installing *source* package 'CrispRVariants' ...
** using staged installation
** R
** data
*** moving datasets to lazyload DB
** inst
** byte-compile and prepare package for lazy loading
** help
*** installing help indices
  converting help for package 'CrispRVariants'
    finding HTML links ... done
    CrisprRun-class                         html  
    CrisprSet-class                         html  
    abifToFastq                             html  
    addClipped                              html  
    addCodonFrame                           html  
    alleleLabelsHelpers                     html  
    alleles                                 html  
    alns                                    html  
    annotateGenePlot                        html  
    arrangePlots                            html  
    barplotAlleleFreqs                      html  
    collapsePairs                           html  
    consensusSeqs                           html  
    dispatchDots                            html  
    excludeFromBam                          html  
    explodeCigarOpCombs                     html  
    findChimeras                            html  
    findSNVs                                html  
    getAxisCoords                           html  
    getChimeras                             html  
    getInsertionsTable                      html  
    gol_clutch1                             html  
    indelCounts                             html  
    indelLabels                             html  
    intersperse                             html  
    makeAlignmentTilePlot                   html  
    mergeChimeras                           html  
    mergeCrisprSets                         html  
    mismatchLabels                          html  
    mutationEfficiency                      html  
    narrowAlignments                        html  
    plotAlignments                          html  
    plotChimeras                            html  
    plotFreqHeatmap                         html  
    plotVariants                            html  
    rcAlns                                  html  
    readTargetBam                           html  
    readsByPCRPrimer                        html  
    readsToTarget                           html  
    refFromAlns                             html  
    reverseCigar                            html  
    rmMultiPCRChimera                       html  
    selectAlnRegionsHelpers                 html  
    selectOps                               html  
    seqsToAln                               html  
    setDNATileColours                       html  
    setMismatchTileColours                  html  
    transformAlnsToLong                     html  
    variantCounts                           html  
    writeFastq                              html  
** building package indices
** installing vignettes
** testing if installed package can be loaded from temporary location
** testing if installed package can be loaded from final location
** testing if installed package keeps a record of temporary installation path
install for x64
* installing *source* package 'CrispRVariants' ...
** testing if installed package can be loaded
* MD5 sums
packaged installation of 'CrispRVariants' as CrispRVariants_1.22.0.zip
* DONE (CrispRVariants)