| Back to Multiple platform build/check report for BioC 3.13 |
|
This page was generated on 2021-10-15 15:06:26 -0400 (Fri, 15 Oct 2021).
|
To the developers/maintainers of the transite package: - Please allow up to 24 hours (and sometimes 48 hours) for your latest push to git@git.bioconductor.org:packages/transite.git to reflect on this report. See How and When does the builder pull? When will my changes propagate? here for more information. - Make sure to use the following settings in order to reproduce any error or warning you see on this page. |
| Package 1948/2041 | Hostname | OS / Arch | INSTALL | BUILD | CHECK | BUILD BIN | ||||||||
| transite 1.10.0 (landing page) Konstantin Krismer
| nebbiolo1 | Linux (Ubuntu 20.04.2 LTS) / x86_64 | OK | OK | OK | |||||||||
| tokay2 | Windows Server 2012 R2 Standard / x64 | OK | OK | OK | OK | |||||||||
| machv2 | macOS 10.14.6 Mojave / x86_64 | OK | OK | OK | OK | |||||||||
| Package: transite |
| Version: 1.10.0 |
| Command: rm -rf transite.buildbin-libdir && mkdir transite.buildbin-libdir && C:\Users\biocbuild\bbs-3.13-bioc\R\bin\R.exe CMD INSTALL --merge-multiarch --build --library=transite.buildbin-libdir transite_1.10.0.tar.gz |
| StartedAt: 2021-10-15 12:15:37 -0400 (Fri, 15 Oct 2021) |
| EndedAt: 2021-10-15 12:17:01 -0400 (Fri, 15 Oct 2021) |
| EllapsedTime: 83.4 seconds |
| RetCode: 0 |
| Status: OK |
| PackageFile: transite_1.10.0.zip |
| PackageFileSize: 1.758 MiB |
##############################################################################
##############################################################################
###
### Running command:
###
### rm -rf transite.buildbin-libdir && mkdir transite.buildbin-libdir && C:\Users\biocbuild\bbs-3.13-bioc\R\bin\R.exe CMD INSTALL --merge-multiarch --build --library=transite.buildbin-libdir transite_1.10.0.tar.gz
###
##############################################################################
##############################################################################
install for i386
* installing *source* package 'transite' ...
** using staged installation
** libs
"C:/rtools40/mingw32/bin/"g++ -std=gnu++11 -I"C:/Users/BIOCBU~1/BBS-3~1.13-/R/include" -DNDEBUG -I'C:/Users/biocbuild/bbs-3.13-bioc/R/library/Rcpp/include' -I"c:/extsoft/include" -O2 -Wall -mfpmath=sse -msse2 -mstackrealign -c RcppExports.cpp -o RcppExports.o
"C:/rtools40/mingw32/bin/"g++ -std=gnu++11 -I"C:/Users/BIOCBU~1/BBS-3~1.13-/R/include" -DNDEBUG -I'C:/Users/biocbuild/bbs-3.13-bioc/R/library/Rcpp/include' -I"c:/extsoft/include" -O2 -Wall -mfpmath=sse -msse2 -mstackrealign -c scoring.cpp -o scoring.o
C:/rtools40/mingw32/bin/g++ -shared -s -static-libgcc -o transite.dll tmp.def RcppExports.o scoring.o -Lc:/extsoft/lib/i386 -Lc:/extsoft/lib -LC:/Users/BIOCBU~1/BBS-3~1.13-/R/bin/i386 -lR
installing to C:/Users/biocbuild/bbs-3.13-bioc/meat/transite.buildbin-libdir/00LOCK-transite/00new/transite/libs/i386
** R
** data
** inst
** byte-compile and prepare package for lazy loading
** help
*** installing help indices
converting help for package 'transite'
finding HTML links ... done
RBPMotif-class html
SpectrumScore-class html
calculate_kmer_enrichment html
calculate_local_consistency html
calculate_motif_enrichment html
calculate_transcript_mc html
check_kmers html
classify_spectrum html
compute_kmer_enrichment html
count_homopolymer_corrected_kmers html
create_kmer_motif html
create_matrix_motif html
draw_volcano_plot html
estimate_significance html
estimate_significance_core html
ge html
generate_iupac_by_kmers html
generate_iupac_by_matrix html
generate_kmers html
generate_kmers_from_iupac html
generate_permuted_enrichments html
geometric_mean html
get_motif_by_id html
get_motif_by_rbp html
get_motifs html
get_motifs_meta_info html
get_ppm html
init_iupac_lookup_table html
kmers_enrichment html
motifs html
p_combine html
run_kmer_spma html
run_kmer_tsma html
run_matrix_spma html
run_matrix_tsma html
score_sequences html
score_spectrum html
score_transcripts html
score_transcripts_single_motif html
set_motifs html
subdivide_data html
toy_motif_matrix html
transite html
** building package indices
** installing vignettes
** testing if installed package can be loaded from temporary location
** testing if installed package can be loaded from final location
** testing if installed package keeps a record of temporary installation path
install for x64
* installing *source* package 'transite' ...
** libs
"C:/rtools40/mingw64/bin/"g++ -std=gnu++11 -I"C:/Users/BIOCBU~1/BBS-3~1.13-/R/include" -DNDEBUG -I'C:/Users/biocbuild/bbs-3.13-bioc/R/library/Rcpp/include' -I"C:/extsoft/include" -O2 -Wall -mfpmath=sse -msse2 -mstackrealign -c RcppExports.cpp -o RcppExports.o
"C:/rtools40/mingw64/bin/"g++ -std=gnu++11 -I"C:/Users/BIOCBU~1/BBS-3~1.13-/R/include" -DNDEBUG -I'C:/Users/biocbuild/bbs-3.13-bioc/R/library/Rcpp/include' -I"C:/extsoft/include" -O2 -Wall -mfpmath=sse -msse2 -mstackrealign -c scoring.cpp -o scoring.o
C:/rtools40/mingw64/bin/g++ -shared -s -static-libgcc -o transite.dll tmp.def RcppExports.o scoring.o -LC:/extsoft/lib/x64 -LC:/extsoft/lib -LC:/Users/BIOCBU~1/BBS-3~1.13-/R/bin/x64 -lR
installing to C:/Users/biocbuild/bbs-3.13-bioc/meat/transite.buildbin-libdir/transite/libs/x64
** testing if installed package can be loaded
* MD5 sums
packaged installation of 'transite' as transite_1.10.0.zip
* DONE (transite)