| Back to Multiple platform build/check report for BioC 3.13 |
|
This page was generated on 2021-10-15 15:06:56 -0400 (Fri, 15 Oct 2021).
|
To the developers/maintainers of the transite package: - Please allow up to 24 hours (and sometimes 48 hours) for your latest push to git@git.bioconductor.org:packages/transite.git to reflect on this report. See How and When does the builder pull? When will my changes propagate? here for more information. - Make sure to use the following settings in order to reproduce any error or warning you see on this page. |
| Package 1948/2041 | Hostname | OS / Arch | INSTALL | BUILD | CHECK | BUILD BIN | ||||||||
| transite 1.10.0 (landing page) Konstantin Krismer
| nebbiolo1 | Linux (Ubuntu 20.04.2 LTS) / x86_64 | OK | OK | OK | |||||||||
| tokay2 | Windows Server 2012 R2 Standard / x64 | OK | OK | OK | OK | |||||||||
| machv2 | macOS 10.14.6 Mojave / x86_64 | OK | OK | OK | OK | |||||||||
| Package: transite |
| Version: 1.10.0 |
| Command: /Library/Frameworks/R.framework/Versions/Current/Resources/bin/R CMD check --install=check:transite.install-out.txt --library=/Library/Frameworks/R.framework/Versions/Current/Resources/library --no-vignettes --timings transite_1.10.0.tar.gz |
| StartedAt: 2021-10-15 00:53:05 -0400 (Fri, 15 Oct 2021) |
| EndedAt: 2021-10-15 01:03:34 -0400 (Fri, 15 Oct 2021) |
| EllapsedTime: 628.8 seconds |
| RetCode: 0 |
| Status: OK |
| CheckDir: transite.Rcheck |
| Warnings: 0 |
##############################################################################
##############################################################################
###
### Running command:
###
### /Library/Frameworks/R.framework/Versions/Current/Resources/bin/R CMD check --install=check:transite.install-out.txt --library=/Library/Frameworks/R.framework/Versions/Current/Resources/library --no-vignettes --timings transite_1.10.0.tar.gz
###
##############################################################################
##############################################################################
* using log directory ‘/Users/biocbuild/bbs-3.13-bioc/meat/transite.Rcheck’
* using R version 4.1.1 (2021-08-10)
* using platform: x86_64-apple-darwin17.0 (64-bit)
* using session charset: UTF-8
* using option ‘--no-vignettes’
* checking for file ‘transite/DESCRIPTION’ ... OK
* this is package ‘transite’ version ‘1.10.0’
* package encoding: UTF-8
* checking package namespace information ... OK
* checking package dependencies ... OK
* checking if this is a source package ... OK
* checking if there is a namespace ... OK
* checking for hidden files and directories ... NOTE
Found the following hidden files and directories:
.git_fetch_output.txt
.git_merge_output.txt
These were most likely included in error. See section ‘Package
structure’ in the ‘Writing R Extensions’ manual.
* checking for portable file names ... OK
* checking for sufficient/correct file permissions ... OK
* checking whether package ‘transite’ can be installed ... OK
* checking installed package size ... OK
* checking package directory ... OK
* checking ‘build’ directory ... OK
* checking DESCRIPTION meta-information ... OK
* checking top-level files ... OK
* checking for left-over files ... OK
* checking index information ... OK
* checking package subdirectories ... OK
* checking R files for non-ASCII characters ... OK
* checking R files for syntax errors ... OK
* checking whether the package can be loaded ... OK
* checking whether the package can be loaded with stated dependencies ... OK
* checking whether the package can be unloaded cleanly ... OK
* checking whether the namespace can be loaded with stated dependencies ... OK
* checking whether the namespace can be unloaded cleanly ... OK
* checking dependencies in R code ... OK
* checking S3 generic/method consistency ... OK
* checking replacement functions ... OK
* checking foreign function calls ... OK
* checking R code for possible problems ... OK
* checking Rd files ... OK
* checking Rd metadata ... OK
* checking Rd cross-references ... OK
* checking for missing documentation entries ... OK
* checking for code/documentation mismatches ... OK
* checking Rd \usage sections ... OK
* checking Rd contents ... OK
* checking for unstated dependencies in examples ... OK
* checking contents of ‘data’ directory ... OK
* checking data for non-ASCII characters ... OK
* checking data for ASCII and uncompressed saves ... OK
* checking line endings in C/C++/Fortran sources/headers ... OK
* checking compiled code ... NOTE
Note: information on .o files is not available
* checking files in ‘vignettes’ ... OK
* checking examples ... OK
Examples with CPU (user + system) or elapsed time > 5s
user system elapsed
run_kmer_tsma 72.042 0.180 94.161
run_kmer_spma 52.454 0.581 53.999
calculate_kmer_enrichment 7.294 0.017 7.314
run_matrix_spma 5.199 0.086 9.335
* checking for unstated dependencies in ‘tests’ ... OK
* checking tests ...
Running ‘testthat.R’
OK
* checking for unstated dependencies in vignettes ... OK
* checking package vignettes in ‘inst/doc’ ... OK
* checking running R code from vignettes ... SKIPPED
* checking re-building of vignette outputs ... SKIPPED
* checking PDF version of manual ... OK
* DONE
Status: 2 NOTEs
See
‘/Users/biocbuild/bbs-3.13-bioc/meat/transite.Rcheck/00check.log’
for details.
transite.Rcheck/00install.out
############################################################################## ############################################################################## ### ### Running command: ### ### /Library/Frameworks/R.framework/Versions/Current/Resources/bin/R CMD INSTALL transite ### ############################################################################## ############################################################################## * installing to library ‘/Library/Frameworks/R.framework/Versions/4.1/Resources/library’ * installing *source* package ‘transite’ ... ** using staged installation ** libs clang++ -mmacosx-version-min=10.13 -std=gnu++11 -I"/Library/Frameworks/R.framework/Resources/include" -DNDEBUG -I'/Library/Frameworks/R.framework/Versions/4.1/Resources/library/Rcpp/include' -I/usr/local/include -fPIC -Wall -g -O2 -c RcppExports.cpp -o RcppExports.o clang++ -mmacosx-version-min=10.13 -std=gnu++11 -I"/Library/Frameworks/R.framework/Resources/include" -DNDEBUG -I'/Library/Frameworks/R.framework/Versions/4.1/Resources/library/Rcpp/include' -I/usr/local/include -fPIC -Wall -g -O2 -c scoring.cpp -o scoring.o clang++ -mmacosx-version-min=10.13 -std=gnu++11 -dynamiclib -Wl,-headerpad_max_install_names -undefined dynamic_lookup -single_module -multiply_defined suppress -L/Library/Frameworks/R.framework/Resources/lib -L/usr/local/lib -o transite.so RcppExports.o scoring.o -F/Library/Frameworks/R.framework/.. -framework R -Wl,-framework -Wl,CoreFoundation installing to /Library/Frameworks/R.framework/Versions/4.1/Resources/library/00LOCK-transite/00new/transite/libs ** R ** data ** inst ** byte-compile and prepare package for lazy loading ** help *** installing help indices ** building package indices ** installing vignettes ** testing if installed package can be loaded from temporary location ** checking absolute paths in shared objects and dynamic libraries ** testing if installed package can be loaded from final location ** testing if installed package keeps a record of temporary installation path * DONE (transite)
transite.Rcheck/tests/testthat.Rout
R version 4.1.1 (2021-08-10) -- "Kick Things"
Copyright (C) 2021 The R Foundation for Statistical Computing
Platform: x86_64-apple-darwin17.0 (64-bit)
R is free software and comes with ABSOLUTELY NO WARRANTY.
You are welcome to redistribute it under certain conditions.
Type 'license()' or 'licence()' for distribution details.
R is a collaborative project with many contributors.
Type 'contributors()' for more information and
'citation()' on how to cite R or R packages in publications.
Type 'demo()' for some demos, 'help()' for on-line help, or
'help.start()' for an HTML browser interface to help.
Type 'q()' to quit R.
> library(testthat)
> library(transite)
>
> test_check("transite")
[ FAIL 0 | WARN 0 | SKIP 0 | PASS 95 ]
>
> proc.time()
user system elapsed
120.002 2.509 304.705
transite.Rcheck/transite-Ex.timings
| name | user | system | elapsed | |
| RBPMotif-class | 0.004 | 0.001 | 0.006 | |
| SpectrumScore-class | 0.002 | 0.001 | 0.002 | |
| calculate_kmer_enrichment | 7.294 | 0.017 | 7.314 | |
| calculate_local_consistency | 0.513 | 0.008 | 0.522 | |
| calculate_motif_enrichment | 1.998 | 0.024 | 2.022 | |
| calculate_transcript_mc | 0.009 | 0.000 | 0.009 | |
| check_kmers | 0.001 | 0.000 | 0.001 | |
| classify_spectrum | 2.958 | 0.100 | 3.059 | |
| compute_kmer_enrichment | 3.701 | 0.043 | 3.807 | |
| create_kmer_motif | 0.003 | 0.001 | 0.004 | |
| create_matrix_motif | 0.003 | 0.000 | 0.004 | |
| draw_volcano_plot | 0.278 | 0.009 | 0.287 | |
| estimate_significance_core | 0.003 | 0.000 | 0.004 | |
| generate_iupac_by_kmers | 0.001 | 0.000 | 0.001 | |
| generate_iupac_by_matrix | 0.004 | 0.000 | 0.004 | |
| generate_kmers | 0.213 | 0.003 | 0.215 | |
| generate_kmers_from_iupac | 0.004 | 0.000 | 0.005 | |
| geometric_mean | 0.000 | 0.000 | 0.001 | |
| get_motif_by_id | 0.006 | 0.001 | 0.007 | |
| get_motif_by_rbp | 0.006 | 0.002 | 0.008 | |
| get_motifs | 0 | 0 | 0 | |
| get_motifs_meta_info | 0.025 | 0.012 | 0.038 | |
| get_ppm | 0.009 | 0.001 | 0.009 | |
| init_iupac_lookup_table | 0.005 | 0.001 | 0.005 | |
| p_combine | 0.001 | 0.000 | 0.001 | |
| run_kmer_spma | 52.454 | 0.581 | 53.999 | |
| run_kmer_tsma | 72.042 | 0.180 | 94.161 | |
| run_matrix_spma | 5.199 | 0.086 | 9.335 | |
| run_matrix_tsma | 0.035 | 0.002 | 0.036 | |
| score_sequences | 0.006 | 0.002 | 0.009 | |
| score_spectrum | 3.993 | 0.026 | 4.021 | |
| score_transcripts | 0.015 | 0.001 | 0.016 | |
| set_motifs | 0.003 | 0.000 | 0.002 | |
| subdivide_data | 0.008 | 0.001 | 0.009 | |