| Back to Multiple platform build/check report for BioC 3.13 |
|
This page was generated on 2021-10-15 15:06:26 -0400 (Fri, 15 Oct 2021).
|
To the developers/maintainers of the tRNAdbImport package: - Please allow up to 24 hours (and sometimes 48 hours) for your latest push to git@git.bioconductor.org:packages/tRNAdbImport.git to reflect on this report. See How and When does the builder pull? When will my changes propagate? here for more information. - Make sure to use the following settings in order to reproduce any error or warning you see on this page. |
| Package 1966/2041 | Hostname | OS / Arch | INSTALL | BUILD | CHECK | BUILD BIN | ||||||||
| tRNAdbImport 1.10.0 (landing page) Felix G.M. Ernst
| nebbiolo1 | Linux (Ubuntu 20.04.2 LTS) / x86_64 | OK | OK | OK | |||||||||
| tokay2 | Windows Server 2012 R2 Standard / x64 | OK | OK | OK | OK | |||||||||
| machv2 | macOS 10.14.6 Mojave / x86_64 | OK | OK | ERROR | OK | |||||||||
| Package: tRNAdbImport |
| Version: 1.10.0 |
| Command: rm -rf tRNAdbImport.buildbin-libdir && mkdir tRNAdbImport.buildbin-libdir && C:\Users\biocbuild\bbs-3.13-bioc\R\bin\R.exe CMD INSTALL --merge-multiarch --build --library=tRNAdbImport.buildbin-libdir tRNAdbImport_1.10.0.tar.gz |
| StartedAt: 2021-10-15 12:17:52 -0400 (Fri, 15 Oct 2021) |
| EndedAt: 2021-10-15 12:19:22 -0400 (Fri, 15 Oct 2021) |
| EllapsedTime: 90.6 seconds |
| RetCode: 0 |
| Status: OK |
| PackageFile: tRNAdbImport_1.10.0.zip |
| PackageFileSize: 372.9 KiB |
##############################################################################
##############################################################################
###
### Running command:
###
### rm -rf tRNAdbImport.buildbin-libdir && mkdir tRNAdbImport.buildbin-libdir && C:\Users\biocbuild\bbs-3.13-bioc\R\bin\R.exe CMD INSTALL --merge-multiarch --build --library=tRNAdbImport.buildbin-libdir tRNAdbImport_1.10.0.tar.gz
###
##############################################################################
##############################################################################
install for i386
* installing *source* package 'tRNAdbImport' ...
** using staged installation
** R
** inst
** byte-compile and prepare package for lazy loading
** help
*** installing help indices
converting help for package 'tRNAdbImport'
finding HTML links ... done
import.tRNAdb html
istRNAdbGRanges html
open_tdbID html
tRNAdbImport html
** building package indices
** installing vignettes
** testing if installed package can be loaded from temporary location
** testing if installed package can be loaded from final location
** testing if installed package keeps a record of temporary installation path
install for x64
* installing *source* package 'tRNAdbImport' ...
** testing if installed package can be loaded
* MD5 sums
packaged installation of 'tRNAdbImport' as tRNAdbImport_1.10.0.zip
* DONE (tRNAdbImport)