| Back to Multiple platform build/check report for BioC 3.13 |
|
This page was generated on 2021-10-15 15:06:55 -0400 (Fri, 15 Oct 2021).
|
To the developers/maintainers of the synapter package: - Please allow up to 24 hours (and sometimes 48 hours) for your latest push to git@git.bioconductor.org:packages/synapter.git to reflect on this report. See How and When does the builder pull? When will my changes propagate? here for more information. - Make sure to use the following settings in order to reproduce any error or warning you see on this page. |
| Package 1883/2041 | Hostname | OS / Arch | INSTALL | BUILD | CHECK | BUILD BIN | ||||||||
| synapter 2.16.0 (landing page) Laurent Gatto
| nebbiolo1 | Linux (Ubuntu 20.04.2 LTS) / x86_64 | OK | ERROR | skipped | |||||||||
| tokay2 | Windows Server 2012 R2 Standard / x64 | OK | OK | OK | OK | |||||||||
| machv2 | macOS 10.14.6 Mojave / x86_64 | OK | OK | OK | OK | |||||||||
| Package: synapter |
| Version: 2.16.0 |
| Command: /Library/Frameworks/R.framework/Versions/Current/Resources/bin/R CMD build --keep-empty-dirs --no-resave-data synapter |
| StartedAt: 2021-10-14 15:14:50 -0400 (Thu, 14 Oct 2021) |
| EndedAt: 2021-10-14 15:21:54 -0400 (Thu, 14 Oct 2021) |
| EllapsedTime: 423.7 seconds |
| RetCode: 0 |
| Status: OK |
| PackageFile: synapter_2.16.0.tar.gz |
| PackageFileSize: 4.123 MiB |
############################################################################## ############################################################################## ### ### Running command: ### ### /Library/Frameworks/R.framework/Versions/Current/Resources/bin/R CMD build --keep-empty-dirs --no-resave-data synapter ### ############################################################################## ############################################################################## * checking for file ‘synapter/DESCRIPTION’ ... OK * preparing ‘synapter’: * checking DESCRIPTION meta-information ... OK * installing the package to build vignettes * creating vignettes ... OK * checking for LF line-endings in source and make files and shell scripts * checking for empty or unneeded directories * looking to see if a ‘data/datalist’ file should be added * building ‘synapter_2.16.0.tar.gz’