| Back to Multiple platform build/check report for BioC 3.13 |
|
This page was generated on 2021-10-15 15:06:23 -0400 (Fri, 15 Oct 2021).
|
To the developers/maintainers of the sojourner package: - Please allow up to 24 hours (and sometimes 48 hours) for your latest push to git@git.bioconductor.org:packages/sojourner.git to reflect on this report. See How and When does the builder pull? When will my changes propagate? here for more information. - Make sure to use the following settings in order to reproduce any error or warning you see on this page. |
| Package 1805/2041 | Hostname | OS / Arch | INSTALL | BUILD | CHECK | BUILD BIN | ||||||||
| sojourner 1.6.0 (landing page) Sojourner Developer
| nebbiolo1 | Linux (Ubuntu 20.04.2 LTS) / x86_64 | OK | OK | WARNINGS | |||||||||
| tokay2 | Windows Server 2012 R2 Standard / x64 | OK | OK | WARNINGS | OK | |||||||||
| machv2 | macOS 10.14.6 Mojave / x86_64 | OK | OK | WARNINGS | OK | |||||||||
| Package: sojourner |
| Version: 1.6.0 |
| Command: rm -rf sojourner.buildbin-libdir && mkdir sojourner.buildbin-libdir && C:\Users\biocbuild\bbs-3.13-bioc\R\bin\R.exe CMD INSTALL --merge-multiarch --build --library=sojourner.buildbin-libdir sojourner_1.6.0.tar.gz |
| StartedAt: 2021-10-15 11:54:38 -0400 (Fri, 15 Oct 2021) |
| EndedAt: 2021-10-15 11:56:16 -0400 (Fri, 15 Oct 2021) |
| EllapsedTime: 97.5 seconds |
| RetCode: 0 |
| Status: OK |
| PackageFile: sojourner_1.6.0.zip |
| PackageFileSize: 2.935 MiB |
##############################################################################
##############################################################################
###
### Running command:
###
### rm -rf sojourner.buildbin-libdir && mkdir sojourner.buildbin-libdir && C:\Users\biocbuild\bbs-3.13-bioc\R\bin\R.exe CMD INSTALL --merge-multiarch --build --library=sojourner.buildbin-libdir sojourner_1.6.0.tar.gz
###
##############################################################################
##############################################################################
install for i386
* installing *source* package 'sojourner' ...
** using staged installation
** R
** inst
** byte-compile and prepare package for lazy loading
Warning: multiple methods tables found for 'area'
** help
*** installing help indices
converting help for package 'sojourner'
finding HTML links ... done
Dcoef-methods html
combineTrackll-methods html
compareFolder-methods html
compare_RT_CDF-methods html
createTrackll-methods html
dispVariance-methods html
displacementCDF-methods html
dwellTime-methods html
exportTrackll-methods html
filterTrack-methods html
fitNormDistr-methods html
fitRT-methods html
linkSkippedFrames-methods html
maskTracks-methods html
mergeTracks-methods html
msd-methods html
plotIndividual_Tracks-methods html
plotLocalizations_Density-methods html
plotTrack-methods html
plotTrackOverlay_Dcoef-methods html
sojourner html
sojournerGUI-methods html
squareDisp-methods html
** building package indices
** installing vignettes
** testing if installed package can be loaded from temporary location
Warning: multiple methods tables found for 'area'
** testing if installed package can be loaded from final location
Warning: multiple methods tables found for 'area'
** testing if installed package keeps a record of temporary installation path
install for x64
* installing *source* package 'sojourner' ...
** testing if installed package can be loaded
Warning: multiple methods tables found for 'area'
* MD5 sums
packaged installation of 'sojourner' as sojourner_1.6.0.zip
* DONE (sojourner)