| Back to Multiple platform build/check report for BioC 3.13 |
|
This page was generated on 2021-10-15 15:06:53 -0400 (Fri, 15 Oct 2021).
|
To the developers/maintainers of the sitadela package: - Please allow up to 24 hours (and sometimes 48 hours) for your latest push to git@git.bioconductor.org:packages/sitadela.git to reflect on this report. See How and When does the builder pull? When will my changes propagate? here for more information. - Make sure to use the following settings in order to reproduce any error or warning you see on this page. |
| Package 1783/2041 | Hostname | OS / Arch | INSTALL | BUILD | CHECK | BUILD BIN | ||||||||
| sitadela 1.0.31 (landing page) Panagiotis Moulos
| nebbiolo1 | Linux (Ubuntu 20.04.2 LTS) / x86_64 | ERROR | ERROR | skipped | |||||||||
| tokay2 | Windows Server 2012 R2 Standard / x64 | ERROR | ERROR | skipped | skipped | |||||||||
| machv2 | macOS 10.14.6 Mojave / x86_64 | ERROR | ERROR | skipped | skipped | |||||||||
| Package: sitadela |
| Version: 1.0.31 |
| Command: /Library/Frameworks/R.framework/Versions/Current/Resources/bin/R CMD build --keep-empty-dirs --no-resave-data sitadela |
| StartedAt: 2021-10-14 15:01:35 -0400 (Thu, 14 Oct 2021) |
| EndedAt: 2021-10-14 15:01:42 -0400 (Thu, 14 Oct 2021) |
| EllapsedTime: 6.8 seconds |
| RetCode: 1 |
| Status: ERROR |
| PackageFile: None |
| PackageFileSize: NA |
##############################################################################
##############################################################################
###
### Running command:
###
### /Library/Frameworks/R.framework/Versions/Current/Resources/bin/R CMD build --keep-empty-dirs --no-resave-data sitadela
###
##############################################################################
##############################################################################
* checking for file ‘sitadela/DESCRIPTION’ ... OK
* preparing ‘sitadela’:
* checking DESCRIPTION meta-information ... OK
* installing the package to build vignettes
-----------------------------------
* installing *source* package ‘sitadela’ ...
** using staged installation
** R
Error in parse(outFile) :
/private/tmp/Rtmpg5Zjse/Rbuild4e6c2097da9a/sitadela/R/query-utils.R:992:9: unexpected symbol
991: host="genome-mysql.soe.ucsc.edu"
992: user
^
ERROR: unable to collate and parse R files for package ‘sitadela’
* removing ‘/private/tmp/Rtmpg5Zjse/Rinst4e6c5190c52d/sitadela’
-----------------------------------
ERROR: package installation failed