| Back to Multiple platform build/check report for BioC 3.13 |
|
This page was generated on 2021-10-15 15:06:22 -0400 (Fri, 15 Oct 2021).
|
To the developers/maintainers of the shinyMethyl package: - Please allow up to 24 hours (and sometimes 48 hours) for your latest push to git@git.bioconductor.org:packages/shinyMethyl.git to reflect on this report. See How and When does the builder pull? When will my changes propagate? here for more information. - Make sure to use the following settings in order to reproduce any error or warning you see on this page. |
| Package 1752/2041 | Hostname | OS / Arch | INSTALL | BUILD | CHECK | BUILD BIN | ||||||||
| shinyMethyl 1.28.0 (landing page) Jean-Philippe Fortin
| nebbiolo1 | Linux (Ubuntu 20.04.2 LTS) / x86_64 | OK | OK | OK | |||||||||
| tokay2 | Windows Server 2012 R2 Standard / x64 | OK | OK | OK | OK | |||||||||
| machv2 | macOS 10.14.6 Mojave / x86_64 | OK | OK | OK | OK | |||||||||
| Package: shinyMethyl |
| Version: 1.28.0 |
| Command: C:\cygwin\bin\curl.exe -O http://155.52.207.165/BBS/3.13/bioc/src/contrib/shinyMethyl_1.28.0.tar.gz && rm -rf shinyMethyl.buildbin-libdir && mkdir shinyMethyl.buildbin-libdir && C:\Users\biocbuild\bbs-3.13-bioc\R\bin\R.exe CMD INSTALL --merge-multiarch --build --library=shinyMethyl.buildbin-libdir shinyMethyl_1.28.0.tar.gz && C:\Users\biocbuild\bbs-3.13-bioc\R\bin\R.exe CMD INSTALL shinyMethyl_1.28.0.zip && rm shinyMethyl_1.28.0.tar.gz shinyMethyl_1.28.0.zip |
| StartedAt: 2021-10-14 10:59:31 -0400 (Thu, 14 Oct 2021) |
| EndedAt: 2021-10-14 11:01:05 -0400 (Thu, 14 Oct 2021) |
| EllapsedTime: 94.0 seconds |
| RetCode: 0 |
| Status: OK |
##############################################################################
##############################################################################
###
### Running command:
###
### C:\cygwin\bin\curl.exe -O http://155.52.207.165/BBS/3.13/bioc/src/contrib/shinyMethyl_1.28.0.tar.gz && rm -rf shinyMethyl.buildbin-libdir && mkdir shinyMethyl.buildbin-libdir && C:\Users\biocbuild\bbs-3.13-bioc\R\bin\R.exe CMD INSTALL --merge-multiarch --build --library=shinyMethyl.buildbin-libdir shinyMethyl_1.28.0.tar.gz && C:\Users\biocbuild\bbs-3.13-bioc\R\bin\R.exe CMD INSTALL shinyMethyl_1.28.0.zip && rm shinyMethyl_1.28.0.tar.gz shinyMethyl_1.28.0.zip
###
##############################################################################
##############################################################################
% Total % Received % Xferd Average Speed Time Time Time Current
Dload Upload Total Spent Left Speed
0 0 0 0 0 0 0 0 --:--:-- --:--:-- --:--:-- 0
9 9040k 9 855k 0 0 2036k 0 0:00:04 --:--:-- 0:00:04 2037k
56 9040k 56 5116k 0 0 3586k 0 0:00:02 0:00:01 0:00:01 3588k
95 9040k 95 8607k 0 0 3550k 0 0:00:02 0:00:02 --:--:-- 3550k
100 9040k 100 9040k 0 0 3513k 0 0:00:02 0:00:02 --:--:-- 3513k
install for i386
* installing *source* package 'shinyMethyl' ...
** using staged installation
** R
** inst
** byte-compile and prepare package for lazy loading
** help
*** installing help indices
converting help for package 'shinyMethyl'
finding HTML links ... done
runShinyMethyl html
shinyMethyl-package html
shinyMethylSet-class html
finding level-2 HTML links ... done
shinySummarize-methods html
** building package indices
** installing vignettes
** testing if installed package can be loaded from temporary location
** testing if installed package can be loaded from final location
** testing if installed package keeps a record of temporary installation path
install for x64
* installing *source* package 'shinyMethyl' ...
** testing if installed package can be loaded
* MD5 sums
packaged installation of 'shinyMethyl' as shinyMethyl_1.28.0.zip
* DONE (shinyMethyl)
* installing to library 'C:/Users/biocbuild/bbs-3.13-bioc/R/library'
package 'shinyMethyl' successfully unpacked and MD5 sums checked