Back to Multiple platform build/check report for BioC 3.13 |
|
This page was generated on 2021-10-15 15:05:53 -0400 (Fri, 15 Oct 2021).
To the developers/maintainers of the shinyMethyl package: - Please allow up to 24 hours (and sometimes 48 hours) for your latest push to git@git.bioconductor.org:packages/shinyMethyl.git to reflect on this report. See How and When does the builder pull? When will my changes propagate? here for more information. - Make sure to use the following settings in order to reproduce any error or warning you see on this page. |
Package 1752/2041 | Hostname | OS / Arch | INSTALL | BUILD | CHECK | BUILD BIN | ||||||||
shinyMethyl 1.28.0 (landing page) Jean-Philippe Fortin
| nebbiolo1 | Linux (Ubuntu 20.04.2 LTS) / x86_64 | OK | OK | OK | ![]() | ||||||||
tokay2 | Windows Server 2012 R2 Standard / x64 | OK | OK | OK | OK | ![]() | ||||||||
machv2 | macOS 10.14.6 Mojave / x86_64 | OK | OK | OK | OK | ![]() | ||||||||
Package: shinyMethyl |
Version: 1.28.0 |
Command: /home/biocbuild/bbs-3.13-bioc/R/bin/R CMD build --keep-empty-dirs --no-resave-data shinyMethyl |
StartedAt: 2021-10-14 08:25:18 -0400 (Thu, 14 Oct 2021) |
EndedAt: 2021-10-14 08:27:17 -0400 (Thu, 14 Oct 2021) |
EllapsedTime: 118.4 seconds |
RetCode: 0 |
Status: OK |
PackageFile: shinyMethyl_1.28.0.tar.gz |
PackageFileSize: 8.945 MiB |
############################################################################## ############################################################################## ### ### Running command: ### ### /home/biocbuild/bbs-3.13-bioc/R/bin/R CMD build --keep-empty-dirs --no-resave-data shinyMethyl ### ############################################################################## ############################################################################## * checking for file ‘shinyMethyl/DESCRIPTION’ ... OK * preparing ‘shinyMethyl’: * checking DESCRIPTION meta-information ... OK * installing the package to build vignettes * creating vignettes ... OK * checking for LF line-endings in source and make files and shell scripts * checking for empty or unneeded directories * building ‘shinyMethyl_1.28.0.tar.gz’