| Back to Multiple platform build/check report for BioC 3.13 | 
 | 
This page was generated on 2021-10-15 15:05:52 -0400 (Fri, 15 Oct 2021).
| To the developers/maintainers of the seqsetvis package: - Please allow up to 24 hours (and sometimes 48 hours) for your latest push to git@git.bioconductor.org:packages/seqsetvis.git to reflect on this report. See How and When does the builder pull? When will my changes propagate? here for more information. - Make sure to use the following settings in order to reproduce any error or warning you see on this page. | 
| Package 1741/2041 | Hostname | OS / Arch | INSTALL | BUILD | CHECK | BUILD BIN | ||||||||
| seqsetvis 1.12.0  (landing page) Joseph R Boyd 
 | nebbiolo1 | Linux (Ubuntu 20.04.2 LTS) / x86_64 | OK | OK | OK |  | ||||||||
| tokay2 | Windows Server 2012 R2 Standard / x64 | OK | OK | OK | OK |  | ||||||||
| machv2 | macOS 10.14.6 Mojave / x86_64 | OK | OK | OK | OK |  | ||||||||
| Package: seqsetvis | 
| Version: 1.12.0 | 
| Command: /home/biocbuild/bbs-3.13-bioc/R/bin/R CMD check --install=check:seqsetvis.install-out.txt --library=/home/biocbuild/bbs-3.13-bioc/R/library --no-vignettes --timings seqsetvis_1.12.0.tar.gz | 
| StartedAt: 2021-10-14 11:35:38 -0400 (Thu, 14 Oct 2021) | 
| EndedAt: 2021-10-14 11:44:02 -0400 (Thu, 14 Oct 2021) | 
| EllapsedTime: 503.9 seconds | 
| RetCode: 0 | 
| Status: OK | 
| CheckDir: seqsetvis.Rcheck | 
| Warnings: 0 | 
##############################################################################
##############################################################################
###
### Running command:
###
###   /home/biocbuild/bbs-3.13-bioc/R/bin/R CMD check --install=check:seqsetvis.install-out.txt --library=/home/biocbuild/bbs-3.13-bioc/R/library --no-vignettes --timings seqsetvis_1.12.0.tar.gz
###
##############################################################################
##############################################################################
* using log directory ‘/home/biocbuild/bbs-3.13-bioc/meat/seqsetvis.Rcheck’
* using R version 4.1.1 (2021-08-10)
* using platform: x86_64-pc-linux-gnu (64-bit)
* using session charset: UTF-8
* using option ‘--no-vignettes’
* checking for file ‘seqsetvis/DESCRIPTION’ ... OK
* checking extension type ... Package
* this is package ‘seqsetvis’ version ‘1.12.0’
* package encoding: UTF-8
* checking package namespace information ... OK
* checking package dependencies ... OK
* checking if this is a source package ... OK
* checking if there is a namespace ... OK
* checking for hidden files and directories ... OK
* checking for portable file names ... OK
* checking for sufficient/correct file permissions ... OK
* checking whether package ‘seqsetvis’ can be installed ... OK
* checking installed package size ... OK
* checking package directory ... OK
* checking ‘build’ directory ... OK
* checking DESCRIPTION meta-information ... OK
* checking top-level files ... OK
* checking for left-over files ... OK
* checking index information ... OK
* checking package subdirectories ... OK
* checking R files for non-ASCII characters ... OK
* checking R files for syntax errors ... OK
* checking whether the package can be loaded ... OK
* checking whether the package can be loaded with stated dependencies ... OK
* checking whether the package can be unloaded cleanly ... OK
* checking whether the namespace can be loaded with stated dependencies ... OK
* checking whether the namespace can be unloaded cleanly ... OK
* checking dependencies in R code ... OK
* checking S3 generic/method consistency ... OK
* checking replacement functions ... OK
* checking foreign function calls ... OK
* checking R code for possible problems ... OK
* checking Rd files ... OK
* checking Rd metadata ... OK
* checking Rd cross-references ... OK
* checking for missing documentation entries ... OK
* checking for code/documentation mismatches ... OK
* checking Rd \usage sections ... OK
* checking Rd contents ... OK
* checking for unstated dependencies in examples ... OK
* checking contents of ‘data’ directory ... OK
* checking data for non-ASCII characters ... OK
* checking LazyData ... OK
* checking data for ASCII and uncompressed saves ... OK
* checking files in ‘vignettes’ ... OK
* checking examples ... OK
Examples with CPU (user + system) or elapsed time > 5s
             user system elapsed
ssvFetchBam 7.764   0.04   7.755
* checking for unstated dependencies in ‘tests’ ... OK
* checking tests ...
  Running ‘testthat.R’
 OK
* checking for unstated dependencies in vignettes ... OK
* checking package vignettes in ‘inst/doc’ ... OK
* checking running R code from vignettes ... SKIPPED
* checking re-building of vignette outputs ... SKIPPED
* checking PDF version of manual ... OK
* DONE
Status: OK
seqsetvis.Rcheck/00install.out
############################################################################## ############################################################################## ### ### Running command: ### ### /home/biocbuild/bbs-3.13-bioc/R/bin/R CMD INSTALL seqsetvis ### ############################################################################## ############################################################################## * installing to library ‘/home/biocbuild/bbs-3.13-bioc/R/library’ * installing *source* package ‘seqsetvis’ ... ** using staged installation ** R ** data *** moving datasets to lazyload DB ** inst ** byte-compile and prepare package for lazy loading ** help *** installing help indices ** building package indices ** installing vignettes ** testing if installed package can be loaded from temporary location ** testing if installed package can be loaded from final location ** testing if installed package keeps a record of temporary installation path * DONE (seqsetvis)
seqsetvis.Rcheck/tests/testthat.Rout
R version 4.1.1 (2021-08-10) -- "Kick Things" Copyright (C) 2021 The R Foundation for Statistical Computing Platform: x86_64-pc-linux-gnu (64-bit) R is free software and comes with ABSOLUTELY NO WARRANTY. You are welcome to redistribute it under certain conditions. Type 'license()' or 'licence()' for distribution details. R is a collaborative project with many contributors. Type 'contributors()' for more information and 'citation()' on how to cite R or R packages in publications. Type 'demo()' for some demos, 'help()' for on-line help, or 'help.start()' for an HTML browser interface to help. Type 'q()' to quit R. > > ## load dependencies > library(testthat) > library(seqsetvis) Loading required package: ggplot2 > library(data.table) > > ## test package > test_check(package = "seqsetvis") [ FAIL 0 | WARN 0 | SKIP 0 | PASS 1122 ] > > proc.time() user system elapsed 263.551 2.253 262.817
seqsetvis.Rcheck/seqsetvis-Ex.timings
| name | user | system | elapsed | |
| add_cluster_annotation | 2.243 | 0.336 | 2.534 | |
| append_ynorm | 0.046 | 0.016 | 0.038 | |
| applySpline | 0.401 | 0.044 | 0.405 | |
| assemble_heatmap_cluster_bars | 0.562 | 0.004 | 0.537 | |
| calc_norm_factors | 0.037 | 0.000 | 0.028 | |
| centerAtMax | 0.358 | 0.000 | 0.314 | |
| centerFixedSizeGRanges | 0.163 | 0.004 | 0.167 | |
| centerGRangesAtMax | 0.536 | 0.005 | 0.502 | |
| clusteringKmeans | 0.023 | 0.004 | 0.016 | |
| clusteringKmeansNestedHclust | 0.038 | 0.000 | 0.026 | |
| col2hex | 0.000 | 0.003 | 0.003 | |
| collapse_gr | 1.003 | 0.120 | 1.123 | |
| convert_collapsed_coord | 0.292 | 0.008 | 0.300 | |
| crossCorrByRle | 0.45 | 0.00 | 0.45 | |
| easyLoad_bed | 0.054 | 0.004 | 0.058 | |
| easyLoad_broadPeak | 0.134 | 0.004 | 0.137 | |
| easyLoad_narrowPeak | 0.070 | 0.000 | 0.069 | |
| easyLoad_seacr | 0.044 | 0.000 | 0.045 | |
| expandCigar | 0.242 | 0.004 | 0.226 | |
| fragLen_calcStranded | 1.673 | 0.004 | 1.671 | |
| fragLen_fromMacs2Xls | 0.000 | 0.002 | 0.003 | |
| getReadLength | 0.066 | 0.009 | 0.076 | |
| ggellipse | 0.473 | 0.048 | 0.523 | |
| harmonize_seqlengths | 0.148 | 0.008 | 0.156 | |
| make_clustering_matrix | 0.009 | 0.004 | 0.009 | |
| prepare_fetch_GRanges | 0.083 | 0.020 | 0.100 | |
| prepare_fetch_GRanges_names | 0.148 | 0.060 | 0.208 | |
| prepare_fetch_GRanges_width | 0.053 | 0.016 | 0.069 | |
| quantileGRangesWidth | 0.002 | 0.000 | 0.002 | |
| safeBrew | 0.023 | 0.004 | 0.026 | |
| ssvConsensusIntervalSets | 0.495 | 0.012 | 0.508 | |
| ssvFactorizeMembTable | 0.018 | 0.004 | 0.021 | |
| ssvFeatureBars | 0.479 | 0.004 | 0.483 | |
| ssvFeatureBinaryHeatmap | 0.369 | 0.004 | 0.372 | |
| ssvFeatureEuler | 0.444 | 0.000 | 0.445 | |
| ssvFeaturePie | 0.437 | 0.000 | 0.437 | |
| ssvFeatureUpset | 2.225 | 0.020 | 2.247 | |
| ssvFeatureVenn | 0.448 | 0.004 | 0.452 | |
| ssvFetchBam | 7.764 | 0.040 | 7.755 | |
| ssvFetchBamPE | 2.773 | 0.037 | 2.811 | |
| ssvFetchBigwig | 2.015 | 0.008 | 2.023 | |
| ssvFetchGRanges | 1.147 | 0.000 | 1.148 | |
| ssvFetchSignal | 2.778 | 0.260 | 3.038 | |
| ssvMakeMembTable-methods | 0.690 | 0.004 | 0.694 | |
| ssvOverlapIntervalSets | 0.299 | 0.000 | 0.299 | |
| ssvSignalBandedQuantiles | 3.943 | 0.060 | 3.882 | |
| ssvSignalClustering | 1.676 | 0.008 | 1.606 | |
| ssvSignalHeatmap.ClusterBars | 1.629 | 0.008 | 1.554 | |
| ssvSignalHeatmap | 1.522 | 0.016 | 1.466 | |
| ssvSignalLineplot | 1.977 | 0.000 | 1.971 | |
| ssvSignalLineplotAgg | 0.871 | 0.000 | 0.853 | |
| ssvSignalScatterplot | 0.818 | 0.008 | 0.781 | |
| viewGRangesWinSample_dt | 1.467 | 0.004 | 1.466 | |
| viewGRangesWinSummary_dt | 1.417 | 0.028 | 1.419 | |