| Back to Multiple platform build/check report for BioC 3.13 |
|
This page was generated on 2021-10-15 15:06:52 -0400 (Fri, 15 Oct 2021).
|
To the developers/maintainers of the seqsetvis package: - Please allow up to 24 hours (and sometimes 48 hours) for your latest push to git@git.bioconductor.org:packages/seqsetvis.git to reflect on this report. See How and When does the builder pull? When will my changes propagate? here for more information. - Make sure to use the following settings in order to reproduce any error or warning you see on this page. |
| Package 1741/2041 | Hostname | OS / Arch | INSTALL | BUILD | CHECK | BUILD BIN | ||||||||
| seqsetvis 1.12.0 (landing page) Joseph R Boyd
| nebbiolo1 | Linux (Ubuntu 20.04.2 LTS) / x86_64 | OK | OK | OK | |||||||||
| tokay2 | Windows Server 2012 R2 Standard / x64 | OK | OK | OK | OK | |||||||||
| machv2 | macOS 10.14.6 Mojave / x86_64 | OK | OK | OK | OK | |||||||||
| Package: seqsetvis |
| Version: 1.12.0 |
| Command: /Library/Frameworks/R.framework/Versions/Current/Resources/bin/R CMD check --install=check:seqsetvis.install-out.txt --library=/Library/Frameworks/R.framework/Versions/Current/Resources/library --no-vignettes --timings seqsetvis_1.12.0.tar.gz |
| StartedAt: 2021-10-14 23:55:01 -0400 (Thu, 14 Oct 2021) |
| EndedAt: 2021-10-15 00:07:40 -0400 (Fri, 15 Oct 2021) |
| EllapsedTime: 758.7 seconds |
| RetCode: 0 |
| Status: OK |
| CheckDir: seqsetvis.Rcheck |
| Warnings: 0 |
##############################################################################
##############################################################################
###
### Running command:
###
### /Library/Frameworks/R.framework/Versions/Current/Resources/bin/R CMD check --install=check:seqsetvis.install-out.txt --library=/Library/Frameworks/R.framework/Versions/Current/Resources/library --no-vignettes --timings seqsetvis_1.12.0.tar.gz
###
##############################################################################
##############################################################################
* using log directory ‘/Users/biocbuild/bbs-3.13-bioc/meat/seqsetvis.Rcheck’
* using R version 4.1.1 (2021-08-10)
* using platform: x86_64-apple-darwin17.0 (64-bit)
* using session charset: UTF-8
* using option ‘--no-vignettes’
* checking for file ‘seqsetvis/DESCRIPTION’ ... OK
* checking extension type ... Package
* this is package ‘seqsetvis’ version ‘1.12.0’
* package encoding: UTF-8
* checking package namespace information ... OK
* checking package dependencies ... OK
* checking if this is a source package ... OK
* checking if there is a namespace ... OK
* checking for hidden files and directories ... NOTE
Found the following hidden files and directories:
.git_fetch_output.txt
.git_merge_output.txt
These were most likely included in error. See section ‘Package
structure’ in the ‘Writing R Extensions’ manual.
* checking for portable file names ... OK
* checking for sufficient/correct file permissions ... OK
* checking whether package ‘seqsetvis’ can be installed ... OK
* checking installed package size ... OK
* checking package directory ... OK
* checking ‘build’ directory ... OK
* checking DESCRIPTION meta-information ... OK
* checking top-level files ... OK
* checking for left-over files ... OK
* checking index information ... OK
* checking package subdirectories ... OK
* checking R files for non-ASCII characters ... OK
* checking R files for syntax errors ... OK
* checking whether the package can be loaded ... OK
* checking whether the package can be loaded with stated dependencies ... OK
* checking whether the package can be unloaded cleanly ... OK
* checking whether the namespace can be loaded with stated dependencies ... OK
* checking whether the namespace can be unloaded cleanly ... OK
* checking dependencies in R code ... OK
* checking S3 generic/method consistency ... OK
* checking replacement functions ... OK
* checking foreign function calls ... OK
* checking R code for possible problems ... OK
* checking Rd files ... OK
* checking Rd metadata ... OK
* checking Rd cross-references ... OK
* checking for missing documentation entries ... OK
* checking for code/documentation mismatches ... OK
* checking Rd \usage sections ... OK
* checking Rd contents ... OK
* checking for unstated dependencies in examples ... OK
* checking contents of ‘data’ directory ... OK
* checking data for non-ASCII characters ... OK
* checking LazyData ... OK
* checking data for ASCII and uncompressed saves ... OK
* checking files in ‘vignettes’ ... OK
* checking examples ... OK
Examples with CPU (user + system) or elapsed time > 5s
user system elapsed
ssvFetchBam 11.962 0.182 12.148
ssvSignalBandedQuantiles 6.384 0.056 6.448
* checking for unstated dependencies in ‘tests’ ... OK
* checking tests ...
Running ‘testthat.R’
OK
* checking for unstated dependencies in vignettes ... OK
* checking package vignettes in ‘inst/doc’ ... OK
* checking running R code from vignettes ... SKIPPED
* checking re-building of vignette outputs ... SKIPPED
* checking PDF version of manual ... OK
* DONE
Status: 1 NOTE
See
‘/Users/biocbuild/bbs-3.13-bioc/meat/seqsetvis.Rcheck/00check.log’
for details.
seqsetvis.Rcheck/00install.out
############################################################################## ############################################################################## ### ### Running command: ### ### /Library/Frameworks/R.framework/Versions/Current/Resources/bin/R CMD INSTALL seqsetvis ### ############################################################################## ############################################################################## * installing to library ‘/Library/Frameworks/R.framework/Versions/4.1/Resources/library’ * installing *source* package ‘seqsetvis’ ... ** using staged installation ** R ** data *** moving datasets to lazyload DB ** inst ** byte-compile and prepare package for lazy loading ** help *** installing help indices ** building package indices ** installing vignettes ** testing if installed package can be loaded from temporary location ** testing if installed package can be loaded from final location ** testing if installed package keeps a record of temporary installation path * DONE (seqsetvis)
seqsetvis.Rcheck/tests/testthat.Rout
R version 4.1.1 (2021-08-10) -- "Kick Things" Copyright (C) 2021 The R Foundation for Statistical Computing Platform: x86_64-apple-darwin17.0 (64-bit) R is free software and comes with ABSOLUTELY NO WARRANTY. You are welcome to redistribute it under certain conditions. Type 'license()' or 'licence()' for distribution details. R is a collaborative project with many contributors. Type 'contributors()' for more information and 'citation()' on how to cite R or R packages in publications. Type 'demo()' for some demos, 'help()' for on-line help, or 'help.start()' for an HTML browser interface to help. Type 'q()' to quit R. > > ## load dependencies > library(testthat) > library(seqsetvis) Loading required package: ggplot2 > library(data.table) > > ## test package > test_check(package = "seqsetvis") [ FAIL 0 | WARN 0 | SKIP 0 | PASS 1122 ] > > proc.time() user system elapsed 411.133 3.214 414.688
seqsetvis.Rcheck/seqsetvis-Ex.timings
| name | user | system | elapsed | |
| add_cluster_annotation | 2.483 | 0.076 | 2.560 | |
| append_ynorm | 0.037 | 0.006 | 0.043 | |
| applySpline | 0.687 | 0.039 | 0.727 | |
| assemble_heatmap_cluster_bars | 0.826 | 0.007 | 0.835 | |
| calc_norm_factors | 0.026 | 0.001 | 0.027 | |
| centerAtMax | 0.441 | 0.005 | 0.447 | |
| centerFixedSizeGRanges | 0.196 | 0.007 | 0.203 | |
| centerGRangesAtMax | 0.772 | 0.007 | 0.780 | |
| clusteringKmeans | 0.019 | 0.001 | 0.020 | |
| clusteringKmeansNestedHclust | 0.037 | 0.001 | 0.039 | |
| col2hex | 0.001 | 0.000 | 0.001 | |
| collapse_gr | 1.405 | 0.018 | 1.423 | |
| convert_collapsed_coord | 0.278 | 0.007 | 0.285 | |
| crossCorrByRle | 0.632 | 0.009 | 0.642 | |
| easyLoad_bed | 0.071 | 0.001 | 0.099 | |
| easyLoad_broadPeak | 0.256 | 0.001 | 0.259 | |
| easyLoad_narrowPeak | 0.081 | 0.002 | 0.084 | |
| easyLoad_seacr | 0.060 | 0.001 | 0.061 | |
| expandCigar | 0.300 | 0.014 | 0.315 | |
| fragLen_calcStranded | 2.594 | 0.056 | 2.652 | |
| fragLen_fromMacs2Xls | 0.002 | 0.000 | 0.003 | |
| getReadLength | 0.088 | 0.004 | 0.092 | |
| ggellipse | 0.681 | 0.006 | 0.688 | |
| harmonize_seqlengths | 0.155 | 0.008 | 0.163 | |
| make_clustering_matrix | 0.010 | 0.002 | 0.011 | |
| prepare_fetch_GRanges | 0.080 | 0.002 | 0.082 | |
| prepare_fetch_GRanges_names | 0.199 | 0.002 | 0.201 | |
| prepare_fetch_GRanges_width | 0.066 | 0.001 | 0.067 | |
| quantileGRangesWidth | 0.002 | 0.000 | 0.003 | |
| safeBrew | 0.026 | 0.003 | 0.029 | |
| ssvConsensusIntervalSets | 0.592 | 0.007 | 0.599 | |
| ssvFactorizeMembTable | 0.025 | 0.002 | 0.027 | |
| ssvFeatureBars | 0.696 | 0.003 | 0.699 | |
| ssvFeatureBinaryHeatmap | 0.585 | 0.006 | 0.630 | |
| ssvFeatureEuler | 0.789 | 0.005 | 0.796 | |
| ssvFeaturePie | 0.701 | 0.003 | 0.707 | |
| ssvFeatureUpset | 3.235 | 0.032 | 3.273 | |
| ssvFeatureVenn | 0.574 | 0.004 | 0.579 | |
| ssvFetchBam | 11.962 | 0.182 | 12.148 | |
| ssvFetchBamPE | 3.917 | 0.120 | 4.042 | |
| ssvFetchBigwig | 2.959 | 0.011 | 2.973 | |
| ssvFetchGRanges | 1.511 | 0.003 | 1.515 | |
| ssvFetchSignal | 3.297 | 0.048 | 3.351 | |
| ssvMakeMembTable-methods | 0.888 | 0.022 | 0.911 | |
| ssvOverlapIntervalSets | 0.333 | 0.007 | 0.340 | |
| ssvSignalBandedQuantiles | 6.384 | 0.056 | 6.448 | |
| ssvSignalClustering | 2.390 | 0.015 | 2.410 | |
| ssvSignalHeatmap.ClusterBars | 2.174 | 0.011 | 2.190 | |
| ssvSignalHeatmap | 2.263 | 0.013 | 2.279 | |
| ssvSignalLineplot | 3.208 | 0.009 | 3.223 | |
| ssvSignalLineplotAgg | 1.391 | 0.010 | 1.406 | |
| ssvSignalScatterplot | 0.995 | 0.025 | 1.165 | |
| viewGRangesWinSample_dt | 2.411 | 0.046 | 2.461 | |
| viewGRangesWinSummary_dt | 2.268 | 0.026 | 2.296 | |