| Back to Multiple platform build/check report for BioC 3.13 |
|
This page was generated on 2021-10-15 15:06:22 -0400 (Fri, 15 Oct 2021).
|
To the developers/maintainers of the scTensor package: - Please allow up to 24 hours (and sometimes 48 hours) for your latest push to git@git.bioconductor.org:packages/scTensor.git to reflect on this report. See How and When does the builder pull? When will my changes propagate? here for more information. - Make sure to use the following settings in order to reproduce any error or warning you see on this page. |
| Package 1718/2041 | Hostname | OS / Arch | INSTALL | BUILD | CHECK | BUILD BIN | ||||||||
| scTensor 2.2.0 (landing page) Koki Tsuyuzaki
| nebbiolo1 | Linux (Ubuntu 20.04.2 LTS) / x86_64 | OK | OK | OK | |||||||||
| tokay2 | Windows Server 2012 R2 Standard / x64 | OK | OK | OK | OK | |||||||||
| machv2 | macOS 10.14.6 Mojave / x86_64 | OK | OK | OK | OK | |||||||||
| Package: scTensor |
| Version: 2.2.0 |
| Command: C:\cygwin\bin\curl.exe -O http://155.52.207.165/BBS/3.13/bioc/src/contrib/scTensor_2.2.0.tar.gz && rm -rf scTensor.buildbin-libdir && mkdir scTensor.buildbin-libdir && C:\Users\biocbuild\bbs-3.13-bioc\R\bin\R.exe CMD INSTALL --merge-multiarch --build --library=scTensor.buildbin-libdir scTensor_2.2.0.tar.gz && C:\Users\biocbuild\bbs-3.13-bioc\R\bin\R.exe CMD INSTALL scTensor_2.2.0.zip && rm scTensor_2.2.0.tar.gz scTensor_2.2.0.zip |
| StartedAt: 2021-10-14 11:04:39 -0400 (Thu, 14 Oct 2021) |
| EndedAt: 2021-10-14 11:08:39 -0400 (Thu, 14 Oct 2021) |
| EllapsedTime: 240.3 seconds |
| RetCode: 0 |
| Status: OK |
##############################################################################
##############################################################################
###
### Running command:
###
### C:\cygwin\bin\curl.exe -O http://155.52.207.165/BBS/3.13/bioc/src/contrib/scTensor_2.2.0.tar.gz && rm -rf scTensor.buildbin-libdir && mkdir scTensor.buildbin-libdir && C:\Users\biocbuild\bbs-3.13-bioc\R\bin\R.exe CMD INSTALL --merge-multiarch --build --library=scTensor.buildbin-libdir scTensor_2.2.0.tar.gz && C:\Users\biocbuild\bbs-3.13-bioc\R\bin\R.exe CMD INSTALL scTensor_2.2.0.zip && rm scTensor_2.2.0.tar.gz scTensor_2.2.0.zip
###
##############################################################################
##############################################################################
% Total % Received % Xferd Average Speed Time Time Time Current
Dload Upload Total Spent Left Speed
0 0 0 0 0 0 0 0 --:--:-- --:--:-- --:--:-- 0
9 10.7M 9 1065k 0 0 1656k 0 0:00:06 --:--:-- 0:00:06 1656k
24 10.7M 24 2732k 0 0 1475k 0 0:00:07 0:00:01 0:00:06 1475k
43 10.7M 43 4822k 0 0 1810k 0 0:00:06 0:00:02 0:00:04 1810k
80 10.7M 80 8840k 0 0 2412k 0 0:00:04 0:00:03 0:00:01 2412k
100 10.7M 100 10.7M 0 0 2673k 0 0:00:04 0:00:04 --:--:-- 2674k
install for i386
* installing *source* package 'scTensor' ...
** using staged installation
** R
** data
** inst
** byte-compile and prepare package for lazy loading
Creating a new generic function for 'show' in package 'scTensor'
** help
*** installing help indices
converting help for package 'scTensor'
finding HTML links ... done
CCSParams-class html
GermMale html
cellCellDecomp html
cellCellRanks html
cellCellReport html
cellCellSetting html
cellCellSimulate html
convertToNCBIGeneID html
getParam html
labelGermMale html
m html
newCCSParams html
scTensor-package html
setParam html
tsneGermMale html
v html
** building package indices
** installing vignettes
** testing if installed package can be loaded from temporary location
** testing if installed package can be loaded from final location
** testing if installed package keeps a record of temporary installation path
install for x64
* installing *source* package 'scTensor' ...
** testing if installed package can be loaded
* MD5 sums
packaged installation of 'scTensor' as scTensor_2.2.0.zip
* DONE (scTensor)
* installing to library 'C:/Users/biocbuild/bbs-3.13-bioc/R/library'
package 'scTensor' successfully unpacked and MD5 sums checked