| Back to Multiple platform build/check report for BioC 3.13 | 
 | 
This page was generated on 2021-10-15 15:06:52 -0400 (Fri, 15 Oct 2021).
| To the developers/maintainers of the scTensor package: - Please allow up to 24 hours (and sometimes 48 hours) for your latest push to git@git.bioconductor.org:packages/scTensor.git to reflect on this report. See How and When does the builder pull? When will my changes propagate? here for more information. - Make sure to use the following settings in order to reproduce any error or warning you see on this page. | 
| Package 1718/2041 | Hostname | OS / Arch | INSTALL | BUILD | CHECK | BUILD BIN | ||||||||
| scTensor 2.2.0  (landing page) Koki Tsuyuzaki 
 | nebbiolo1 | Linux (Ubuntu 20.04.2 LTS) / x86_64 | OK | OK | OK |  | ||||||||
| tokay2 | Windows Server 2012 R2 Standard / x64 | OK | OK | OK | OK |  | ||||||||
| machv2 | macOS 10.14.6 Mojave / x86_64 | OK | OK | OK | OK |  | ||||||||
| Package: scTensor | 
| Version: 2.2.0 | 
| Command: /Library/Frameworks/R.framework/Versions/Current/Resources/bin/R CMD build --keep-empty-dirs --no-resave-data scTensor | 
| StartedAt: 2021-10-14 14:48:09 -0400 (Thu, 14 Oct 2021) | 
| EndedAt: 2021-10-14 14:52:23 -0400 (Thu, 14 Oct 2021) | 
| EllapsedTime: 253.8 seconds | 
| RetCode: 0 | 
| Status: OK | 
| PackageFile: scTensor_2.2.0.tar.gz | 
| PackageFileSize: 10.8 MiB | 
############################################################################## ############################################################################## ### ### Running command: ### ### /Library/Frameworks/R.framework/Versions/Current/Resources/bin/R CMD build --keep-empty-dirs --no-resave-data scTensor ### ############################################################################## ############################################################################## * checking for file ‘scTensor/DESCRIPTION’ ... OK * preparing ‘scTensor’: * checking DESCRIPTION meta-information ... OK * installing the package to process help pages * saving partial Rd database * creating vignettes ... OK * checking for LF line-endings in source and make files and shell scripts * checking for empty or unneeded directories * looking to see if a ‘data/datalist’ file should be added * building ‘scTensor_2.2.0.tar.gz’