Back to Multiple platform build/check report for BioC 3.13 |
|
This page was generated on 2021-10-15 15:06:19 -0400 (Fri, 15 Oct 2021).
To the developers/maintainers of the rexposome package: - Please allow up to 24 hours (and sometimes 48 hours) for your latest push to git@git.bioconductor.org:packages/rexposome.git to reflect on this report. See How and When does the builder pull? When will my changes propagate? here for more information. - Make sure to use the following settings in order to reproduce any error or warning you see on this page. |
Package 1560/2041 | Hostname | OS / Arch | INSTALL | BUILD | CHECK | BUILD BIN | ||||||||
rexposome 1.14.1 (landing page) Xavier EscribĂ Montagut
| nebbiolo1 | Linux (Ubuntu 20.04.2 LTS) / x86_64 | OK | OK | WARNINGS | |||||||||
tokay2 | Windows Server 2012 R2 Standard / x64 | OK | OK | WARNINGS | OK | |||||||||
machv2 | macOS 10.14.6 Mojave / x86_64 | OK | OK | WARNINGS | OK | |||||||||
Package: rexposome |
Version: 1.14.1 |
Command: C:\cygwin\bin\curl.exe -O http://155.52.207.165/BBS/3.13/bioc/src/contrib/rexposome_1.14.1.tar.gz && rm -rf rexposome.buildbin-libdir && mkdir rexposome.buildbin-libdir && C:\Users\biocbuild\bbs-3.13-bioc\R\bin\R.exe CMD INSTALL --merge-multiarch --build --library=rexposome.buildbin-libdir rexposome_1.14.1.tar.gz && C:\Users\biocbuild\bbs-3.13-bioc\R\bin\R.exe CMD INSTALL rexposome_1.14.1.zip && rm rexposome_1.14.1.tar.gz rexposome_1.14.1.zip |
StartedAt: 2021-10-14 09:51:16 -0400 (Thu, 14 Oct 2021) |
EndedAt: 2021-10-14 09:52:36 -0400 (Thu, 14 Oct 2021) |
EllapsedTime: 79.8 seconds |
RetCode: 0 |
Status: OK |
############################################################################## ############################################################################## ### ### Running command: ### ### C:\cygwin\bin\curl.exe -O http://155.52.207.165/BBS/3.13/bioc/src/contrib/rexposome_1.14.1.tar.gz && rm -rf rexposome.buildbin-libdir && mkdir rexposome.buildbin-libdir && C:\Users\biocbuild\bbs-3.13-bioc\R\bin\R.exe CMD INSTALL --merge-multiarch --build --library=rexposome.buildbin-libdir rexposome_1.14.1.tar.gz && C:\Users\biocbuild\bbs-3.13-bioc\R\bin\R.exe CMD INSTALL rexposome_1.14.1.zip && rm rexposome_1.14.1.tar.gz rexposome_1.14.1.zip ### ############################################################################## ############################################################################## % Total % Received % Xferd Average Speed Time Time Time Current Dload Upload Total Spent Left Speed 0 0 0 0 0 0 0 0 --:--:-- --:--:-- --:--:-- 0 0 5994k 0 15987 0 0 134k 0 0:00:44 --:--:-- 0:00:44 134k 68 5994k 68 4115k 0 0 3687k 0 0:00:01 0:00:01 --:--:-- 3687k 100 5994k 100 5994k 0 0 4111k 0 0:00:01 0:00:01 --:--:-- 4111k install for i386 * installing *source* package 'rexposome' ... ** using staged installation ** R ** data *** moving datasets to lazyload DB ** inst ** byte-compile and prepare package for lazy loading ** help *** installing help indices converting help for package 'rexposome' finding HTML links ... done ExWAS-class html ExposomeClust-class html ExposomeCorr-class html finding level-2 HTML links ... done ExposomePCA-class html ExposomeSet-class html classification-methods html clustering-methods html correlation-methods html ex_imp html expo html expo_c html expos-methods html exposureNames-methods html extract-methods html exwas-methods html REDIRECT:topic Previous alias or file overwritten by alias: C:/Users/biocbuild/bbs-3.13-bioc/meat/rexposome.buildbin-libdir/00LOCK-rexposome/00new/rexposome/help/exwas.html familyNames-methods html highAndLow-methods html ilod-methods html imExposomeSet-class html imputation-methods html imputeLOD html invExWAS-methods html loadExposome html loadExposome_plain html loadImputed html mExWAS-class html me html mexwas-methods html REDIRECT:topic Previous alias or file overwritten by alias: C:/Users/biocbuild/bbs-3.13-bioc/meat/rexposome.buildbin-libdir/00LOCK-rexposome/00new/rexposome/help/mexwas.html ndim-methods html normalityTest-methods html pca-methods html phenotypeNames-methods html plot3PCA-methods html plotClassification-methods html plotCorrelation-methods html plotEXP-methods html plotEffect-methods html plotExwas-methods html plotFamily-methods html plotHistogram-methods html plotLOD-methods html plotMissings-methods html plotPCA-methods html plotPHE-methods html plotVolcano-methods html readExposome html rexposome html standardize-methods html tableLOD-methods html tableMissings-methods html tef-methods html toES html trans-methods html volcano_plot html ** building package indices ** installing vignettes ** testing if installed package can be loaded from temporary location ** testing if installed package can be loaded from final location ** testing if installed package keeps a record of temporary installation path install for x64 * installing *source* package 'rexposome' ... ** testing if installed package can be loaded * MD5 sums packaged installation of 'rexposome' as rexposome_1.14.1.zip * DONE (rexposome) * installing to library 'C:/Users/biocbuild/bbs-3.13-bioc/R/library' package 'rexposome' successfully unpacked and MD5 sums checked