| Back to Multiple platform build/check report for BioC 3.13 | 
  | 
This page was generated on 2021-10-15 15:06:19 -0400 (Fri, 15 Oct 2021).
| 
To the developers/maintainers of the rexposome package: - Please allow up to 24 hours (and sometimes 48 hours) for your latest push to git@git.bioconductor.org:packages/rexposome.git to reflect on this report. See How and When does the builder pull? When will my changes propagate? here for more information. - Make sure to use the following settings in order to reproduce any error or warning you see on this page.  | 
| Package 1560/2041 | Hostname | OS / Arch | INSTALL | BUILD | CHECK | BUILD BIN | ||||||||
| rexposome 1.14.1  (landing page) Xavier EscribĂ Montagut 
  | nebbiolo1 | Linux (Ubuntu 20.04.2 LTS) / x86_64 | OK | OK | WARNINGS | |||||||||
| tokay2 | Windows Server 2012 R2 Standard / x64 | OK | OK | WARNINGS | OK | |||||||||
| machv2 | macOS 10.14.6 Mojave / x86_64 | OK | OK | WARNINGS | OK | |||||||||
| Package: rexposome | 
| Version: 1.14.1 | 
| Command: chmod a+r rexposome -R && C:\Users\biocbuild\bbs-3.13-bioc\R\bin\R.exe CMD build --keep-empty-dirs --no-resave-data rexposome | 
| StartedAt: 2021-10-14 17:33:13 -0400 (Thu, 14 Oct 2021) | 
| EndedAt: 2021-10-14 17:35:14 -0400 (Thu, 14 Oct 2021) | 
| EllapsedTime: 121.0 seconds | 
| RetCode: 0 | 
| Status: OK | 
| PackageFile: rexposome_1.14.1.tar.gz | 
| PackageFileSize: 5.387 MiB | 
############################################################################## ############################################################################## ### ### Running command: ### ### chmod a+r rexposome -R && C:\Users\biocbuild\bbs-3.13-bioc\R\bin\R.exe CMD build --keep-empty-dirs --no-resave-data rexposome ### ############################################################################## ############################################################################## * checking for file 'rexposome/DESCRIPTION' ... OK * preparing 'rexposome': * checking DESCRIPTION meta-information ... OK * installing the package to build vignettes * creating vignettes ... OK * checking for LF line-endings in source and make files and shell scripts * checking for empty or unneeded directories * building 'rexposome_1.14.1.tar.gz' Warning in utils::tar(filepath, pkgname, compression = compression, compression_level = 9L, : storing paths of more than 100 bytes is not portable: 'rexposome/vignettes/rsconnect/documents/exposome_data_analysis.Rmd/rpubs.com/rpubs/Publish Document.dcf'