| Back to Multiple platform build/check report for BioC 3.13 |
|
This page was generated on 2021-10-15 15:06:17 -0400 (Fri, 15 Oct 2021).
|
To the developers/maintainers of the qPLEXanalyzer package: - Please allow up to 24 hours (and sometimes 48 hours) for your latest push to git@git.bioconductor.org:packages/qPLEXanalyzer.git to reflect on this report. See How and When does the builder pull? When will my changes propagate? here for more information. - Make sure to use the following settings in order to reproduce any error or warning you see on this page. |
| Package 1474/2041 | Hostname | OS / Arch | INSTALL | BUILD | CHECK | BUILD BIN | ||||||||
| qPLEXanalyzer 1.10.0 (landing page) Ashley Sawle
| nebbiolo1 | Linux (Ubuntu 20.04.2 LTS) / x86_64 | OK | OK | OK | |||||||||
| tokay2 | Windows Server 2012 R2 Standard / x64 | OK | OK | OK | OK | |||||||||
| machv2 | macOS 10.14.6 Mojave / x86_64 | OK | OK | OK | OK | |||||||||
| Package: qPLEXanalyzer |
| Version: 1.10.0 |
| Command: rm -rf qPLEXanalyzer.buildbin-libdir && mkdir qPLEXanalyzer.buildbin-libdir && C:\Users\biocbuild\bbs-3.13-bioc\R\bin\R.exe CMD INSTALL --merge-multiarch --build --library=qPLEXanalyzer.buildbin-libdir qPLEXanalyzer_1.10.0.tar.gz |
| StartedAt: 2021-10-15 11:10:09 -0400 (Fri, 15 Oct 2021) |
| EndedAt: 2021-10-15 11:11:41 -0400 (Fri, 15 Oct 2021) |
| EllapsedTime: 91.4 seconds |
| RetCode: 0 |
| Status: OK |
| PackageFile: qPLEXanalyzer_1.10.0.zip |
| PackageFileSize: 3.211 MiB |
##############################################################################
##############################################################################
###
### Running command:
###
### rm -rf qPLEXanalyzer.buildbin-libdir && mkdir qPLEXanalyzer.buildbin-libdir && C:\Users\biocbuild\bbs-3.13-bioc\R\bin\R.exe CMD INSTALL --merge-multiarch --build --library=qPLEXanalyzer.buildbin-libdir qPLEXanalyzer_1.10.0.tar.gz
###
##############################################################################
##############################################################################
install for i386
* installing *source* package 'qPLEXanalyzer' ...
** using staged installation
** R
** data
** inst
** byte-compile and prepare package for lazy loading
Note: wrong number of arguments to '=='
Note: wrong number of arguments to '=='
** help
*** installing help indices
converting help for package 'qPLEXanalyzer'
finding HTML links ... done
ER_ARID1A_KO_MCF7 html
IRSnorm html
finding level-2 HTML links ... done
assignColours html
computeDiffStats html
convertToMSnset html
corrPlot html
coveragePlot html
exp2_Xlink html
exp3_OHT_ESR1 html
getContrastResults html
groupScaling html
hierarchicalPlot html
human_anno html
intensityBoxplot html
intensityPlot html
maVolPlot html
mergePeptides html
mouse_anno html
normalizeQuantiles html
normalizeScaling html
pcaPlot html
peptideIntensityPlot html
plotMeanVar html
qPLEXanalyzer-package html
regressIntensity html
rliPlot html
rowScaling html
summarizeIntensities html
** building package indices
** installing vignettes
** testing if installed package can be loaded from temporary location
** testing if installed package can be loaded from final location
** testing if installed package keeps a record of temporary installation path
install for x64
* installing *source* package 'qPLEXanalyzer' ...
** testing if installed package can be loaded
* MD5 sums
packaged installation of 'qPLEXanalyzer' as qPLEXanalyzer_1.10.0.zip
* DONE (qPLEXanalyzer)