| Back to Multiple platform build/check report for BioC 3.13 |
|
This page was generated on 2021-10-15 15:05:49 -0400 (Fri, 15 Oct 2021).
|
To the developers/maintainers of the qPLEXanalyzer package: - Please allow up to 24 hours (and sometimes 48 hours) for your latest push to git@git.bioconductor.org:packages/qPLEXanalyzer.git to reflect on this report. See How and When does the builder pull? When will my changes propagate? here for more information. - Make sure to use the following settings in order to reproduce any error or warning you see on this page. |
| Package 1474/2041 | Hostname | OS / Arch | INSTALL | BUILD | CHECK | BUILD BIN | ||||||||
| qPLEXanalyzer 1.10.0 (landing page) Ashley Sawle
| nebbiolo1 | Linux (Ubuntu 20.04.2 LTS) / x86_64 | OK | OK | OK | |||||||||
| tokay2 | Windows Server 2012 R2 Standard / x64 | OK | OK | OK | OK | |||||||||
| machv2 | macOS 10.14.6 Mojave / x86_64 | OK | OK | OK | OK | |||||||||
| Package: qPLEXanalyzer |
| Version: 1.10.0 |
| Command: /home/biocbuild/bbs-3.13-bioc/R/bin/R CMD check --install=check:qPLEXanalyzer.install-out.txt --library=/home/biocbuild/bbs-3.13-bioc/R/library --no-vignettes --timings qPLEXanalyzer_1.10.0.tar.gz |
| StartedAt: 2021-10-14 11:11:08 -0400 (Thu, 14 Oct 2021) |
| EndedAt: 2021-10-14 11:13:56 -0400 (Thu, 14 Oct 2021) |
| EllapsedTime: 168.5 seconds |
| RetCode: 0 |
| Status: OK |
| CheckDir: qPLEXanalyzer.Rcheck |
| Warnings: 0 |
############################################################################## ############################################################################## ### ### Running command: ### ### /home/biocbuild/bbs-3.13-bioc/R/bin/R CMD check --install=check:qPLEXanalyzer.install-out.txt --library=/home/biocbuild/bbs-3.13-bioc/R/library --no-vignettes --timings qPLEXanalyzer_1.10.0.tar.gz ### ############################################################################## ############################################################################## * using log directory ‘/home/biocbuild/bbs-3.13-bioc/meat/qPLEXanalyzer.Rcheck’ * using R version 4.1.1 (2021-08-10) * using platform: x86_64-pc-linux-gnu (64-bit) * using session charset: UTF-8 * using option ‘--no-vignettes’ * checking for file ‘qPLEXanalyzer/DESCRIPTION’ ... OK * checking extension type ... Package * this is package ‘qPLEXanalyzer’ version ‘1.10.0’ * package encoding: UTF-8 * checking package namespace information ... OK * checking package dependencies ... OK * checking if this is a source package ... OK * checking if there is a namespace ... OK * checking for hidden files and directories ... OK * checking for portable file names ... OK * checking for sufficient/correct file permissions ... OK * checking whether package ‘qPLEXanalyzer’ can be installed ... OK * checking installed package size ... OK * checking package directory ... OK * checking ‘build’ directory ... OK * checking DESCRIPTION meta-information ... OK * checking top-level files ... OK * checking for left-over files ... OK * checking index information ... OK * checking package subdirectories ... OK * checking R files for non-ASCII characters ... OK * checking R files for syntax errors ... OK * checking whether the package can be loaded ... OK * checking whether the package can be loaded with stated dependencies ... OK * checking whether the package can be unloaded cleanly ... OK * checking whether the namespace can be loaded with stated dependencies ... OK * checking whether the namespace can be unloaded cleanly ... OK * checking dependencies in R code ... OK * checking S3 generic/method consistency ... OK * checking replacement functions ... OK * checking foreign function calls ... OK * checking R code for possible problems ... NOTE convertToMSnset: no visible binding for global variable ‘SampleName’ corrPlot: no visible binding for global variable ‘X’ corrPlot: no visible binding for global variable ‘AddValues’ corrPlot: no visible binding for global variable ‘Cor’ corrPlot: no visible binding for global variable ‘Y’ corrPlot: no visible binding for global variable ‘CorTxt’ coveragePlot: no visible binding for global variable ‘Accessions’ coveragePlot: no visible binding for global variable ‘Sequences’ getContrastResults: no visible binding for global variable ‘B’ getContrastResults: no visible binding for global variable ‘AveExpr’ getContrastResults: no visible binding for global variable ‘logFC’ groupScaling: no visible binding for global variable ‘sInt’ groupScaling: no visible binding for global variable ‘meanscaledIntensity’ hierarchicalPlot: no visible binding for global variable ‘x’ hierarchicalPlot: no visible binding for global variable ‘y’ hierarchicalPlot: no visible binding for global variable ‘xend’ hierarchicalPlot: no visible binding for global variable ‘yend’ hierarchicalPlot: no visible binding for global variable ‘SampleName’ intensityBoxplot: no visible binding for global variable ‘Intensity’ intensityBoxplot: no visible binding for global variable ‘logInt’ intensityBoxplot: no visible binding for global variable ‘SampleName’ intensityPlot: no visible binding for global variable ‘Intensity’ intensityPlot: no visible binding for global variable ‘SampleName’ maVolPlot: no visible binding for global variable ‘group’ maVolPlot: no visible binding for global variable ‘adj.P.Val’ maVolPlot: no visible binding for global variable ‘GeneSymbol’ maVolPlot: no visible binding for global variable ‘SymbolLab’ mergePeptides: no visible binding for global variable ‘Accessions’ mergePeptides: no visible binding for global variable ‘Sequences’ mergePeptides: no visible binding for global variable ‘phosseqid’ mergePeptides: no visible global function definition for ‘where’ mergePeptides: no visible binding for global variable ‘Count’ peptideIntensityPlot: no visible binding for global variable ‘PeptideID’ peptideIntensityPlot: no visible binding for global variable ‘Intensity’ peptideIntensityPlot: no visible binding for global variable ‘Accessions’ peptideIntensityPlot: no visible binding for global variable ‘SampleName’ peptideIntensityPlot: no visible binding for global variable ‘logIntensity’ peptideIntensityPlot: no visible binding for global variable ‘Sequences’ peptideIntensityPlot: no visible binding for global variable ‘Modifications’ plotMeanVar: no visible binding for global variable ‘x’ plotMeanVar: no visible binding for global variable ‘y’ plotMeanVar: no visible binding for global variable ‘Mean’ plotMeanVar: no visible binding for global variable ‘Variance’ rliPlot: no visible binding for global variable ‘RowID’ rliPlot: no visible binding for global variable ‘Intensity’ rliPlot: no visible binding for global variable ‘logInt’ rliPlot: no visible binding for global variable ‘medianLogInt’ rliPlot: no visible binding for global variable ‘SampleName’ rliPlot: no visible binding for global variable ‘RLI’ summarizeIntensities: no visible binding for global variable ‘Accessions’ summarizeIntensities: no visible binding for global variable ‘Sequences’ summarizeIntensities: no visible global function definition for ‘where’ summarizeIntensities: no visible binding for global variable ‘Count’ Undefined global functions or variables: Accessions AddValues AveExpr B Cor CorTxt Count GeneSymbol Intensity Mean Modifications PeptideID RLI RowID SampleName Sequences SymbolLab Variance X Y adj.P.Val group logFC logInt logIntensity meanscaledIntensity medianLogInt phosseqid sInt where x xend y yend * checking Rd files ... OK * checking Rd metadata ... OK * checking Rd cross-references ... OK * checking for missing documentation entries ... OK * checking for code/documentation mismatches ... OK * checking Rd \usage sections ... OK * checking Rd contents ... OK * checking for unstated dependencies in examples ... OK * checking contents of ‘data’ directory ... OK * checking data for non-ASCII characters ... OK * checking data for ASCII and uncompressed saves ... OK * checking files in ‘vignettes’ ... OK * checking examples ... OK * checking for unstated dependencies in ‘tests’ ... OK * checking tests ... Running ‘testthat.R’ OK * checking for unstated dependencies in vignettes ... OK * checking package vignettes in ‘inst/doc’ ... OK * checking running R code from vignettes ... SKIPPED * checking re-building of vignette outputs ... SKIPPED * checking PDF version of manual ... OK * DONE Status: 1 NOTE See ‘/home/biocbuild/bbs-3.13-bioc/meat/qPLEXanalyzer.Rcheck/00check.log’ for details.
qPLEXanalyzer.Rcheck/00install.out
############################################################################## ############################################################################## ### ### Running command: ### ### /home/biocbuild/bbs-3.13-bioc/R/bin/R CMD INSTALL qPLEXanalyzer ### ############################################################################## ############################################################################## * installing to library ‘/home/biocbuild/bbs-3.13-bioc/R/library’ * installing *source* package ‘qPLEXanalyzer’ ... ** using staged installation ** R ** data ** inst ** byte-compile and prepare package for lazy loading Note: wrong number of arguments to '==' Note: wrong number of arguments to '==' ** help *** installing help indices ** building package indices ** installing vignettes ** testing if installed package can be loaded from temporary location ** testing if installed package can be loaded from final location ** testing if installed package keeps a record of temporary installation path * DONE (qPLEXanalyzer)
qPLEXanalyzer.Rcheck/tests/testthat.Rout
R version 4.1.1 (2021-08-10) -- "Kick Things"
Copyright (C) 2021 The R Foundation for Statistical Computing
Platform: x86_64-pc-linux-gnu (64-bit)
R is free software and comes with ABSOLUTELY NO WARRANTY.
You are welcome to redistribute it under certain conditions.
Type 'license()' or 'licence()' for distribution details.
R is a collaborative project with many contributors.
Type 'contributors()' for more information and
'citation()' on how to cite R or R packages in publications.
Type 'demo()' for some demos, 'help()' for on-line help, or
'help.start()' for an HTML browser interface to help.
Type 'q()' to quit R.
> library(testthat)
> library(vdiffr)
> library(qPLEXanalyzer)
Loading required package: Biobase
Loading required package: BiocGenerics
Loading required package: parallel
Attaching package: 'BiocGenerics'
The following objects are masked from 'package:parallel':
clusterApply, clusterApplyLB, clusterCall, clusterEvalQ,
clusterExport, clusterMap, parApply, parCapply, parLapply,
parLapplyLB, parRapply, parSapply, parSapplyLB
The following objects are masked from 'package:stats':
IQR, mad, sd, var, xtabs
The following objects are masked from 'package:base':
Filter, Find, Map, Position, Reduce, anyDuplicated, append,
as.data.frame, basename, cbind, colnames, dirname, do.call,
duplicated, eval, evalq, get, grep, grepl, intersect, is.unsorted,
lapply, mapply, match, mget, order, paste, pmax, pmax.int, pmin,
pmin.int, rank, rbind, rownames, sapply, setdiff, sort, table,
tapply, union, unique, unsplit, which.max, which.min
Welcome to Bioconductor
Vignettes contain introductory material; view with
'browseVignettes()'. To cite Bioconductor, see
'citation("Biobase")', and for packages 'citation("pkgname")'.
Loading required package: MSnbase
Loading required package: mzR
Loading required package: Rcpp
Loading required package: S4Vectors
Loading required package: stats4
Attaching package: 'S4Vectors'
The following objects are masked from 'package:base':
I, expand.grid, unname
Loading required package: ProtGenerics
Attaching package: 'ProtGenerics'
The following object is masked from 'package:stats':
smooth
This is MSnbase version 2.18.0
Visit https://lgatto.github.io/MSnbase/ to get started.
Attaching package: 'MSnbase'
The following object is masked from 'package:base':
trimws
>
> options(lifecycle_verbosity = "warning")
> test_check("qPLEXanalyzer")
══ Skipped tests ═══════════════════════════════════════════════════════════════
• On CRAN (11)
[ FAIL 0 | WARN 10 | SKIP 11 | PASS 156 ]
>
> proc.time()
user system elapsed
22.214 0.847 23.050
qPLEXanalyzer.Rcheck/qPLEXanalyzer-Ex.timings
| name | user | system | elapsed | |
| IRSnorm | 4.059 | 0.132 | 4.192 | |
| assignColours | 0.241 | 0.012 | 0.252 | |
| computeDiffStats | 0.559 | 0.020 | 0.580 | |
| convertToMSnset | 0.227 | 0.004 | 0.231 | |
| corrPlot | 0.602 | 0.016 | 0.617 | |
| coveragePlot | 0.664 | 0.004 | 0.668 | |
| getContrastResults | 1.07 | 0.02 | 1.09 | |
| groupScaling | 0.298 | 0.008 | 0.306 | |
| hierarchicalPlot | 0.302 | 0.004 | 0.306 | |
| intensityBoxplot | 0.967 | 0.024 | 0.991 | |
| intensityPlot | 1.435 | 0.016 | 1.450 | |
| maVolPlot | 0.975 | 0.015 | 0.991 | |
| mergePeptides | 0.574 | 0.007 | 0.582 | |
| normalizeQuantiles | 0.275 | 0.016 | 0.290 | |
| normalizeScaling | 0.282 | 0.004 | 0.286 | |
| pcaPlot | 0.664 | 0.012 | 0.675 | |
| peptideIntensityPlot | 0.609 | 0.012 | 0.622 | |
| plotMeanVar | 0.687 | 0.008 | 0.695 | |
| regressIntensity | 1.965 | 0.016 | 1.981 | |
| rliPlot | 1.537 | 0.024 | 1.561 | |
| rowScaling | 0.522 | 0.016 | 0.538 | |
| summarizeIntensities | 0.416 | 0.000 | 0.416 | |