| Back to Multiple platform build/check report for BioC 3.13 |
|
This page was generated on 2021-10-15 15:06:16 -0400 (Fri, 15 Oct 2021).
|
To the developers/maintainers of the pmp package: - Please allow up to 24 hours (and sometimes 48 hours) for your latest push to git@git.bioconductor.org:packages/pmp.git to reflect on this report. See How and When does the builder pull? When will my changes propagate? here for more information. - Make sure to use the following settings in order to reproduce any error or warning you see on this page. |
| Package 1408/2041 | Hostname | OS / Arch | INSTALL | BUILD | CHECK | BUILD BIN | ||||||||
| pmp 1.4.0 (landing page) Gavin Rhys Lloyd
| nebbiolo1 | Linux (Ubuntu 20.04.2 LTS) / x86_64 | OK | OK | OK | |||||||||
| tokay2 | Windows Server 2012 R2 Standard / x64 | OK | OK | OK | OK | |||||||||
| machv2 | macOS 10.14.6 Mojave / x86_64 | OK | OK | OK | OK | |||||||||
| Package: pmp |
| Version: 1.4.0 |
| Command: chmod a+r pmp -R && C:\Users\biocbuild\bbs-3.13-bioc\R\bin\R.exe CMD build --keep-empty-dirs --no-resave-data pmp |
| StartedAt: 2021-10-14 16:58:53 -0400 (Thu, 14 Oct 2021) |
| EndedAt: 2021-10-14 17:08:29 -0400 (Thu, 14 Oct 2021) |
| EllapsedTime: 576.1 seconds |
| RetCode: 0 |
| Status: OK |
| PackageFile: pmp_1.4.0.tar.gz |
| PackageFileSize: 2.99 MiB |
############################################################################## ############################################################################## ### ### Running command: ### ### chmod a+r pmp -R && C:\Users\biocbuild\bbs-3.13-bioc\R\bin\R.exe CMD build --keep-empty-dirs --no-resave-data pmp ### ############################################################################## ############################################################################## * checking for file 'pmp/DESCRIPTION' ... OK * preparing 'pmp': * checking DESCRIPTION meta-information ... OK * installing the package to build vignettes * creating vignettes ... OK * checking for LF line-endings in source and make files and shell scripts * checking for empty or unneeded directories * building 'pmp_1.4.0.tar.gz'