| Back to Multiple platform build/check report for BioC 3.13 | 
 | 
This page was generated on 2021-10-15 15:06:16 -0400 (Fri, 15 Oct 2021).
| To the developers/maintainers of the pmp package: - Please allow up to 24 hours (and sometimes 48 hours) for your latest push to git@git.bioconductor.org:packages/pmp.git to reflect on this report. See How and When does the builder pull? When will my changes propagate? here for more information. - Make sure to use the following settings in order to reproduce any error or warning you see on this page. | 
| Package 1408/2041 | Hostname | OS / Arch | INSTALL | BUILD | CHECK | BUILD BIN | ||||||||
| pmp 1.4.0  (landing page) Gavin Rhys Lloyd 
 | nebbiolo1 | Linux (Ubuntu 20.04.2 LTS) / x86_64 | OK | OK | OK |  | ||||||||
| tokay2 | Windows Server 2012 R2 Standard / x64 | OK | OK | OK | OK |  | ||||||||
| machv2 | macOS 10.14.6 Mojave / x86_64 | OK | OK | OK | OK |  | ||||||||
| Package: pmp | 
| Version: 1.4.0 | 
| Command: rm -rf pmp.buildbin-libdir && mkdir pmp.buildbin-libdir && C:\Users\biocbuild\bbs-3.13-bioc\R\bin\R.exe CMD INSTALL --merge-multiarch --build --library=pmp.buildbin-libdir pmp_1.4.0.tar.gz | 
| StartedAt: 2021-10-15 11:01:05 -0400 (Fri, 15 Oct 2021) | 
| EndedAt: 2021-10-15 11:02:36 -0400 (Fri, 15 Oct 2021) | 
| EllapsedTime: 90.8 seconds | 
| RetCode: 0 | 
| Status: OK | 
| PackageFile: pmp_1.4.0.zip | 
| PackageFileSize: 3.288 MiB | 
##############################################################################
##############################################################################
###
### Running command:
###
###   rm -rf pmp.buildbin-libdir && mkdir pmp.buildbin-libdir && C:\Users\biocbuild\bbs-3.13-bioc\R\bin\R.exe CMD INSTALL --merge-multiarch --build --library=pmp.buildbin-libdir pmp_1.4.0.tar.gz
###
##############################################################################
##############################################################################
install for i386
* installing *source* package 'pmp' ...
** using staged installation
** R
** data
*** moving datasets to lazyload DB
** inst
** byte-compile and prepare package for lazy loading
** help
*** installing help indices
  converting help for package 'pmp'
    finding HTML links ... done
    MTBLS79                                 html  
    QCRSC                                   html  
    filter_peaks_by_blank                   html  
    filter_peaks_by_fraction                html  
    filter_peaks_by_rsd                     html  
    filter_samples_by_mv                    html  
    glog_plot_optimised_lambda              html  
    glog_transformation                     html  
    mv_imputation                           html  
    normalise_to_sum                        html  
    pqn_normalisation                       html  
    processing_history                      html  
    remove_peaks                            html  
    sbc_plot                                html  
** building package indices
** installing vignettes
** testing if installed package can be loaded from temporary location
** testing if installed package can be loaded from final location
** testing if installed package keeps a record of temporary installation path
install for x64
* installing *source* package 'pmp' ...
** testing if installed package can be loaded
* MD5 sums
packaged installation of 'pmp' as pmp_1.4.0.zip
* DONE (pmp)