| Back to Multiple platform build/check report for BioC 3.13 |
|
This page was generated on 2021-10-15 15:05:47 -0400 (Fri, 15 Oct 2021).
|
To the developers/maintainers of the openPrimeR package: - Please allow up to 24 hours (and sometimes 48 hours) for your latest push to git@git.bioconductor.org:packages/openPrimeR.git to reflect on this report. See How and When does the builder pull? When will my changes propagate? here for more information. - Make sure to use the following settings in order to reproduce any error or warning you see on this page. |
| Package 1313/2041 | Hostname | OS / Arch | INSTALL | BUILD | CHECK | BUILD BIN | ||||||||
| openPrimeR 1.14.0 (landing page) Matthias Döring
| nebbiolo1 | Linux (Ubuntu 20.04.2 LTS) / x86_64 | OK | OK | OK | |||||||||
| tokay2 | Windows Server 2012 R2 Standard / x64 | OK | OK | OK | OK | |||||||||
| machv2 | macOS 10.14.6 Mojave / x86_64 | OK | OK | OK | OK | |||||||||
| Package: openPrimeR |
| Version: 1.14.0 |
| Command: /home/biocbuild/bbs-3.13-bioc/R/bin/R CMD check --install=check:openPrimeR.install-out.txt --library=/home/biocbuild/bbs-3.13-bioc/R/library --no-vignettes --timings openPrimeR_1.14.0.tar.gz |
| StartedAt: 2021-10-14 10:52:46 -0400 (Thu, 14 Oct 2021) |
| EndedAt: 2021-10-14 10:56:19 -0400 (Thu, 14 Oct 2021) |
| EllapsedTime: 213.3 seconds |
| RetCode: 0 |
| Status: OK |
| CheckDir: openPrimeR.Rcheck |
| Warnings: 0 |
##############################################################################
##############################################################################
###
### Running command:
###
### /home/biocbuild/bbs-3.13-bioc/R/bin/R CMD check --install=check:openPrimeR.install-out.txt --library=/home/biocbuild/bbs-3.13-bioc/R/library --no-vignettes --timings openPrimeR_1.14.0.tar.gz
###
##############################################################################
##############################################################################
* using log directory ‘/home/biocbuild/bbs-3.13-bioc/meat/openPrimeR.Rcheck’
* using R version 4.1.1 (2021-08-10)
* using platform: x86_64-pc-linux-gnu (64-bit)
* using session charset: UTF-8
* using option ‘--no-vignettes’
* checking for file ‘openPrimeR/DESCRIPTION’ ... OK
* this is package ‘openPrimeR’ version ‘1.14.0’
* package encoding: UTF-8
* checking package namespace information ... OK
* checking package dependencies ... OK
* checking if this is a source package ... OK
* checking if there is a namespace ... OK
* checking for hidden files and directories ... NOTE
Found the following hidden files and directories:
.travis.yml
These were most likely included in error. See section ‘Package
structure’ in the ‘Writing R Extensions’ manual.
* checking for portable file names ... OK
* checking for sufficient/correct file permissions ... OK
* checking whether package ‘openPrimeR’ can be installed ... OK
* checking installed package size ... NOTE
installed size is 5.0Mb
sub-directories of 1Mb or more:
R 1.2Mb
extdata 3.3Mb
* checking package directory ... OK
* checking ‘build’ directory ... OK
* checking DESCRIPTION meta-information ... OK
* checking top-level files ... OK
* checking for left-over files ... OK
* checking index information ... OK
* checking package subdirectories ... OK
* checking R files for non-ASCII characters ... OK
* checking R files for syntax errors ... OK
* checking whether the package can be loaded ... OK
* checking whether the package can be loaded with stated dependencies ... OK
* checking whether the package can be unloaded cleanly ... OK
* checking whether the namespace can be loaded with stated dependencies ... OK
* checking whether the namespace can be unloaded cleanly ... OK
* checking dependencies in R code ... OK
* checking S3 generic/method consistency ... OK
* checking replacement functions ... OK
* checking foreign function calls ... OK
* checking R code for possible problems ... OK
* checking Rd files ... OK
* checking Rd metadata ... OK
* checking Rd cross-references ... OK
* checking for missing documentation entries ... OK
* checking for code/documentation mismatches ... OK
* checking Rd \usage sections ... OK
* checking Rd contents ... OK
* checking for unstated dependencies in examples ... OK
* checking contents of ‘data’ directory ... OK
* checking data for non-ASCII characters ... OK
* checking data for ASCII and uncompressed saves ... OK
* checking R/sysdata.rda ... OK
* checking files in ‘vignettes’ ... OK
* checking examples ... OK
Examples with CPU (user + system) or elapsed time > 5s
user system elapsed
PrimerDesign 13.517 4.826 12.316
Output 16.006 1.419 16.860
PrimerEval 5.458 1.919 4.551
Plots 5.359 1.011 5.590
* checking for unstated dependencies in ‘tests’ ... OK
* checking tests ...
Running ‘testthat.R’
OK
* checking for unstated dependencies in vignettes ... OK
* checking package vignettes in ‘inst/doc’ ... OK
* checking running R code from vignettes ... SKIPPED
* checking re-building of vignette outputs ... SKIPPED
* checking PDF version of manual ... OK
* DONE
Status: 2 NOTEs
See
‘/home/biocbuild/bbs-3.13-bioc/meat/openPrimeR.Rcheck/00check.log’
for details.
openPrimeR.Rcheck/00install.out
############################################################################## ############################################################################## ### ### Running command: ### ### /home/biocbuild/bbs-3.13-bioc/R/bin/R CMD INSTALL openPrimeR ### ############################################################################## ############################################################################## * installing to library ‘/home/biocbuild/bbs-3.13-bioc/R/library’ * installing *source* package ‘openPrimeR’ ... ** using staged installation ** R ** data ** inst ** byte-compile and prepare package for lazy loading ** help *** installing help indices ** building package indices ** installing vignettes ** testing if installed package can be loaded from temporary location The number of cores for was set to '2' by 'parallel_setup()'. ** testing if installed package can be loaded from final location The number of cores for was set to '2' by 'parallel_setup()'. ** testing if installed package keeps a record of temporary installation path * DONE (openPrimeR)
openPrimeR.Rcheck/tests/testthat.Rout
R version 4.1.1 (2021-08-10) -- "Kick Things"
Copyright (C) 2021 The R Foundation for Statistical Computing
Platform: x86_64-pc-linux-gnu (64-bit)
R is free software and comes with ABSOLUTELY NO WARRANTY.
You are welcome to redistribute it under certain conditions.
Type 'license()' or 'licence()' for distribution details.
R is a collaborative project with many contributors.
Type 'contributors()' for more information and
'citation()' on how to cite R or R packages in publications.
Type 'demo()' for some demos, 'help()' for on-line help, or
'help.start()' for an HTML browser interface to help.
Type 'q()' to quit R.
> require(testthat)
Loading required package: testthat
> require(openPrimeR)
Loading required package: openPrimeR
There are missing/non-functioning external tools.
To use the full potential of openPrimeR, please make sure
that the required versions of the speciied tools are
installed and that they are functional:
o MELTING (http://www.ebi.ac.uk/biomodels/tools/melting/)
o OligoArrayAux (http://unafold.rna.albany.edu/OligoArrayAux.php)
o MAFFT (http://mafft.cbrc.jp/alignment/software/)
The number of cores for was set to '2' by 'parallel_setup()'.
> #test_package("openPrimeR")
> test_check("openPrimeR")
══ Skipped tests ═══════════════════════════════════════════════════════════════
• MAFFT not available. (1)
• OligoArrayAux not available. (5)
• On Bioconductor (1)
• empty test (1)
[ FAIL 0 | WARN 6 | SKIP 8 | PASS 1474 ]
>
> proc.time()
user system elapsed
43.641 11.534 44.809
openPrimeR.Rcheck/openPrimeR-Ex.timings
| name | user | system | elapsed | |
| AnalysisStats | 1.907 | 0.080 | 1.988 | |
| Data | 0.537 | 0.045 | 0.582 | |
| Input | 0.943 | 0.050 | 0.997 | |
| Output | 16.006 | 1.419 | 16.860 | |
| Plots | 5.359 | 1.011 | 5.590 | |
| PrimerDesign | 13.517 | 4.826 | 12.316 | |
| PrimerEval | 5.458 | 1.919 | 4.551 | |
| Primers-method | 0.083 | 0.085 | 0.022 | |
| Scoring | 0.027 | 0.007 | 0.035 | |
| Settings | 0.754 | 0.210 | 0.963 | |
| Templates-method | 0.047 | 0.000 | 0.048 | |
| TemplatesFunctions | 0.270 | 0.066 | 0.336 | |
| runTutorial | 0.000 | 0.000 | 0.001 | |