| Back to Multiple platform build/check report for BioC 3.13 |
|
This page was generated on 2021-10-15 15:06:13 -0400 (Fri, 15 Oct 2021).
|
To the developers/maintainers of the myvariant package: - Please allow up to 24 hours (and sometimes 48 hours) for your latest push to git@git.bioconductor.org:packages/myvariant.git to reflect on this report. See How and When does the builder pull? When will my changes propagate? here for more information. - Make sure to use the following settings in order to reproduce any error or warning you see on this page. |
| Package 1240/2041 | Hostname | OS / Arch | INSTALL | BUILD | CHECK | BUILD BIN | ||||||||
| myvariant 1.22.0 (landing page) Adam Mark, Chunlei Wu
| nebbiolo1 | Linux (Ubuntu 20.04.2 LTS) / x86_64 | OK | OK | OK | |||||||||
| tokay2 | Windows Server 2012 R2 Standard / x64 | OK | OK | OK | OK | |||||||||
| machv2 | macOS 10.14.6 Mojave / x86_64 | OK | OK | OK | OK | |||||||||
| Package: myvariant |
| Version: 1.22.0 |
| Command: C:\Users\biocbuild\bbs-3.13-bioc\R\bin\R.exe CMD check --force-multiarch --install=check:myvariant.install-out.txt --library=C:\Users\biocbuild\bbs-3.13-bioc\R\library --no-vignettes --timings myvariant_1.22.0.tar.gz |
| StartedAt: 2021-10-15 02:32:58 -0400 (Fri, 15 Oct 2021) |
| EndedAt: 2021-10-15 02:39:37 -0400 (Fri, 15 Oct 2021) |
| EllapsedTime: 398.3 seconds |
| RetCode: 0 |
| Status: OK |
| CheckDir: myvariant.Rcheck |
| Warnings: 0 |
##############################################################################
##############################################################################
###
### Running command:
###
### C:\Users\biocbuild\bbs-3.13-bioc\R\bin\R.exe CMD check --force-multiarch --install=check:myvariant.install-out.txt --library=C:\Users\biocbuild\bbs-3.13-bioc\R\library --no-vignettes --timings myvariant_1.22.0.tar.gz
###
##############################################################################
##############################################################################
* using log directory 'C:/Users/biocbuild/bbs-3.13-bioc/meat/myvariant.Rcheck'
* using R version 4.1.1 (2021-08-10)
* using platform: x86_64-w64-mingw32 (64-bit)
* using session charset: ISO8859-1
* using option '--no-vignettes'
* checking for file 'myvariant/DESCRIPTION' ... OK
* checking extension type ... Package
* this is package 'myvariant' version '1.22.0'
* checking package namespace information ... OK
* checking package dependencies ... OK
* checking if this is a source package ... OK
* checking if there is a namespace ... OK
* checking for hidden files and directories ... OK
* checking for portable file names ... OK
* checking whether package 'myvariant' can be installed ... OK
* checking installed package size ... OK
* checking package directory ... OK
* checking 'build' directory ... OK
* checking DESCRIPTION meta-information ... NOTE
Malformed Description field: should contain one or more complete sentences.
* checking top-level files ... OK
* checking for left-over files ... OK
* checking index information ... OK
* checking package subdirectories ... OK
* checking R files for non-ASCII characters ... OK
* checking R files for syntax errors ... OK
* loading checks for arch 'i386'
** checking whether the package can be loaded ... OK
** checking whether the package can be loaded with stated dependencies ... OK
** checking whether the package can be unloaded cleanly ... OK
** checking whether the namespace can be loaded with stated dependencies ... OK
** checking whether the namespace can be unloaded cleanly ... OK
* loading checks for arch 'x64'
** checking whether the package can be loaded ... OK
** checking whether the package can be loaded with stated dependencies ... OK
** checking whether the package can be unloaded cleanly ... OK
** checking whether the namespace can be loaded with stated dependencies ... OK
** checking whether the namespace can be unloaded cleanly ... OK
* checking dependencies in R code ... NOTE
package 'methods' is used but not declared
* checking S3 generic/method consistency ... OK
* checking replacement functions ... OK
* checking foreign function calls ... OK
* checking R code for possible problems ... NOTE
.convertColumn4csv: no visible binding for global variable 'is'
.df2DF: no visible binding for global variable 'as'
.getIndels: no visible binding for global variable 'REF'
.getIndels: no visible binding for global variable 'ALT'
.unnest.df : <anonymous>: no visible global function definition for
'is'
.unnest.df : <anonymous>: no visible global function definition for
'setNames'
MyVariant: no visible global function definition for 'new'
formatHgvs: no visible global function definition for
'seqlevelsStyle<-'
validMyVariantObject: no visible global function definition for 'slot'
.request.get,MyVariant: no visible global function definition for
'capture.output'
.request.post,MyVariant: no visible global function definition for
'capture.output'
Undefined global functions or variables:
ALT REF as capture.output is new seqlevelsStyle<- setNames slot
Consider adding
importFrom("methods", "as", "is", "new", "slot")
importFrom("stats", "setNames")
importFrom("utils", "capture.output")
to your NAMESPACE file (and ensure that your DESCRIPTION Imports field
contains 'methods').
* checking Rd files ... OK
* checking Rd metadata ... OK
* checking Rd cross-references ... OK
* checking for missing documentation entries ... OK
* checking for code/documentation mismatches ... OK
* checking Rd \usage sections ... OK
* checking Rd contents ... OK
* checking for unstated dependencies in examples ... OK
* checking files in 'vignettes' ... OK
* checking examples ...
** running examples for arch 'i386' ... OK
** running examples for arch 'x64' ... OK
* checking for unstated dependencies in vignettes ... OK
* checking package vignettes in 'inst/doc' ... OK
* checking running R code from vignettes ... SKIPPED
* checking re-building of vignette outputs ... SKIPPED
* checking PDF version of manual ... OK
* DONE
Status: 3 NOTEs
See
'C:/Users/biocbuild/bbs-3.13-bioc/meat/myvariant.Rcheck/00check.log'
for details.
myvariant.Rcheck/00install.out
##############################################################################
##############################################################################
###
### Running command:
###
### C:\cygwin\bin\curl.exe -O http://155.52.207.165/BBS/3.13/bioc/src/contrib/myvariant_1.22.0.tar.gz && rm -rf myvariant.buildbin-libdir && mkdir myvariant.buildbin-libdir && C:\Users\biocbuild\bbs-3.13-bioc\R\bin\R.exe CMD INSTALL --merge-multiarch --build --library=myvariant.buildbin-libdir myvariant_1.22.0.tar.gz && C:\Users\biocbuild\bbs-3.13-bioc\R\bin\R.exe CMD INSTALL myvariant_1.22.0.zip && rm myvariant_1.22.0.tar.gz myvariant_1.22.0.zip
###
##############################################################################
##############################################################################
% Total % Received % Xferd Average Speed Time Time Time Current
Dload Upload Total Spent Left Speed
0 0 0 0 0 0 0 0 --:--:-- --:--:-- --:--:-- 0
100 17381 100 17381 0 0 135k 0 --:--:-- --:--:-- --:--:-- 135k
install for i386
* installing *source* package 'myvariant' ...
** using staged installation
** R
** inst
** byte-compile and prepare package for lazy loading
** help
*** installing help indices
converting help for package 'myvariant'
finding HTML links ... done
MyVariant-class html
MyVariant html
formatHgvs html
finding level-2 HTML links ... done
formatSingleHgvs html
getVariant html
getVariants html
metadata html
myvariant-package html
REDIRECT:topic Previous alias or file overwritten by alias: C:/Users/biocbuild/bbs-3.13-bioc/meat/myvariant.buildbin-libdir/00LOCK-myvariant/00new/myvariant/help/myvariant.html
queryVariant html
queryVariants html
** building package indices
** installing vignettes
** testing if installed package can be loaded from temporary location
** testing if installed package can be loaded from final location
** testing if installed package keeps a record of temporary installation path
install for x64
* installing *source* package 'myvariant' ...
** testing if installed package can be loaded
* MD5 sums
packaged installation of 'myvariant' as myvariant_1.22.0.zip
* DONE (myvariant)
* installing to library 'C:/Users/biocbuild/bbs-3.13-bioc/R/library'
package 'myvariant' successfully unpacked and MD5 sums checked
|
myvariant.Rcheck/examples_i386/myvariant-Ex.timings
|
myvariant.Rcheck/examples_x64/myvariant-Ex.timings
|