| Back to Multiple platform build/check report for BioC 3.13 |
|
This page was generated on 2021-10-15 15:05:45 -0400 (Fri, 15 Oct 2021).
|
To the developers/maintainers of the methylKit package: - Please allow up to 24 hours (and sometimes 48 hours) for your latest push to git@git.bioconductor.org:packages/methylKit.git to reflect on this report. See How and When does the builder pull? When will my changes propagate? here for more information. - Make sure to use the following settings in order to reproduce any error or warning you see on this page. |
| Package 1109/2041 | Hostname | OS / Arch | INSTALL | BUILD | CHECK | BUILD BIN | ||||||||
| methylKit 1.18.0 (landing page) Altuna Akalin
| nebbiolo1 | Linux (Ubuntu 20.04.2 LTS) / x86_64 | OK | OK | WARNINGS | |||||||||
| tokay2 | Windows Server 2012 R2 Standard / x64 | OK | OK | WARNINGS | OK | |||||||||
| machv2 | macOS 10.14.6 Mojave / x86_64 | OK | OK | WARNINGS | OK | |||||||||
| Package: methylKit |
| Version: 1.18.0 |
| Command: /home/biocbuild/bbs-3.13-bioc/R/bin/R CMD INSTALL methylKit |
| StartedAt: 2021-10-14 06:27:11 -0400 (Thu, 14 Oct 2021) |
| EndedAt: 2021-10-14 06:28:06 -0400 (Thu, 14 Oct 2021) |
| EllapsedTime: 54.9 seconds |
| RetCode: 0 |
| Status: OK |
##############################################################################
##############################################################################
###
### Running command:
###
### /home/biocbuild/bbs-3.13-bioc/R/bin/R CMD INSTALL methylKit
###
##############################################################################
##############################################################################
* installing to library ‘/home/biocbuild/bbs-3.13-bioc/R/library’
* installing *source* package ‘methylKit’ ...
** using staged installation
** libs
g++ -std=gnu++11 -I"/home/biocbuild/bbs-3.13-bioc/R/include" -DNDEBUG -D_FILE_OFFSET_BITS=64 -I'/home/biocbuild/bbs-3.13-bioc/R/library/Rcpp/include' -I'/home/biocbuild/bbs-3.13-bioc/R/library/Rhtslib/include' -I'/home/biocbuild/bbs-3.13-bioc/R/library/zlibbioc/include' -I/usr/local/include -fpic -g -O2 -Wall -c RcppExports.cpp -o RcppExports.o
g++ -std=gnu++11 -I"/home/biocbuild/bbs-3.13-bioc/R/include" -DNDEBUG -D_FILE_OFFSET_BITS=64 -I'/home/biocbuild/bbs-3.13-bioc/R/library/Rcpp/include' -I'/home/biocbuild/bbs-3.13-bioc/R/library/Rhtslib/include' -I'/home/biocbuild/bbs-3.13-bioc/R/library/zlibbioc/include' -I/usr/local/include -fpic -g -O2 -Wall -c methCall.cpp -o methCall.o
methCall.cpp: In function ‘int process_sam(std::istream*, std::string&, std::string&, std::string&, int&, int&, int&, int, int, size_t&)’:
methCall.cpp:687:39: warning: ‘CHGout’ may be used uninitialized in this function [-Wmaybe-uninitialized]
687 | if(CHGstatus){ processCHmethHash(CHGmethHash,CHGout,mincov);}
| ~~~~~~~~~~~~~~~~~^~~~~~~~~~~~~~~~~~~~~~~~~~~
methCall.cpp:686:39: warning: ‘CHHout’ may be used uninitialized in this function [-Wmaybe-uninitialized]
686 | if(CHHstatus){ processCHmethHash(CHHmethHash,CHHout,mincov); }
| ~~~~~~~~~~~~~~~~~^~~~~~~~~~~~~~~~~~~~~~~~~~~
methCall.cpp:685:39: warning: ‘out’ may be used uninitialized in this function [-Wmaybe-uninitialized]
685 | if(CpGstatus){ processCGmethHash(CGmethHash,out,mincov);}
| ~~~~~~~~~~~~~~~~~^~~~~~~~~~~~~~~~~~~~~~~
methCall.cpp: In function ‘int process_bam(std::string&, std::string&, std::string&, std::string&, int&, int&, int&, int, size_t&)’:
methCall.cpp:1014:39: warning: ‘CHGout’ may be used uninitialized in this function [-Wmaybe-uninitialized]
1014 | if(CHGstatus){ processCHmethHash(CHGmethHash,CHGout,mincov);}
| ~~~~~~~~~~~~~~~~~^~~~~~~~~~~~~~~~~~~~~~~~~~~
methCall.cpp:1013:39: warning: ‘CHHout’ may be used uninitialized in this function [-Wmaybe-uninitialized]
1013 | if(CHHstatus){ processCHmethHash(CHHmethHash,CHHout,mincov); }
| ~~~~~~~~~~~~~~~~~^~~~~~~~~~~~~~~~~~~~~~~~~~~
methCall.cpp:1012:39: warning: ‘out’ may be used uninitialized in this function [-Wmaybe-uninitialized]
1012 | if(CpGstatus){ processCGmethHash(CGmethHash,out,mincov);}
| ~~~~~~~~~~~~~~~~~^~~~~~~~~~~~~~~~~~~~~~~
methCall.cpp: In function ‘int process_single_bismark(std::istream*, std::string&, std::string&, std::string&, int&, int&, int&, size_t&)’:
methCall.cpp:1244:39: warning: ‘CHGout’ may be used uninitialized in this function [-Wmaybe-uninitialized]
1244 | if(CHGstatus){ processCHmethHash(CHGmethHash,CHGout,mincov);}
| ~~~~~~~~~~~~~~~~~^~~~~~~~~~~~~~~~~~~~~~~~~~~
methCall.cpp:1243:39: warning: ‘CHHout’ may be used uninitialized in this function [-Wmaybe-uninitialized]
1243 | if(CHHstatus){ processCHmethHash(CHHmethHash,CHHout,mincov); }
| ~~~~~~~~~~~~~~~~~^~~~~~~~~~~~~~~~~~~~~~~~~~~
methCall.cpp:1242:39: warning: ‘out’ may be used uninitialized in this function [-Wmaybe-uninitialized]
1242 | if(CpGstatus){ processCGmethHash(CGmethHash,out,mincov);}
| ~~~~~~~~~~~~~~~~~^~~~~~~~~~~~~~~~~~~~~~~
g++ -std=gnu++11 -shared -L/home/biocbuild/bbs-3.13-bioc/R/lib -L/usr/local/lib -o methylKit.so RcppExports.o methCall.o /home/biocbuild/bbs-3.13-bioc/R/library/Rhtslib/usrlib/libhts.a -lcurl -L/home/biocbuild/bbs-3.13-bioc/R/lib -lR
installing to /home/biocbuild/bbs-3.13-bioc/R/library/00LOCK-methylKit/00new/methylKit/libs
** R
** data
** inst
** byte-compile and prepare package for lazy loading
** help
*** installing help indices
** building package indices
** installing vignettes
** testing if installed package can be loaded from temporary location
** checking absolute paths in shared objects and dynamic libraries
** testing if installed package can be loaded from final location
** testing if installed package keeps a record of temporary installation path
* DONE (methylKit)