| Back to Multiple platform build/check report for BioC 3.13 | 
  | 
This page was generated on 2021-10-15 15:06:08 -0400 (Fri, 15 Oct 2021).
| 
To the developers/maintainers of the impute package: - Please allow up to 24 hours (and sometimes 48 hours) for your latest push to git@git.bioconductor.org:packages/impute.git to reflect on this report. See How and When does the builder pull? When will my changes propagate? here for more information. - Make sure to use the following settings in order to reproduce any error or warning you see on this page.  | 
| Package 918/2041 | Hostname | OS / Arch | INSTALL | BUILD | CHECK | BUILD BIN | ||||||||
| impute 1.66.0  (landing page) Balasubramanian Narasimhan 
  | nebbiolo1 | Linux (Ubuntu 20.04.2 LTS) / x86_64 | OK | OK | OK | |||||||||
| tokay2 | Windows Server 2012 R2 Standard / x64 | OK | OK | OK | OK | |||||||||
| machv2 | macOS 10.14.6 Mojave / x86_64 | OK | OK | OK | OK | |||||||||
| Package: impute | 
| Version: 1.66.0 | 
| Command: rm -rf impute.buildbin-libdir && mkdir impute.buildbin-libdir && C:\Users\biocbuild\bbs-3.13-bioc\R\bin\R.exe CMD INSTALL --merge-multiarch --build --library=impute.buildbin-libdir impute_1.66.0.tar.gz | 
| StartedAt: 2021-10-15 09:55:21 -0400 (Fri, 15 Oct 2021) | 
| EndedAt: 2021-10-15 09:56:52 -0400 (Fri, 15 Oct 2021) | 
| EllapsedTime: 91.1 seconds | 
| RetCode: 0 | 
| Status: OK | 
| PackageFile: impute_1.66.0.zip | 
| PackageFileSize: 664.1 KiB | 
##############################################################################
##############################################################################
###
### Running command:
###
###   rm -rf impute.buildbin-libdir && mkdir impute.buildbin-libdir && C:\Users\biocbuild\bbs-3.13-bioc\R\bin\R.exe CMD INSTALL --merge-multiarch --build --library=impute.buildbin-libdir impute_1.66.0.tar.gz
###
##############################################################################
##############################################################################
install for i386
* installing *source* package 'impute' ...
** using staged installation
** libs
"C:/rtools40/mingw32/bin/"gfortran  -fno-optimize-sibling-calls    -O2  -mfpmath=sse -msse2 -mstackrealign  -c knnimpute.f -o knnimpute.o
C:/rtools40/mingw32/bin/gcc -shared -s -static-libgcc -o impute.dll tmp.def knnimpute.o -Lc:/extsoft/lib/i386 -Lc:/extsoft/lib -lgfortran -lm -lquadmath -LC:/Users/BIOCBU~1/BBS-3~1.13-/R/bin/i386 -lR
installing to C:/Users/biocbuild/bbs-3.13-bioc/meat/impute.buildbin-libdir/00LOCK-impute/00new/impute/libs/i386
** R
** data
** byte-compile and prepare package for lazy loading
** help
*** installing help indices
  converting help for package 'impute'
    finding HTML links ... done
    impute.knn                              html  
    khanmiss                                html  
** building package indices
** testing if installed package can be loaded from temporary location
** testing if installed package can be loaded from final location
** testing if installed package keeps a record of temporary installation path
install for x64
* installing *source* package 'impute' ...
** libs
"C:/rtools40/mingw64/bin/"gfortran  -fno-optimize-sibling-calls    -O2  -mfpmath=sse -msse2 -mstackrealign  -c knnimpute.f -o knnimpute.o
C:/rtools40/mingw64/bin/gcc -shared -s -static-libgcc -o impute.dll tmp.def knnimpute.o -LC:/extsoft/lib/x64 -LC:/extsoft/lib -lgfortran -lm -lquadmath -LC:/Users/BIOCBU~1/BBS-3~1.13-/R/bin/x64 -lR
installing to C:/Users/biocbuild/bbs-3.13-bioc/meat/impute.buildbin-libdir/impute/libs/x64
** testing if installed package can be loaded
* MD5 sums
packaged installation of 'impute' as impute_1.66.0.zip
* DONE (impute)