| Back to Multiple platform build/check report for BioC 3.13 |
|
This page was generated on 2021-10-15 15:06:39 -0400 (Fri, 15 Oct 2021).
|
To the developers/maintainers of the impute package: - Please allow up to 24 hours (and sometimes 48 hours) for your latest push to git@git.bioconductor.org:packages/impute.git to reflect on this report. See How and When does the builder pull? When will my changes propagate? here for more information. - Make sure to use the following settings in order to reproduce any error or warning you see on this page. |
| Package 918/2041 | Hostname | OS / Arch | INSTALL | BUILD | CHECK | BUILD BIN | ||||||||
| impute 1.66.0 (landing page) Balasubramanian Narasimhan
| nebbiolo1 | Linux (Ubuntu 20.04.2 LTS) / x86_64 | OK | OK | OK | |||||||||
| tokay2 | Windows Server 2012 R2 Standard / x64 | OK | OK | OK | OK | |||||||||
| machv2 | macOS 10.14.6 Mojave / x86_64 | OK | OK | OK | OK | |||||||||
| Package: impute |
| Version: 1.66.0 |
| Command: /Library/Frameworks/R.framework/Versions/Current/Resources/bin/R CMD check --install=check:impute.install-out.txt --library=/Library/Frameworks/R.framework/Versions/Current/Resources/library --no-vignettes --timings impute_1.66.0.tar.gz |
| StartedAt: 2021-10-14 20:11:13 -0400 (Thu, 14 Oct 2021) |
| EndedAt: 2021-10-14 20:11:36 -0400 (Thu, 14 Oct 2021) |
| EllapsedTime: 22.6 seconds |
| RetCode: 0 |
| Status: OK |
| CheckDir: impute.Rcheck |
| Warnings: 0 |
############################################################################## ############################################################################## ### ### Running command: ### ### /Library/Frameworks/R.framework/Versions/Current/Resources/bin/R CMD check --install=check:impute.install-out.txt --library=/Library/Frameworks/R.framework/Versions/Current/Resources/library --no-vignettes --timings impute_1.66.0.tar.gz ### ############################################################################## ############################################################################## * using log directory ‘/Users/biocbuild/bbs-3.13-bioc/meat/impute.Rcheck’ * using R version 4.1.1 (2021-08-10) * using platform: x86_64-apple-darwin17.0 (64-bit) * using session charset: UTF-8 * using option ‘--no-vignettes’ * checking for file ‘impute/DESCRIPTION’ ... OK * this is package ‘impute’ version ‘1.66.0’ * checking package namespace information ... OK * checking package dependencies ... OK * checking if this is a source package ... OK * checking if there is a namespace ... OK * checking for hidden files and directories ... NOTE Found the following hidden files and directories: .git_fetch_output.txt .git_merge_output.txt These were most likely included in error. See section ‘Package structure’ in the ‘Writing R Extensions’ manual. * checking for portable file names ... OK * checking for sufficient/correct file permissions ... OK * checking whether package ‘impute’ can be installed ... OK * checking installed package size ... OK * checking package directory ... OK * checking DESCRIPTION meta-information ... NOTE Malformed Description field: should contain one or more complete sentences. * checking top-level files ... OK * checking for left-over files ... OK * checking index information ... OK * checking package subdirectories ... OK * checking R files for non-ASCII characters ... OK * checking R files for syntax errors ... OK * checking whether the package can be loaded ... OK * checking whether the package can be loaded with stated dependencies ... OK * checking whether the package can be unloaded cleanly ... OK * checking whether the namespace can be loaded with stated dependencies ... OK * checking whether the namespace can be unloaded cleanly ... OK * checking dependencies in R code ... OK * checking S3 generic/method consistency ... OK * checking replacement functions ... OK * checking foreign function calls ... OK * checking R code for possible problems ... OK * checking Rd files ... OK * checking Rd metadata ... OK * checking Rd cross-references ... OK * checking for missing documentation entries ... OK * checking for code/documentation mismatches ... OK * checking Rd \usage sections ... OK * checking Rd contents ... OK * checking for unstated dependencies in examples ... OK * checking contents of ‘data’ directory ... OK * checking data for non-ASCII characters ... OK * checking data for ASCII and uncompressed saves ... OK * checking line endings in C/C++/Fortran sources/headers ... OK * checking compiled code ... NOTE Note: information on .o files is not available * checking examples ... OK * checking PDF version of manual ... OK * DONE Status: 3 NOTEs See ‘/Users/biocbuild/bbs-3.13-bioc/meat/impute.Rcheck/00check.log’ for details.
impute.Rcheck/00install.out
##############################################################################
##############################################################################
###
### Running command:
###
### /Library/Frameworks/R.framework/Versions/Current/Resources/bin/R CMD INSTALL impute
###
##############################################################################
##############################################################################
* installing to library ‘/Library/Frameworks/R.framework/Versions/4.1/Resources/library’
* installing *source* package ‘impute’ ...
** using staged installation
** libs
gfortran -mmacosx-version-min=10.13 -fno-optimize-sibling-calls -fPIC -Wall -g -O2 -c knnimpute.f -o knnimpute.o
f951: Warning: Nonconforming tab character in column 1 of line 89 [-Wtabs]
f951: Warning: Nonconforming tab character in column 1 of line 91 [-Wtabs]
f951: Warning: Nonconforming tab character in column 1 of line 92 [-Wtabs]
f951: Warning: Nonconforming tab character in column 1 of line 93 [-Wtabs]
f951: Warning: Nonconforming tab character in column 1 of line 94 [-Wtabs]
f951: Warning: Nonconforming tab character in column 1 of line 95 [-Wtabs]
f951: Warning: Nonconforming tab character in column 1 of line 96 [-Wtabs]
f951: Warning: Nonconforming tab character in column 1 of line 97 [-Wtabs]
f951: Warning: Nonconforming tab character in column 1 of line 98 [-Wtabs]
f951: Warning: Nonconforming tab character in column 3 of line 99 [-Wtabs]
f951: Warning: Nonconforming tab character in column 1 of line 100 [-Wtabs]
f951: Warning: Nonconforming tab character in column 1 of line 101 [-Wtabs]
f951: Warning: Nonconforming tab character in column 1 of line 102 [-Wtabs]
f951: Warning: Nonconforming tab character in column 1 of line 103 [-Wtabs]
f951: Warning: Nonconforming tab character in column 3 of line 104 [-Wtabs]
f951: Warning: Nonconforming tab character in column 1 of line 105 [-Wtabs]
f951: Warning: Nonconforming tab character in column 1 of line 106 [-Wtabs]
f951: Warning: Nonconforming tab character in column 1 of line 107 [-Wtabs]
f951: Warning: Nonconforming tab character in column 1 of line 108 [-Wtabs]
f951: Warning: Nonconforming tab character in column 1 of line 109 [-Wtabs]
f951: Warning: Nonconforming tab character in column 1 of line 110 [-Wtabs]
f951: Warning: Nonconforming tab character in column 1 of line 111 [-Wtabs]
f951: Warning: Nonconforming tab character in column 1 of line 112 [-Wtabs]
f951: Warning: Nonconforming tab character in column 3 of line 113 [-Wtabs]
f951: Warning: Nonconforming tab character in column 1 of line 114 [-Wtabs]
f951: Warning: Nonconforming tab character in column 1 of line 115 [-Wtabs]
f951: Warning: Nonconforming tab character in column 1 of line 116 [-Wtabs]
f951: Warning: Nonconforming tab character in column 1 of line 117 [-Wtabs]
f951: Warning: Nonconforming tab character in column 3 of line 118 [-Wtabs]
f951: Warning: Nonconforming tab character in column 3 of line 119 [-Wtabs]
f951: Warning: Nonconforming tab character in column 3 of line 120 [-Wtabs]
f951: Warning: Nonconforming tab character in column 1 of line 121 [-Wtabs]
f951: Warning: Nonconforming tab character in column 1 of line 122 [-Wtabs]
knnimpute.f:168:0:
ratio=dabs(dnew-dold)/dold
Warning: ‘dold’ may be used uninitialized in this function [-Wmaybe-uninitialized]
clang -mmacosx-version-min=10.13 -dynamiclib -Wl,-headerpad_max_install_names -undefined dynamic_lookup -single_module -multiply_defined suppress -L/Library/Frameworks/R.framework/Resources/lib -L/usr/local/lib -o impute.so knnimpute.o -L/usr/local/gfortran/lib/gcc/x86_64-apple-darwin18/8.2.0 -L/usr/local/gfortran/lib -lgfortran -lquadmath -lm -F/Library/Frameworks/R.framework/.. -framework R -Wl,-framework -Wl,CoreFoundation
installing to /Library/Frameworks/R.framework/Versions/4.1/Resources/library/00LOCK-impute/00new/impute/libs
** R
** data
** byte-compile and prepare package for lazy loading
** help
*** installing help indices
** building package indices
** testing if installed package can be loaded from temporary location
** checking absolute paths in shared objects and dynamic libraries
** testing if installed package can be loaded from final location
** testing if installed package keeps a record of temporary installation path
* DONE (impute)
impute.Rcheck/impute-Ex.timings
| name | user | system | elapsed | |
| impute.knn | 0.479 | 0.034 | 0.515 | |
| khanmiss | 0.155 | 0.003 | 0.158 | |