| Back to Multiple platform build/check report for BioC 3.13 |
|
This page was generated on 2021-10-15 15:05:41 -0400 (Fri, 15 Oct 2021).
|
To the developers/maintainers of the gep2pep package: - Please allow up to 24 hours (and sometimes 48 hours) for your latest push to git@git.bioconductor.org:packages/gep2pep.git to reflect on this report. See How and When does the builder pull? When will my changes propagate? here for more information. - Make sure to use the following settings in order to reproduce any error or warning you see on this page. |
| Package 759/2041 | Hostname | OS / Arch | INSTALL | BUILD | CHECK | BUILD BIN | ||||||||
| gep2pep 1.12.0 (landing page) Francesco Napolitano
| nebbiolo1 | Linux (Ubuntu 20.04.2 LTS) / x86_64 | OK | OK | OK | |||||||||
| tokay2 | Windows Server 2012 R2 Standard / x64 | OK | OK | OK | OK | |||||||||
| machv2 | macOS 10.14.6 Mojave / x86_64 | OK | OK | OK | OK | |||||||||
| Package: gep2pep |
| Version: 1.12.0 |
| Command: /home/biocbuild/bbs-3.13-bioc/R/bin/R CMD check --install=check:gep2pep.install-out.txt --library=/home/biocbuild/bbs-3.13-bioc/R/library --no-vignettes --timings gep2pep_1.12.0.tar.gz |
| StartedAt: 2021-10-14 10:00:02 -0400 (Thu, 14 Oct 2021) |
| EndedAt: 2021-10-14 10:01:53 -0400 (Thu, 14 Oct 2021) |
| EllapsedTime: 110.3 seconds |
| RetCode: 0 |
| Status: OK |
| CheckDir: gep2pep.Rcheck |
| Warnings: 0 |
############################################################################## ############################################################################## ### ### Running command: ### ### /home/biocbuild/bbs-3.13-bioc/R/bin/R CMD check --install=check:gep2pep.install-out.txt --library=/home/biocbuild/bbs-3.13-bioc/R/library --no-vignettes --timings gep2pep_1.12.0.tar.gz ### ############################################################################## ############################################################################## * using log directory ‘/home/biocbuild/bbs-3.13-bioc/meat/gep2pep.Rcheck’ * using R version 4.1.1 (2021-08-10) * using platform: x86_64-pc-linux-gnu (64-bit) * using session charset: UTF-8 * using option ‘--no-vignettes’ * checking for file ‘gep2pep/DESCRIPTION’ ... OK * checking extension type ... Package * this is package ‘gep2pep’ version ‘1.12.0’ * package encoding: UTF-8 * checking package namespace information ... OK * checking package dependencies ... OK * checking if this is a source package ... OK * checking if there is a namespace ... OK * checking for hidden files and directories ... OK * checking for portable file names ... OK * checking for sufficient/correct file permissions ... OK * checking whether package ‘gep2pep’ can be installed ... OK * checking installed package size ... OK * checking package directory ... OK * checking ‘build’ directory ... OK * checking DESCRIPTION meta-information ... OK * checking top-level files ... OK * checking for left-over files ... OK * checking index information ... OK * checking package subdirectories ... OK * checking R files for non-ASCII characters ... OK * checking R files for syntax errors ... OK * checking whether the package can be loaded ... OK * checking whether the package can be loaded with stated dependencies ... OK * checking whether the package can be unloaded cleanly ... OK * checking whether the namespace can be loaded with stated dependencies ... OK * checking whether the namespace can be unloaded cleanly ... OK * checking dependencies in R code ... OK * checking S3 generic/method consistency ... OK * checking replacement functions ... OK * checking foreign function calls ... OK * checking R code for possible problems ... OK * checking Rd files ... OK * checking Rd metadata ... OK * checking Rd cross-references ... OK * checking for missing documentation entries ... OK * checking for code/documentation mismatches ... OK * checking Rd \usage sections ... OK * checking Rd contents ... OK * checking for unstated dependencies in examples ... OK * checking files in ‘vignettes’ ... OK * checking examples ... OK * checking for unstated dependencies in ‘tests’ ... OK * checking tests ... Running ‘testthat.R’ OK * checking for unstated dependencies in vignettes ... OK * checking package vignettes in ‘inst/doc’ ... OK * checking running R code from vignettes ... SKIPPED * checking re-building of vignette outputs ... SKIPPED * checking PDF version of manual ... OK * DONE Status: OK
gep2pep.Rcheck/00install.out
############################################################################## ############################################################################## ### ### Running command: ### ### /home/biocbuild/bbs-3.13-bioc/R/bin/R CMD INSTALL gep2pep ### ############################################################################## ############################################################################## * installing to library ‘/home/biocbuild/bbs-3.13-bioc/R/library’ * installing *source* package ‘gep2pep’ ... ** using staged installation ** R ** inst ** byte-compile and prepare package for lazy loading ** help *** installing help indices ** building package indices ** installing vignettes ** testing if installed package can be loaded from temporary location ** testing if installed package can be loaded from final location ** testing if installed package keeps a record of temporary installation path * DONE (gep2pep)
gep2pep.Rcheck/tests/testthat.Rout
R version 4.1.1 (2021-08-10) -- "Kick Things"
Copyright (C) 2021 The R Foundation for Statistical Computing
Platform: x86_64-pc-linux-gnu (64-bit)
R is free software and comes with ABSOLUTELY NO WARRANTY.
You are welcome to redistribute it under certain conditions.
Type 'license()' or 'licence()' for distribution details.
R is a collaborative project with many contributors.
Type 'contributors()' for more information and
'citation()' on how to cite R or R packages in publications.
Type 'demo()' for some demos, 'help()' for on-line help, or
'help.start()' for an HTML browser interface to help.
Type 'q()' to quit R.
> library(testthat)
> library(gep2pep)
>
> test_check("gep2pep")
Chunk 1 of 2, 521 bytes (current file size: 4.3 Kb)
Chunk 2 of 2, 666 bytes (current file size: 16.3 Kb)
Chunk 1 of 2, 540 bytes (current file size: 4.3 Kb)
Chunk 2 of 2, 692 bytes (current file size: 16.3 Kb)
Chunk 1 of 2, 550 bytes (current file size: 4.3 Kb)
Chunk 2 of 2, 686 bytes (current file size: 16.3 Kb)
══ Skipped tests ═══════════════════════════════════════════════════════════════
• empty test (1)
[ FAIL 0 | WARN 0 | SKIP 1 | PASS 154 ]
>
> proc.time()
user system elapsed
11.012 0.684 11.801
gep2pep.Rcheck/gep2pep-Ex.timings
| name | user | system | elapsed | |
| CategorizedCollection | 0.106 | 0.004 | 0.109 | |
| CondSEA | 0.750 | 0.040 | 0.792 | |
| PathSEA | 0.602 | 0.032 | 0.635 | |
| addSingleGeneSets | 0.497 | 0.012 | 0.510 | |
| as.CategorizedCollection | 0.285 | 0.028 | 0.410 | |
| buildPEPs | 0.431 | 0.028 | 0.459 | |
| checkRepository | 0.178 | 0.004 | 0.182 | |
| clearCache | 0.587 | 0.032 | 0.618 | |
| createMergedRepository | 0.570 | 0.052 | 0.622 | |
| createRepository | 0.144 | 0.012 | 0.156 | |
| exportSEA | 0.429 | 0.028 | 0.457 | |
| gene2pathways | 0.176 | 0.008 | 0.185 | |
| getCollections | 0.140 | 0.012 | 0.152 | |
| getDetails | 0.419 | 0.032 | 0.451 | |
| getResults | 0.457 | 0.013 | 0.471 | |
| importFromRawMode | 0.475 | 0.018 | 0.493 | |
| importMSigDB.xml | 0.151 | 0.016 | 0.166 | |
| loadCollection | 0.145 | 0.012 | 0.158 | |
| loadESmatrix | 0.390 | 0.016 | 0.405 | |
| loadPVmatrix | 0.760 | 0.038 | 0.799 | |
| loadSampleGEP | 0.000 | 0.001 | 0.001 | |
| loadSamplePWS | 0.001 | 0.000 | 0.001 | |
| makeCollectionIDs | 0.033 | 0.000 | 0.032 | |
| openRepository | 0.134 | 0.020 | 0.155 | |
| setId2setName | 0.030 | 0.000 | 0.031 | |