| Back to Multiple platform build/check report for BioC 3.13 |
|
This page was generated on 2021-10-15 15:06:37 -0400 (Fri, 15 Oct 2021).
|
To the developers/maintainers of the gep2pep package: - Please allow up to 24 hours (and sometimes 48 hours) for your latest push to git@git.bioconductor.org:packages/gep2pep.git to reflect on this report. See How and When does the builder pull? When will my changes propagate? here for more information. - Make sure to use the following settings in order to reproduce any error or warning you see on this page. |
| Package 759/2041 | Hostname | OS / Arch | INSTALL | BUILD | CHECK | BUILD BIN | ||||||||
| gep2pep 1.12.0 (landing page) Francesco Napolitano
| nebbiolo1 | Linux (Ubuntu 20.04.2 LTS) / x86_64 | OK | OK | OK | |||||||||
| tokay2 | Windows Server 2012 R2 Standard / x64 | OK | OK | OK | OK | |||||||||
| machv2 | macOS 10.14.6 Mojave / x86_64 | OK | OK | OK | OK | |||||||||
| Package: gep2pep |
| Version: 1.12.0 |
| Command: /Library/Frameworks/R.framework/Versions/Current/Resources/bin/R CMD check --install=check:gep2pep.install-out.txt --library=/Library/Frameworks/R.framework/Versions/Current/Resources/library --no-vignettes --timings gep2pep_1.12.0.tar.gz |
| StartedAt: 2021-10-14 19:32:11 -0400 (Thu, 14 Oct 2021) |
| EndedAt: 2021-10-14 19:34:59 -0400 (Thu, 14 Oct 2021) |
| EllapsedTime: 168.1 seconds |
| RetCode: 0 |
| Status: OK |
| CheckDir: gep2pep.Rcheck |
| Warnings: 0 |
############################################################################## ############################################################################## ### ### Running command: ### ### /Library/Frameworks/R.framework/Versions/Current/Resources/bin/R CMD check --install=check:gep2pep.install-out.txt --library=/Library/Frameworks/R.framework/Versions/Current/Resources/library --no-vignettes --timings gep2pep_1.12.0.tar.gz ### ############################################################################## ############################################################################## * using log directory ‘/Users/biocbuild/bbs-3.13-bioc/meat/gep2pep.Rcheck’ * using R version 4.1.1 (2021-08-10) * using platform: x86_64-apple-darwin17.0 (64-bit) * using session charset: UTF-8 * using option ‘--no-vignettes’ * checking for file ‘gep2pep/DESCRIPTION’ ... OK * checking extension type ... Package * this is package ‘gep2pep’ version ‘1.12.0’ * package encoding: UTF-8 * checking package namespace information ... OK * checking package dependencies ... OK * checking if this is a source package ... OK * checking if there is a namespace ... OK * checking for hidden files and directories ... NOTE Found the following hidden files and directories: .git_fetch_output.txt .git_merge_output.txt These were most likely included in error. See section ‘Package structure’ in the ‘Writing R Extensions’ manual. * checking for portable file names ... OK * checking for sufficient/correct file permissions ... OK * checking whether package ‘gep2pep’ can be installed ... OK * checking installed package size ... OK * checking package directory ... OK * checking ‘build’ directory ... OK * checking DESCRIPTION meta-information ... OK * checking top-level files ... OK * checking for left-over files ... OK * checking index information ... OK * checking package subdirectories ... OK * checking R files for non-ASCII characters ... OK * checking R files for syntax errors ... OK * checking whether the package can be loaded ... OK * checking whether the package can be loaded with stated dependencies ... OK * checking whether the package can be unloaded cleanly ... OK * checking whether the namespace can be loaded with stated dependencies ... OK * checking whether the namespace can be unloaded cleanly ... OK * checking dependencies in R code ... OK * checking S3 generic/method consistency ... OK * checking replacement functions ... OK * checking foreign function calls ... OK * checking R code for possible problems ... OK * checking Rd files ... OK * checking Rd metadata ... OK * checking Rd cross-references ... OK * checking for missing documentation entries ... OK * checking for code/documentation mismatches ... OK * checking Rd \usage sections ... OK * checking Rd contents ... OK * checking for unstated dependencies in examples ... OK * checking files in ‘vignettes’ ... OK * checking examples ... OK * checking for unstated dependencies in ‘tests’ ... OK * checking tests ... Running ‘testthat.R’ OK * checking for unstated dependencies in vignettes ... OK * checking package vignettes in ‘inst/doc’ ... OK * checking running R code from vignettes ... SKIPPED * checking re-building of vignette outputs ... SKIPPED * checking PDF version of manual ... OK * DONE Status: 1 NOTE See ‘/Users/biocbuild/bbs-3.13-bioc/meat/gep2pep.Rcheck/00check.log’ for details.
gep2pep.Rcheck/00install.out
############################################################################## ############################################################################## ### ### Running command: ### ### /Library/Frameworks/R.framework/Versions/Current/Resources/bin/R CMD INSTALL gep2pep ### ############################################################################## ############################################################################## * installing to library ‘/Library/Frameworks/R.framework/Versions/4.1/Resources/library’ * installing *source* package ‘gep2pep’ ... ** using staged installation ** R ** inst ** byte-compile and prepare package for lazy loading ** help *** installing help indices ** building package indices ** installing vignettes ** testing if installed package can be loaded from temporary location ** testing if installed package can be loaded from final location ** testing if installed package keeps a record of temporary installation path * DONE (gep2pep)
gep2pep.Rcheck/tests/testthat.Rout
R version 4.1.1 (2021-08-10) -- "Kick Things"
Copyright (C) 2021 The R Foundation for Statistical Computing
Platform: x86_64-apple-darwin17.0 (64-bit)
R is free software and comes with ABSOLUTELY NO WARRANTY.
You are welcome to redistribute it under certain conditions.
Type 'license()' or 'licence()' for distribution details.
R is a collaborative project with many contributors.
Type 'contributors()' for more information and
'citation()' on how to cite R or R packages in publications.
Type 'demo()' for some demos, 'help()' for on-line help, or
'help.start()' for an HTML browser interface to help.
Type 'q()' to quit R.
> library(testthat)
> library(gep2pep)
>
> test_check("gep2pep")
Chunk 1 of 2, 521 bytes (current file size: 4.3 Kb)
Chunk 2 of 2, 666 bytes (current file size: 16.3 Kb)
Chunk 1 of 2, 540 bytes (current file size: 4.3 Kb)
Chunk 2 of 2, 692 bytes (current file size: 16.3 Kb)
Chunk 1 of 2, 550 bytes (current file size: 4.3 Kb)
Chunk 2 of 2, 686 bytes (current file size: 16.3 Kb)
══ Skipped tests ═══════════════════════════════════════════════════════════════
• empty test (1)
[ FAIL 0 | WARN 0 | SKIP 1 | PASS 154 ]
>
> proc.time()
user system elapsed
17.229 1.357 18.716
gep2pep.Rcheck/gep2pep-Ex.timings
| name | user | system | elapsed | |
| CategorizedCollection | 0.252 | 0.019 | 0.271 | |
| CondSEA | 1.032 | 0.102 | 1.142 | |
| PathSEA | 0.778 | 0.084 | 0.866 | |
| addSingleGeneSets | 0.886 | 0.045 | 0.933 | |
| as.CategorizedCollection | 0.531 | 0.064 | 0.598 | |
| buildPEPs | 0.757 | 0.082 | 0.843 | |
| checkRepository | 0.335 | 0.050 | 0.387 | |
| clearCache | 0.985 | 0.101 | 1.089 | |
| createMergedRepository | 0.894 | 0.135 | 1.035 | |
| createRepository | 0.263 | 0.045 | 0.310 | |
| exportSEA | 0.744 | 0.079 | 0.826 | |
| gene2pathways | 0.265 | 0.044 | 0.311 | |
| getCollections | 0.250 | 0.044 | 0.295 | |
| getDetails | 0.739 | 0.087 | 0.831 | |
| getResults | 0.755 | 0.082 | 0.844 | |
| importFromRawMode | 0.836 | 0.080 | 0.921 | |
| importMSigDB.xml | 0.223 | 0.038 | 0.262 | |
| loadCollection | 0.245 | 0.036 | 0.282 | |
| loadESmatrix | 0.690 | 0.082 | 0.823 | |
| loadPVmatrix | 1.048 | 0.084 | 1.140 | |
| loadSampleGEP | 0.001 | 0.001 | 0.001 | |
| loadSamplePWS | 0.002 | 0.000 | 0.003 | |
| makeCollectionIDs | 0.067 | 0.001 | 0.068 | |
| openRepository | 0.248 | 0.045 | 0.294 | |
| setId2setName | 0.078 | 0.008 | 0.084 | |