| Back to Multiple platform build/check report for BioC 3.13 |
|
This page was generated on 2021-10-15 15:06:02 -0400 (Fri, 15 Oct 2021).
|
To the developers/maintainers of the dce package: - Please allow up to 24 hours (and sometimes 48 hours) for your latest push to git@git.bioconductor.org:packages/dce.git to reflect on this report. See How and When does the builder pull? When will my changes propagate? here for more information. - Make sure to use the following settings in order to reproduce any error or warning you see on this page. |
| Package 447/2041 | Hostname | OS / Arch | INSTALL | BUILD | CHECK | BUILD BIN | ||||||||
| dce 1.0.0 (landing page) Kim Philipp Jablonski
| nebbiolo1 | Linux (Ubuntu 20.04.2 LTS) / x86_64 | OK | OK | OK | |||||||||
| tokay2 | Windows Server 2012 R2 Standard / x64 | OK | OK | OK | OK | |||||||||
| machv2 | macOS 10.14.6 Mojave / x86_64 | OK | OK | OK | OK | |||||||||
| Package: dce |
| Version: 1.0.0 |
| Command: rm -rf dce.buildbin-libdir && mkdir dce.buildbin-libdir && C:\Users\biocbuild\bbs-3.13-bioc\R\bin\R.exe CMD INSTALL --merge-multiarch --build --library=dce.buildbin-libdir dce_1.0.0.tar.gz |
| StartedAt: 2021-10-15 08:52:05 -0400 (Fri, 15 Oct 2021) |
| EndedAt: 2021-10-15 08:52:56 -0400 (Fri, 15 Oct 2021) |
| EllapsedTime: 51.1 seconds |
| RetCode: 0 |
| Status: OK |
| PackageFile: dce_1.0.0.zip |
| PackageFileSize: 1.333 MiB |
##############################################################################
##############################################################################
###
### Running command:
###
### rm -rf dce.buildbin-libdir && mkdir dce.buildbin-libdir && C:\Users\biocbuild\bbs-3.13-bioc\R\bin\R.exe CMD INSTALL --merge-multiarch --build --library=dce.buildbin-libdir dce_1.0.0.tar.gz
###
##############################################################################
##############################################################################
install for i386
* installing *source* package 'dce' ...
** using staged installation
** R
** data
*** moving datasets to lazyload DB
** inst
** byte-compile and prepare package for lazy loading
** help
*** installing help indices
converting help for package 'dce'
finding HTML links ... done
as.data.frame.dce html
as_adjmat html
create_random_DAG html
dce-methods html
dce_nb html
df_pathway_statistics html
estimate_latent_count html
g2dag html
get_pathway_info html
get_pathways html
get_prediction_counts html
graph2df html
graph_union html
pcor html
permutation_test html
plot.dce html
plot_network html
propagate_gene_edges html
resample_edge_weights html
rlm_dce html
simulate_data-methods html
summary.rlm_dce html
topologically_ordering html
trueEffects html
** building package indices
** installing vignettes
** testing if installed package can be loaded from temporary location
** testing if installed package can be loaded from final location
** testing if installed package keeps a record of temporary installation path
install for x64
* installing *source* package 'dce' ...
** testing if installed package can be loaded
* MD5 sums
packaged installation of 'dce' as dce_1.0.0.zip
* DONE (dce)