| Back to Multiple platform build/check report for BioC 3.13 |
|
This page was generated on 2021-10-15 15:06:33 -0400 (Fri, 15 Oct 2021).
|
To the developers/maintainers of the dce package: - Please allow up to 24 hours (and sometimes 48 hours) for your latest push to git@git.bioconductor.org:packages/dce.git to reflect on this report. See How and When does the builder pull? When will my changes propagate? here for more information. - Make sure to use the following settings in order to reproduce any error or warning you see on this page. |
| Package 447/2041 | Hostname | OS / Arch | INSTALL | BUILD | CHECK | BUILD BIN | ||||||||
| dce 1.0.0 (landing page) Kim Philipp Jablonski
| nebbiolo1 | Linux (Ubuntu 20.04.2 LTS) / x86_64 | OK | OK | OK | |||||||||
| tokay2 | Windows Server 2012 R2 Standard / x64 | OK | OK | OK | OK | |||||||||
| machv2 | macOS 10.14.6 Mojave / x86_64 | OK | OK | OK | OK | |||||||||
| Package: dce |
| Version: 1.0.0 |
| Command: /Library/Frameworks/R.framework/Versions/Current/Resources/bin/R CMD check --install=check:dce.install-out.txt --library=/Library/Frameworks/R.framework/Versions/Current/Resources/library --no-vignettes --timings dce_1.0.0.tar.gz |
| StartedAt: 2021-10-14 18:05:33 -0400 (Thu, 14 Oct 2021) |
| EndedAt: 2021-10-14 18:12:36 -0400 (Thu, 14 Oct 2021) |
| EllapsedTime: 423.1 seconds |
| RetCode: 0 |
| Status: OK |
| CheckDir: dce.Rcheck |
| Warnings: 0 |
############################################################################## ############################################################################## ### ### Running command: ### ### /Library/Frameworks/R.framework/Versions/Current/Resources/bin/R CMD check --install=check:dce.install-out.txt --library=/Library/Frameworks/R.framework/Versions/Current/Resources/library --no-vignettes --timings dce_1.0.0.tar.gz ### ############################################################################## ############################################################################## * using log directory ‘/Users/biocbuild/bbs-3.13-bioc/meat/dce.Rcheck’ * using R version 4.1.1 (2021-08-10) * using platform: x86_64-apple-darwin17.0 (64-bit) * using session charset: UTF-8 * using option ‘--no-vignettes’ * checking for file ‘dce/DESCRIPTION’ ... OK * checking extension type ... Package * this is package ‘dce’ version ‘1.0.0’ * package encoding: UTF-8 * checking package namespace information ... OK * checking package dependencies ... OK * checking if this is a source package ... OK * checking if there is a namespace ... OK * checking for hidden files and directories ... OK * checking for portable file names ... OK * checking for sufficient/correct file permissions ... OK * checking whether package ‘dce’ can be installed ... OK * checking installed package size ... OK * checking package directory ... OK * checking ‘build’ directory ... OK * checking DESCRIPTION meta-information ... OK * checking top-level files ... OK * checking for left-over files ... OK * checking index information ... OK * checking package subdirectories ... OK * checking R files for non-ASCII characters ... OK * checking R files for syntax errors ... OK * checking whether the package can be loaded ... OK * checking whether the package can be loaded with stated dependencies ... OK * checking whether the package can be unloaded cleanly ... OK * checking whether the namespace can be loaded with stated dependencies ... OK * checking whether the namespace can be unloaded cleanly ... OK * checking dependencies in R code ... OK * checking S3 generic/method consistency ... OK * checking replacement functions ... OK * checking foreign function calls ... OK * checking R code for possible problems ... NOTE as.data.frame.dce: no visible binding for global variable ‘.’ graph2df: no visible binding for global variable ‘.’ plot_network: no visible global function definition for ‘%T>%’ plot_network: no visible binding for global variable ‘.’ Undefined global functions or variables: %T>% . * checking Rd files ... OK * checking Rd metadata ... OK * checking Rd cross-references ... OK * checking for missing documentation entries ... OK * checking for code/documentation mismatches ... OK * checking Rd \usage sections ... OK * checking Rd contents ... OK * checking for unstated dependencies in examples ... OK * checking contents of ‘data’ directory ... OK * checking data for non-ASCII characters ... NOTE Note: found 6 marked UTF-8 strings * checking LazyData ... OK * checking data for ASCII and uncompressed saves ... OK * checking files in ‘vignettes’ ... OK * checking examples ... OK * checking for unstated dependencies in ‘tests’ ... OK * checking tests ... Running ‘testthat.R’ OK * checking for unstated dependencies in vignettes ... OK * checking package vignettes in ‘inst/doc’ ... OK * checking running R code from vignettes ... SKIPPED * checking re-building of vignette outputs ... SKIPPED * checking PDF version of manual ... OK * DONE Status: 2 NOTEs See ‘/Users/biocbuild/bbs-3.13-bioc/meat/dce.Rcheck/00check.log’ for details.
dce.Rcheck/00install.out
############################################################################## ############################################################################## ### ### Running command: ### ### /Library/Frameworks/R.framework/Versions/Current/Resources/bin/R CMD INSTALL dce ### ############################################################################## ############################################################################## * installing to library ‘/Library/Frameworks/R.framework/Versions/4.1/Resources/library’ * installing *source* package ‘dce’ ... ** using staged installation ** R ** data *** moving datasets to lazyload DB ** inst ** byte-compile and prepare package for lazy loading ** help *** installing help indices ** building package indices ** installing vignettes ** testing if installed package can be loaded from temporary location ** testing if installed package can be loaded from final location ** testing if installed package keeps a record of temporary installation path * DONE (dce)
dce.Rcheck/tests/testthat.Rout
R version 4.1.1 (2021-08-10) -- "Kick Things"
Copyright (C) 2021 The R Foundation for Statistical Computing
Platform: x86_64-apple-darwin17.0 (64-bit)
R is free software and comes with ABSOLUTELY NO WARRANTY.
You are welcome to redistribute it under certain conditions.
Type 'license()' or 'licence()' for distribution details.
R is a collaborative project with many contributors.
Type 'contributors()' for more information and
'citation()' on how to cite R or R packages in publications.
Type 'demo()' for some demos, 'help()' for on-line help, or
'help.start()' for an HTML browser interface to help.
Type 'q()' to quit R.
> library(testthat)
> library(dce)
> library(igraph)
Attaching package: 'igraph'
The following object is masked from 'package:testthat':
compare
The following objects are masked from 'package:stats':
decompose, spectrum
The following object is masked from 'package:base':
union
> library(tidyverse)
── Attaching packages ─────────────────────────────────────── tidyverse 1.3.1 ──
✔ ggplot2 3.3.5 ✔ purrr 0.3.4
✔ tibble 3.1.5 ✔ dplyr 1.0.7
✔ tidyr 1.1.4 ✔ stringr 1.4.0
✔ readr 2.0.2 ✔ forcats 0.5.1
── Conflicts ────────────────────────────────────────── tidyverse_conflicts() ──
✖ dplyr::as_data_frame() masks tibble::as_data_frame(), igraph::as_data_frame()
✖ purrr::compose() masks igraph::compose()
✖ tidyr::crossing() masks igraph::crossing()
✖ readr::edition_get() masks testthat::edition_get()
✖ dplyr::filter() masks stats::filter()
✖ dplyr::groups() masks igraph::groups()
✖ purrr::is_null() masks testthat::is_null()
✖ dplyr::lag() masks stats::lag()
✖ readr::local_edition() masks testthat::local_edition()
✖ dplyr::matches() masks tidyr::matches(), testthat::matches()
✖ purrr::simplify() masks igraph::simplify()
>
>
> test_check("dce")
══ Skipped tests ═══════════════════════════════════════════════════════════════
• empty test (5)
[ FAIL 0 | WARN 226 | SKIP 5 | PASS 40028 ]
>
> proc.time()
user system elapsed
129.501 3.170 132.746
dce.Rcheck/dce-Ex.timings
| name | user | system | elapsed | |
| as.data.frame.dce | 1.927 | 0.051 | 1.982 | |
| as_adjmat | 0.049 | 0.001 | 0.049 | |
| create_random_DAG | 0.034 | 0.000 | 0.035 | |
| dce-methods | 1.083 | 0.049 | 1.133 | |
| dce_nb | 3.742 | 0.294 | 4.121 | |
| estimate_latent_count | 1.363 | 0.067 | 1.431 | |
| g2dag | 0.353 | 0.026 | 0.380 | |
| get_pathway_info | 0.707 | 0.008 | 0.716 | |
| get_pathways | 3.984 | 0.078 | 4.067 | |
| get_prediction_counts | 0.003 | 0.001 | 0.004 | |
| graph2df | 0.056 | 0.002 | 0.058 | |
| graph_union | 0.192 | 0.006 | 0.198 | |
| pcor | 0.004 | 0.002 | 0.006 | |
| permutation_test | 0.035 | 0.003 | 0.037 | |
| plot.dce | 1.705 | 0.027 | 1.734 | |
| plot_network | 0.334 | 0.002 | 0.338 | |
| propagate_gene_edges | 0.240 | 0.004 | 0.244 | |
| resample_edge_weights | 0.007 | 0.000 | 0.007 | |
| simulate_data-methods | 0.053 | 0.003 | 0.056 | |
| topologically_ordering | 0.001 | 0.001 | 0.001 | |
| trueEffects | 0.007 | 0.001 | 0.008 | |