| Back to Multiple platform build/check report for BioC 3.13 | 
 | 
This page was generated on 2021-10-15 15:06:01 -0400 (Fri, 15 Oct 2021).
| To the developers/maintainers of the corral package: - Please allow up to 24 hours (and sometimes 48 hours) for your latest push to git@git.bioconductor.org:packages/corral.git to reflect on this report. See How and When does the builder pull? When will my changes propagate? here for more information. - Make sure to use the following settings in order to reproduce any error or warning you see on this page. | 
| Package 395/2041 | Hostname | OS / Arch | INSTALL | BUILD | CHECK | BUILD BIN | ||||||||
| corral 1.2.0  (landing page) Lauren Hsu 
 | nebbiolo1 | Linux (Ubuntu 20.04.2 LTS) / x86_64 | OK | OK | OK |  | ||||||||
| tokay2 | Windows Server 2012 R2 Standard / x64 | OK | OK | OK | OK |  | ||||||||
| machv2 | macOS 10.14.6 Mojave / x86_64 | OK | OK | OK | OK |  | ||||||||
| Package: corral | 
| Version: 1.2.0 | 
| Command: rm -rf corral.buildbin-libdir && mkdir corral.buildbin-libdir && C:\Users\biocbuild\bbs-3.13-bioc\R\bin\R.exe CMD INSTALL --merge-multiarch --build --library=corral.buildbin-libdir corral_1.2.0.tar.gz | 
| StartedAt: 2021-10-15 08:45:20 -0400 (Fri, 15 Oct 2021) | 
| EndedAt: 2021-10-15 08:46:46 -0400 (Fri, 15 Oct 2021) | 
| EllapsedTime: 85.9 seconds | 
| RetCode: 0 | 
| Status: OK | 
| PackageFile: corral_1.2.0.zip | 
| PackageFileSize: 1.072 MiB | 
##############################################################################
##############################################################################
###
### Running command:
###
###   rm -rf corral.buildbin-libdir && mkdir corral.buildbin-libdir && C:\Users\biocbuild\bbs-3.13-bioc\R\bin\R.exe CMD INSTALL --merge-multiarch --build --library=corral.buildbin-libdir corral_1.2.0.tar.gz
###
##############################################################################
##############################################################################
install for i386
* installing *source* package 'corral' ...
** using staged installation
** R
** inst
** byte-compile and prepare package for lazy loading
** help
*** installing help indices
  converting help for package 'corral'
    finding HTML links ... done
    add_embeddings2scelist                  html  
    all_are                                 html  
    compsvd                                 html  
    corral                                  html  
    finding level-2 HTML links ... done
    corral_preproc                          html  
    corralm                                 html  
    earthmover_dist                         html  
    get_pct_var_exp_svd                     html  
    get_weights                             html  
    list2mat                                html  
    na2zero                                 html  
    obs2probs                               html  
    pairwise_rv                             html  
    plot_embedding                          html  
    plot_embedding_sce                      html  
    rv                                      html  
    sce2matlist                             html  
** building package indices
** installing vignettes
** testing if installed package can be loaded from temporary location
** testing if installed package can be loaded from final location
** testing if installed package keeps a record of temporary installation path
install for x64
* installing *source* package 'corral' ...
** testing if installed package can be loaded
* MD5 sums
packaged installation of 'corral' as corral_1.2.0.zip
* DONE (corral)