| Back to Multiple platform build/check report for BioC 3.13 |
|
This page was generated on 2021-10-15 15:06:32 -0400 (Fri, 15 Oct 2021).
|
To the developers/maintainers of the corral package: - Please allow up to 24 hours (and sometimes 48 hours) for your latest push to git@git.bioconductor.org:packages/corral.git to reflect on this report. See How and When does the builder pull? When will my changes propagate? here for more information. - Make sure to use the following settings in order to reproduce any error or warning you see on this page. |
| Package 395/2041 | Hostname | OS / Arch | INSTALL | BUILD | CHECK | BUILD BIN | ||||||||
| corral 1.2.0 (landing page) Lauren Hsu
| nebbiolo1 | Linux (Ubuntu 20.04.2 LTS) / x86_64 | OK | OK | OK | |||||||||
| tokay2 | Windows Server 2012 R2 Standard / x64 | OK | OK | OK | OK | |||||||||
| machv2 | macOS 10.14.6 Mojave / x86_64 | OK | OK | OK | OK | |||||||||
| Package: corral |
| Version: 1.2.0 |
| Command: /Library/Frameworks/R.framework/Versions/Current/Resources/bin/R CMD check --install=check:corral.install-out.txt --library=/Library/Frameworks/R.framework/Versions/Current/Resources/library --no-vignettes --timings corral_1.2.0.tar.gz |
| StartedAt: 2021-10-14 17:51:05 -0400 (Thu, 14 Oct 2021) |
| EndedAt: 2021-10-14 17:56:31 -0400 (Thu, 14 Oct 2021) |
| EllapsedTime: 326.2 seconds |
| RetCode: 0 |
| Status: OK |
| CheckDir: corral.Rcheck |
| Warnings: 0 |
##############################################################################
##############################################################################
###
### Running command:
###
### /Library/Frameworks/R.framework/Versions/Current/Resources/bin/R CMD check --install=check:corral.install-out.txt --library=/Library/Frameworks/R.framework/Versions/Current/Resources/library --no-vignettes --timings corral_1.2.0.tar.gz
###
##############################################################################
##############################################################################
* using log directory ‘/Users/biocbuild/bbs-3.13-bioc/meat/corral.Rcheck’
* using R version 4.1.1 (2021-08-10)
* using platform: x86_64-apple-darwin17.0 (64-bit)
* using session charset: UTF-8
* using option ‘--no-vignettes’
* checking for file ‘corral/DESCRIPTION’ ... OK
* this is package ‘corral’ version ‘1.2.0’
* package encoding: UTF-8
* checking package namespace information ... OK
* checking package dependencies ... OK
* checking if this is a source package ... OK
* checking if there is a namespace ... OK
* checking for hidden files and directories ... NOTE
Found the following hidden files and directories:
.git_fetch_output.txt
.git_merge_output.txt
These were most likely included in error. See section ‘Package
structure’ in the ‘Writing R Extensions’ manual.
* checking for portable file names ... OK
* checking for sufficient/correct file permissions ... OK
* checking whether package ‘corral’ can be installed ... OK
* checking installed package size ... OK
* checking package directory ... OK
* checking ‘build’ directory ... OK
* checking DESCRIPTION meta-information ... OK
* checking top-level files ... OK
* checking for left-over files ... OK
* checking index information ... OK
* checking package subdirectories ... OK
* checking R files for non-ASCII characters ... OK
* checking R files for syntax errors ... OK
* checking whether the package can be loaded ... OK
* checking whether the package can be loaded with stated dependencies ... OK
* checking whether the package can be unloaded cleanly ... OK
* checking whether the namespace can be loaded with stated dependencies ... OK
* checking whether the namespace can be unloaded cleanly ... OK
* checking dependencies in R code ... NOTE
Unexported object imported by a ':::' call: ‘ggthemes:::check_pal_n’
See the note in ?`:::` about the use of this operator.
* checking S3 generic/method consistency ... OK
* checking replacement functions ... OK
* checking foreign function calls ... OK
* checking R code for possible problems ... NOTE
plot_embedding: no visible binding for global variable ‘Xdim’
plot_embedding: no visible binding for global variable ‘Ydim’
Undefined global functions or variables:
Xdim Ydim
* checking Rd files ... OK
* checking Rd metadata ... OK
* checking Rd cross-references ... OK
* checking for missing documentation entries ... OK
* checking for code/documentation mismatches ... OK
* checking Rd \usage sections ... OK
* checking Rd contents ... OK
* checking for unstated dependencies in examples ... OK
* checking files in ‘vignettes’ ... OK
* checking examples ... OK
Examples with CPU (user + system) or elapsed time > 5s
user system elapsed
add_embeddings2scelist 26.722 1.757 29.819
corral 26.353 0.509 27.457
corralm 26.401 0.440 27.403
plot_embedding_sce 14.766 0.207 15.237
sce2matlist 14.219 0.421 14.948
* checking for unstated dependencies in ‘tests’ ... OK
* checking tests ...
Running ‘testthat.R’
OK
* checking for unstated dependencies in vignettes ... OK
* checking package vignettes in ‘inst/doc’ ... OK
* checking running R code from vignettes ... SKIPPED
* checking re-building of vignette outputs ... SKIPPED
* checking PDF version of manual ... OK
* DONE
Status: 3 NOTEs
See
‘/Users/biocbuild/bbs-3.13-bioc/meat/corral.Rcheck/00check.log’
for details.
corral.Rcheck/00install.out
############################################################################## ############################################################################## ### ### Running command: ### ### /Library/Frameworks/R.framework/Versions/Current/Resources/bin/R CMD INSTALL corral ### ############################################################################## ############################################################################## * installing to library ‘/Library/Frameworks/R.framework/Versions/4.1/Resources/library’ * installing *source* package ‘corral’ ... ** using staged installation ** R ** byte-compile and prepare package for lazy loading ** help *** installing help indices ** building package indices ** installing vignettes ** testing if installed package can be loaded from temporary location ** testing if installed package can be loaded from final location ** testing if installed package keeps a record of temporary installation path * DONE (corral)
corral.Rcheck/tests/testthat.Rout
R version 4.1.1 (2021-08-10) -- "Kick Things" Copyright (C) 2021 The R Foundation for Statistical Computing Platform: x86_64-apple-darwin17.0 (64-bit) R is free software and comes with ABSOLUTELY NO WARRANTY. You are welcome to redistribute it under certain conditions. Type 'license()' or 'licence()' for distribution details. R is a collaborative project with many contributors. Type 'contributors()' for more information and 'citation()' on how to cite R or R packages in publications. Type 'demo()' for some demos, 'help()' for on-line help, or 'help.start()' for an HTML browser interface to help. Type 'q()' to quit R. > > proc.time() user system elapsed 0.254 0.063 0.292
corral.Rcheck/corral-Ex.timings
| name | user | system | elapsed | |
| add_embeddings2scelist | 26.722 | 1.757 | 29.819 | |
| all_are | 0.001 | 0.001 | 0.001 | |
| compsvd | 0.037 | 0.060 | 0.096 | |
| corral | 26.353 | 0.509 | 27.457 | |
| corral_preproc | 0.020 | 0.001 | 0.021 | |
| corralm | 26.401 | 0.440 | 27.403 | |
| earthmover_dist | 0.051 | 0.001 | 0.051 | |
| get_pct_var_exp_svd | 0.001 | 0.000 | 0.002 | |
| get_weights | 0.002 | 0.000 | 0.002 | |
| list2mat | 0.001 | 0.000 | 0.001 | |
| na2zero | 0.039 | 0.072 | 0.111 | |
| pairwise_rv | 0.002 | 0.001 | 0.001 | |
| plot_embedding | 0.607 | 0.010 | 0.617 | |
| plot_embedding_sce | 14.766 | 0.207 | 15.237 | |
| rv | 0.001 | 0.001 | 0.002 | |
| sce2matlist | 14.219 | 0.421 | 14.948 | |