| Back to Multiple platform build/check report for BioC 3.13 |
|
This page was generated on 2021-10-15 15:05:58 -0400 (Fri, 15 Oct 2021).
|
To the developers/maintainers of the bigPint package: - Please allow up to 24 hours (and sometimes 48 hours) for your latest push to git@git.bioconductor.org:packages/bigPint.git to reflect on this report. See How and When does the builder pull? When will my changes propagate? here for more information. - Make sure to use the following settings in order to reproduce any error or warning you see on this page. |
| Package 152/2041 | Hostname | OS / Arch | INSTALL | BUILD | CHECK | BUILD BIN | ||||||||
| bigPint 1.8.0 (landing page) Lindsay Rutter
| nebbiolo1 | Linux (Ubuntu 20.04.2 LTS) / x86_64 | OK | OK | WARNINGS | |||||||||
| tokay2 | Windows Server 2012 R2 Standard / x64 | OK | OK | WARNINGS | OK | |||||||||
| machv2 | macOS 10.14.6 Mojave / x86_64 | OK | OK | WARNINGS | OK | |||||||||
| Package: bigPint |
| Version: 1.8.0 |
| Command: C:\cygwin\bin\curl.exe -O http://155.52.207.165/BBS/3.13/bioc/src/contrib/bigPint_1.8.0.tar.gz && rm -rf bigPint.buildbin-libdir && mkdir bigPint.buildbin-libdir && C:\Users\biocbuild\bbs-3.13-bioc\R\bin\R.exe CMD INSTALL --merge-multiarch --build --library=bigPint.buildbin-libdir bigPint_1.8.0.tar.gz && C:\Users\biocbuild\bbs-3.13-bioc\R\bin\R.exe CMD INSTALL bigPint_1.8.0.zip && rm bigPint_1.8.0.tar.gz bigPint_1.8.0.zip |
| StartedAt: 2021-10-14 10:02:30 -0400 (Thu, 14 Oct 2021) |
| EndedAt: 2021-10-14 10:06:06 -0400 (Thu, 14 Oct 2021) |
| EllapsedTime: 216.1 seconds |
| RetCode: 0 |
| Status: OK |
##############################################################################
##############################################################################
###
### Running command:
###
### C:\cygwin\bin\curl.exe -O http://155.52.207.165/BBS/3.13/bioc/src/contrib/bigPint_1.8.0.tar.gz && rm -rf bigPint.buildbin-libdir && mkdir bigPint.buildbin-libdir && C:\Users\biocbuild\bbs-3.13-bioc\R\bin\R.exe CMD INSTALL --merge-multiarch --build --library=bigPint.buildbin-libdir bigPint_1.8.0.tar.gz && C:\Users\biocbuild\bbs-3.13-bioc\R\bin\R.exe CMD INSTALL bigPint_1.8.0.zip && rm bigPint_1.8.0.tar.gz bigPint_1.8.0.zip
###
##############################################################################
##############################################################################
% Total % Received % Xferd Average Speed Time Time Time Current
Dload Upload Total Spent Left Speed
0 0 0 0 0 0 0 0 --:--:-- --:--:-- --:--:-- 0
1 56.8M 1 850k 0 0 1406k 0 0:00:41 --:--:-- 0:00:41 1405k
5 56.8M 5 3432k 0 0 2103k 0 0:00:27 0:00:01 0:00:26 2103k
11 56.8M 11 6720k 0 0 2575k 0 0:00:22 0:00:02 0:00:20 2575k
18 56.8M 18 10.6M 0 0 3018k 0 0:00:19 0:00:03 0:00:16 3018k
24 56.8M 24 13.8M 0 0 3060k 0 0:00:19 0:00:04 0:00:15 3060k
29 56.8M 29 16.9M 0 0 3094k 0 0:00:18 0:00:05 0:00:13 3298k
37 56.8M 37 21.0M 0 0 3263k 0 0:00:17 0:00:06 0:00:11 3643k
39 56.8M 39 22.6M 0 0 3044k 0 0:00:19 0:00:07 0:00:12 3289k
39 56.8M 39 22.6M 0 0 2687k 0 0:00:21 0:00:08 0:00:13 2448k
42 56.8M 42 24.2M 0 0 2582k 0 0:00:22 0:00:09 0:00:13 2137k
48 56.8M 48 27.4M 0 0 2654k 0 0:00:21 0:00:10 0:00:11 2157k
55 56.8M 55 31.6M 0 0 2796k 0 0:00:20 0:00:11 0:00:09 2177k
64 56.8M 64 36.7M 0 0 2983k 0 0:00:19 0:00:12 0:00:07 2891k
75 56.8M 75 42.7M 0 0 3213k 0 0:00:18 0:00:13 0:00:05 4127k
82 56.8M 82 46.6M 0 0 3270k 0 0:00:17 0:00:14 0:00:03 4592k
82 56.8M 82 46.7M 0 0 3058k 0 0:00:19 0:00:15 0:00:04 3911k
85 56.8M 85 48.7M 0 0 3000k 0 0:00:19 0:00:16 0:00:03 3471k
93 56.8M 93 53.0M 0 0 3079k 0 0:00:18 0:00:17 0:00:01 3321k
100 56.8M 100 56.8M 0 0 3168k 0 0:00:18 0:00:18 --:--:-- 3040k
install for i386
* installing *source* package 'bigPint' ...
** using staged installation
** R
** data
*** moving datasets to lazyload DB
** inst
** byte-compile and prepare package for lazy loading
** help
*** installing help indices
converting help for package 'bigPint'
finding HTML links ... done
bigPint html
convertSEPair html
convertSESubsetGenes html
plotClusters html
plotLitre html
plotLitreApp html
plotPCP html
plotPCPApp html
plotSM html
plotSMApp html
plotVolcano html
plotVolcanoApp html
se_soybean_cn_sub html
se_soybean_ir_sub html
soybean_cn html
soybean_cn_metrics html
soybean_cn_sub html
soybean_cn_sub_metrics html
soybean_ir html
soybean_ir_metrics html
soybean_ir_sub html
soybean_ir_sub_metrics html
*** copying figures
** building package indices
** installing vignettes
** testing if installed package can be loaded from temporary location
** testing if installed package can be loaded from final location
** testing if installed package keeps a record of temporary installation path
install for x64
* installing *source* package 'bigPint' ...
** testing if installed package can be loaded
* MD5 sums
packaged installation of 'bigPint' as bigPint_1.8.0.zip
* DONE (bigPint)
* installing to library 'C:/Users/biocbuild/bbs-3.13-bioc/R/library'
package 'bigPint' successfully unpacked and MD5 sums checked