Back to Multiple platform build/check report for BioC 3.13 |
|
This page was generated on 2021-10-15 15:05:52 -0400 (Fri, 15 Oct 2021).
To the developers/maintainers of the Sconify package: - Please allow up to 24 hours (and sometimes 48 hours) for your latest push to git@git.bioconductor.org:packages/Sconify.git to reflect on this report. See How and When does the builder pull? When will my changes propagate? here for more information. - Make sure to use the following settings in order to reproduce any error or warning you see on this page. |
Package 1707/2041 | Hostname | OS / Arch | INSTALL | BUILD | CHECK | BUILD BIN | ||||||||
Sconify 1.12.0 (landing page) Tyler J Burns
| nebbiolo1 | Linux (Ubuntu 20.04.2 LTS) / x86_64 | OK | OK | OK | ![]() | ||||||||
tokay2 | Windows Server 2012 R2 Standard / x64 | OK | OK | OK | OK | ![]() | ||||||||
machv2 | macOS 10.14.6 Mojave / x86_64 | OK | OK | OK | OK | ![]() | ||||||||
Package: Sconify |
Version: 1.12.0 |
Command: /home/biocbuild/bbs-3.13-bioc/R/bin/R CMD check --install=check:Sconify.install-out.txt --library=/home/biocbuild/bbs-3.13-bioc/R/library --no-vignettes --timings Sconify_1.12.0.tar.gz |
StartedAt: 2021-10-14 11:31:37 -0400 (Thu, 14 Oct 2021) |
EndedAt: 2021-10-14 11:33:13 -0400 (Thu, 14 Oct 2021) |
EllapsedTime: 96.1 seconds |
RetCode: 0 |
Status: OK |
CheckDir: Sconify.Rcheck |
Warnings: 0 |
############################################################################## ############################################################################## ### ### Running command: ### ### /home/biocbuild/bbs-3.13-bioc/R/bin/R CMD check --install=check:Sconify.install-out.txt --library=/home/biocbuild/bbs-3.13-bioc/R/library --no-vignettes --timings Sconify_1.12.0.tar.gz ### ############################################################################## ############################################################################## * using log directory ‘/home/biocbuild/bbs-3.13-bioc/meat/Sconify.Rcheck’ * using R version 4.1.1 (2021-08-10) * using platform: x86_64-pc-linux-gnu (64-bit) * using session charset: UTF-8 * using option ‘--no-vignettes’ * checking for file ‘Sconify/DESCRIPTION’ ... OK * checking extension type ... Package * this is package ‘Sconify’ version ‘1.12.0’ * package encoding: UTF-8 * checking package namespace information ... OK * checking package dependencies ... OK * checking if this is a source package ... OK * checking if there is a namespace ... OK * checking for hidden files and directories ... OK * checking for portable file names ... OK * checking for sufficient/correct file permissions ... OK * checking whether package ‘Sconify’ can be installed ... OK * checking installed package size ... OK * checking package directory ... OK * checking ‘build’ directory ... OK * checking DESCRIPTION meta-information ... OK * checking top-level files ... OK * checking for left-over files ... OK * checking index information ... OK * checking package subdirectories ... OK * checking R files for non-ASCII characters ... OK * checking R files for syntax errors ... OK * checking whether the package can be loaded ... OK * checking whether the package can be loaded with stated dependencies ... OK * checking whether the package can be unloaded cleanly ... OK * checking whether the namespace can be loaded with stated dependencies ... OK * checking whether the namespace can be unloaded cleanly ... OK * checking dependencies in R code ... OK * checking S3 generic/method consistency ... OK * checking replacement functions ... OK * checking foreign function calls ... OK * checking R code for possible problems ... OK * checking Rd files ... OK * checking Rd metadata ... OK * checking Rd cross-references ... OK * checking for missing documentation entries ... OK * checking for code/documentation mismatches ... OK * checking Rd \usage sections ... OK * checking Rd contents ... OK * checking for unstated dependencies in examples ... OK * checking contents of ‘data’ directory ... OK * checking data for non-ASCII characters ... OK * checking LazyData ... OK * checking data for ASCII and uncompressed saves ... OK * checking files in ‘vignettes’ ... OK * checking examples ... OK Examples with CPU (user + system) or elapsed time > 5s user system elapsed SconeValues 12.926 0.152 13.079 * checking for unstated dependencies in ‘tests’ ... OK * checking tests ... Running ‘testthat.R’ OK * checking for unstated dependencies in vignettes ... OK * checking package vignettes in ‘inst/doc’ ... OK * checking running R code from vignettes ... SKIPPED * checking re-building of vignette outputs ... SKIPPED * checking PDF version of manual ... OK * DONE Status: OK
Sconify.Rcheck/00install.out
############################################################################## ############################################################################## ### ### Running command: ### ### /home/biocbuild/bbs-3.13-bioc/R/bin/R CMD INSTALL Sconify ### ############################################################################## ############################################################################## * installing to library ‘/home/biocbuild/bbs-3.13-bioc/R/library’ * installing *source* package ‘Sconify’ ... ** using staged installation ** R ** data *** moving datasets to lazyload DB ** inst ** byte-compile and prepare package for lazy loading Note: wrong number of arguments to '/' Note: wrong number of arguments to 'asinh' ** help *** installing help indices ** building package indices ** installing vignettes ** testing if installed package can be loaded from temporary location ** testing if installed package can be loaded from final location ** testing if installed package keeps a record of temporary installation path * DONE (Sconify)
Sconify.Rcheck/tests/testthat.Rout
R version 4.1.1 (2021-08-10) -- "Kick Things" Copyright (C) 2021 The R Foundation for Statistical Computing Platform: x86_64-pc-linux-gnu (64-bit) R is free software and comes with ABSOLUTELY NO WARRANTY. You are welcome to redistribute it under certain conditions. Type 'license()' or 'licence()' for distribution details. R is a collaborative project with many contributors. Type 'contributors()' for more information and 'citation()' on how to cite R or R packages in publications. Type 'demo()' for some demos, 'help()' for on-line help, or 'help.start()' for an HTML browser interface to help. Type 'q()' to quit R. > library(testthat) > library(Sconify) > > test_check("Sconify") Read the 100 x 27 data matrix successfully! OpenMP is working. 1 threads. Using no_dims = 2, perplexity = 30.000000, and theta = 0.500000 Computing input similarities... Building tree... Done in 0.01 seconds (sparsity = 0.961600)! Learning embedding... Iteration 50: error is 48.409539 (50 iterations in 0.01 seconds) Iteration 100: error is 51.073163 (50 iterations in 0.01 seconds) Iteration 150: error is 47.496535 (50 iterations in 0.01 seconds) Iteration 200: error is 51.499849 (50 iterations in 0.01 seconds) Iteration 250: error is 51.147838 (50 iterations in 0.01 seconds) Iteration 300: error is 1.331210 (50 iterations in 0.01 seconds) Iteration 350: error is 0.679428 (50 iterations in 0.01 seconds) Iteration 400: error is 0.267745 (50 iterations in 0.01 seconds) Iteration 450: error is 0.193942 (50 iterations in 0.01 seconds) Iteration 500: error is 0.179253 (50 iterations in 0.01 seconds) Iteration 550: error is 0.170353 (50 iterations in 0.01 seconds) Iteration 600: error is 0.158427 (50 iterations in 0.01 seconds) Iteration 650: error is 0.144097 (50 iterations in 0.01 seconds) Iteration 700: error is 0.143309 (50 iterations in 0.01 seconds) Iteration 750: error is 0.139216 (50 iterations in 0.01 seconds) Iteration 800: error is 0.139237 (50 iterations in 0.01 seconds) Iteration 850: error is 0.140693 (50 iterations in 0.01 seconds) Iteration 900: error is 0.138094 (50 iterations in 0.01 seconds) Iteration 950: error is 0.139882 (50 iterations in 0.01 seconds) Iteration 1000: error is 0.139096 (50 iterations in 0.01 seconds) Fitting performed in 0.16 seconds. Read the 1000 x 27 data matrix successfully! OpenMP is working. 1 threads. Using no_dims = 2, perplexity = 30.000000, and theta = 0.500000 Computing input similarities... Building tree... Done in 0.12 seconds (sparsity = 0.129120)! Learning embedding... Iteration 50: error is 64.969822 (50 iterations in 0.25 seconds) Iteration 100: error is 60.710239 (50 iterations in 0.19 seconds) Iteration 150: error is 60.345271 (50 iterations in 0.19 seconds) Iteration 200: error is 60.210333 (50 iterations in 0.20 seconds) Iteration 250: error is 60.142938 (50 iterations in 0.21 seconds) Iteration 300: error is 1.349275 (50 iterations in 0.15 seconds) Iteration 350: error is 1.235531 (50 iterations in 0.14 seconds) Iteration 400: error is 1.201997 (50 iterations in 0.14 seconds) Iteration 450: error is 1.191924 (50 iterations in 0.14 seconds) Iteration 500: error is 1.185967 (50 iterations in 0.14 seconds) Iteration 550: error is 1.181400 (50 iterations in 0.14 seconds) Iteration 600: error is 1.176718 (50 iterations in 0.14 seconds) Iteration 650: error is 1.172612 (50 iterations in 0.13 seconds) Iteration 700: error is 1.169185 (50 iterations in 0.13 seconds) Iteration 750: error is 1.166205 (50 iterations in 0.14 seconds) Iteration 800: error is 1.163709 (50 iterations in 0.13 seconds) Iteration 850: error is 1.162376 (50 iterations in 0.13 seconds) Iteration 900: error is 1.160682 (50 iterations in 0.13 seconds) Iteration 950: error is 1.158818 (50 iterations in 0.13 seconds) Iteration 1000: error is 1.157569 (50 iterations in 0.13 seconds) Fitting performed in 3.08 seconds. [ FAIL 0 | WARN 3 | SKIP 0 | PASS 72 ] > > proc.time() user system elapsed 18.005 0.391 18.381
Sconify.Rcheck/Sconify-Ex.timings
name | user | system | elapsed | |
FcsToTibble | 0.132 | 0.000 | 0.133 | |
Fnn | 0.294 | 1.363 | 1.656 | |
GetKnnDe | 0.078 | 0.005 | 0.083 | |
GetMarkerNames | 0.026 | 0.000 | 0.027 | |
ImputeTesting | 2.844 | 0.012 | 2.855 | |
MakeHist | 0.330 | 0.007 | 0.337 | |
MakeKnnList | 0.288 | 0.004 | 0.292 | |
MeaningOfLife | 0 | 0 | 0 | |
ParseMarkers | 0.265 | 0.033 | 0.296 | |
PostProcessing | 0.056 | 0.000 | 0.056 | |
ProcessMultipleFiles | 0.102 | 0.000 | 0.103 | |
QuantNormalizeElements | 0.129 | 0.004 | 0.133 | |
SconeValues | 12.926 | 0.152 | 13.079 | |
SplitFile | 0.059 | 0.012 | 0.070 | |
StringToNumbers | 0.001 | 0.000 | 0.001 | |
SubsampleAndTsne | 1.660 | 0.004 | 1.664 | |
TsneVis | 0.157 | 0.004 | 0.161 | |