| Back to Multiple platform build/check report for BioC 3.13 |
|
This page was generated on 2021-10-15 15:06:52 -0400 (Fri, 15 Oct 2021).
|
To the developers/maintainers of the Sconify package: - Please allow up to 24 hours (and sometimes 48 hours) for your latest push to git@git.bioconductor.org:packages/Sconify.git to reflect on this report. See How and When does the builder pull? When will my changes propagate? here for more information. - Make sure to use the following settings in order to reproduce any error or warning you see on this page. |
| Package 1707/2041 | Hostname | OS / Arch | INSTALL | BUILD | CHECK | BUILD BIN | ||||||||
| Sconify 1.12.0 (landing page) Tyler J Burns
| nebbiolo1 | Linux (Ubuntu 20.04.2 LTS) / x86_64 | OK | OK | OK | |||||||||
| tokay2 | Windows Server 2012 R2 Standard / x64 | OK | OK | OK | OK | |||||||||
| machv2 | macOS 10.14.6 Mojave / x86_64 | OK | OK | OK | OK | |||||||||
| Package: Sconify |
| Version: 1.12.0 |
| Command: /Library/Frameworks/R.framework/Versions/Current/Resources/bin/R CMD check --install=check:Sconify.install-out.txt --library=/Library/Frameworks/R.framework/Versions/Current/Resources/library --no-vignettes --timings Sconify_1.12.0.tar.gz |
| StartedAt: 2021-10-14 23:44:07 -0400 (Thu, 14 Oct 2021) |
| EndedAt: 2021-10-14 23:46:43 -0400 (Thu, 14 Oct 2021) |
| EllapsedTime: 155.3 seconds |
| RetCode: 0 |
| Status: OK |
| CheckDir: Sconify.Rcheck |
| Warnings: 0 |
##############################################################################
##############################################################################
###
### Running command:
###
### /Library/Frameworks/R.framework/Versions/Current/Resources/bin/R CMD check --install=check:Sconify.install-out.txt --library=/Library/Frameworks/R.framework/Versions/Current/Resources/library --no-vignettes --timings Sconify_1.12.0.tar.gz
###
##############################################################################
##############################################################################
* using log directory ‘/Users/biocbuild/bbs-3.13-bioc/meat/Sconify.Rcheck’
* using R version 4.1.1 (2021-08-10)
* using platform: x86_64-apple-darwin17.0 (64-bit)
* using session charset: UTF-8
* using option ‘--no-vignettes’
* checking for file ‘Sconify/DESCRIPTION’ ... OK
* checking extension type ... Package
* this is package ‘Sconify’ version ‘1.12.0’
* package encoding: UTF-8
* checking package namespace information ... OK
* checking package dependencies ... OK
* checking if this is a source package ... OK
* checking if there is a namespace ... OK
* checking for hidden files and directories ... NOTE
Found the following hidden files and directories:
.git_fetch_output.txt
.git_merge_output.txt
These were most likely included in error. See section ‘Package
structure’ in the ‘Writing R Extensions’ manual.
* checking for portable file names ... OK
* checking for sufficient/correct file permissions ... OK
* checking whether package ‘Sconify’ can be installed ... OK
* checking installed package size ... OK
* checking package directory ... OK
* checking ‘build’ directory ... OK
* checking DESCRIPTION meta-information ... OK
* checking top-level files ... OK
* checking for left-over files ... OK
* checking index information ... OK
* checking package subdirectories ... OK
* checking R files for non-ASCII characters ... OK
* checking R files for syntax errors ... OK
* checking whether the package can be loaded ... OK
* checking whether the package can be loaded with stated dependencies ... OK
* checking whether the package can be unloaded cleanly ... OK
* checking whether the namespace can be loaded with stated dependencies ... OK
* checking whether the namespace can be unloaded cleanly ... OK
* checking dependencies in R code ... OK
* checking S3 generic/method consistency ... OK
* checking replacement functions ... OK
* checking foreign function calls ... OK
* checking R code for possible problems ... OK
* checking Rd files ... OK
* checking Rd metadata ... OK
* checking Rd cross-references ... OK
* checking for missing documentation entries ... OK
* checking for code/documentation mismatches ... OK
* checking Rd \usage sections ... OK
* checking Rd contents ... OK
* checking for unstated dependencies in examples ... OK
* checking contents of ‘data’ directory ... OK
* checking data for non-ASCII characters ... OK
* checking LazyData ... OK
* checking data for ASCII and uncompressed saves ... OK
* checking files in ‘vignettes’ ... OK
* checking examples ... OK
Examples with CPU (user + system) or elapsed time > 5s
user system elapsed
SconeValues 21.122 0.255 21.388
* checking for unstated dependencies in ‘tests’ ... OK
* checking tests ...
Running ‘testthat.R’
OK
* checking for unstated dependencies in vignettes ... OK
* checking package vignettes in ‘inst/doc’ ... OK
* checking running R code from vignettes ... SKIPPED
* checking re-building of vignette outputs ... SKIPPED
* checking PDF version of manual ... OK
* DONE
Status: 1 NOTE
See
‘/Users/biocbuild/bbs-3.13-bioc/meat/Sconify.Rcheck/00check.log’
for details.
Sconify.Rcheck/00install.out
############################################################################## ############################################################################## ### ### Running command: ### ### /Library/Frameworks/R.framework/Versions/Current/Resources/bin/R CMD INSTALL Sconify ### ############################################################################## ############################################################################## * installing to library ‘/Library/Frameworks/R.framework/Versions/4.1/Resources/library’ * installing *source* package ‘Sconify’ ... ** using staged installation ** R ** data *** moving datasets to lazyload DB ** inst ** byte-compile and prepare package for lazy loading Note: wrong number of arguments to '/' Note: wrong number of arguments to 'asinh' ** help *** installing help indices ** building package indices ** installing vignettes ** testing if installed package can be loaded from temporary location ** testing if installed package can be loaded from final location ** testing if installed package keeps a record of temporary installation path * DONE (Sconify)
Sconify.Rcheck/tests/testthat.Rout
R version 4.1.1 (2021-08-10) -- "Kick Things"
Copyright (C) 2021 The R Foundation for Statistical Computing
Platform: x86_64-apple-darwin17.0 (64-bit)
R is free software and comes with ABSOLUTELY NO WARRANTY.
You are welcome to redistribute it under certain conditions.
Type 'license()' or 'licence()' for distribution details.
R is a collaborative project with many contributors.
Type 'contributors()' for more information and
'citation()' on how to cite R or R packages in publications.
Type 'demo()' for some demos, 'help()' for on-line help, or
'help.start()' for an HTML browser interface to help.
Type 'q()' to quit R.
> library(testthat)
> library(Sconify)
>
> test_check("Sconify")
Read the 100 x 27 data matrix successfully!
Using no_dims = 2, perplexity = 30.000000, and theta = 0.500000
Computing input similarities...
Building tree...
Done in 0.01 seconds (sparsity = 0.966800)!
Learning embedding...
Iteration 50: error is 52.834543 (50 iterations in 0.02 seconds)
Iteration 100: error is 50.569869 (50 iterations in 0.02 seconds)
Iteration 150: error is 54.813020 (50 iterations in 0.02 seconds)
Iteration 200: error is 53.341652 (50 iterations in 0.02 seconds)
Iteration 250: error is 55.225799 (50 iterations in 0.02 seconds)
Iteration 300: error is 1.448408 (50 iterations in 0.02 seconds)
Iteration 350: error is 0.859826 (50 iterations in 0.01 seconds)
Iteration 400: error is 0.583836 (50 iterations in 0.01 seconds)
Iteration 450: error is 0.285370 (50 iterations in 0.01 seconds)
Iteration 500: error is 0.231493 (50 iterations in 0.02 seconds)
Iteration 550: error is 0.192983 (50 iterations in 0.02 seconds)
Iteration 600: error is 0.169123 (50 iterations in 0.02 seconds)
Iteration 650: error is 0.151599 (50 iterations in 0.02 seconds)
Iteration 700: error is 0.152589 (50 iterations in 0.02 seconds)
Iteration 750: error is 0.152383 (50 iterations in 0.02 seconds)
Iteration 800: error is 0.151377 (50 iterations in 0.02 seconds)
Iteration 850: error is 0.152211 (50 iterations in 0.01 seconds)
Iteration 900: error is 0.152221 (50 iterations in 0.01 seconds)
Iteration 950: error is 0.152342 (50 iterations in 0.01 seconds)
Iteration 1000: error is 0.152642 (50 iterations in 0.01 seconds)
Fitting performed in 0.32 seconds.
Read the 1000 x 27 data matrix successfully!
Using no_dims = 2, perplexity = 30.000000, and theta = 0.500000
Computing input similarities...
Building tree...
Done in 0.22 seconds (sparsity = 0.129120)!
Learning embedding...
Iteration 50: error is 65.796608 (50 iterations in 0.31 seconds)
Iteration 100: error is 60.722233 (50 iterations in 0.29 seconds)
Iteration 150: error is 60.320836 (50 iterations in 0.28 seconds)
Iteration 200: error is 60.175975 (50 iterations in 0.29 seconds)
Iteration 250: error is 60.109104 (50 iterations in 0.26 seconds)
Iteration 300: error is 1.353395 (50 iterations in 0.23 seconds)
Iteration 350: error is 1.243262 (50 iterations in 0.21 seconds)
Iteration 400: error is 1.213598 (50 iterations in 0.17 seconds)
Iteration 450: error is 1.203531 (50 iterations in 0.23 seconds)
Iteration 500: error is 1.193558 (50 iterations in 0.23 seconds)
Iteration 550: error is 1.187057 (50 iterations in 0.23 seconds)
Iteration 600: error is 1.182923 (50 iterations in 0.22 seconds)
Iteration 650: error is 1.180328 (50 iterations in 0.21 seconds)
Iteration 700: error is 1.176966 (50 iterations in 0.21 seconds)
Iteration 750: error is 1.173568 (50 iterations in 0.23 seconds)
Iteration 800: error is 1.171081 (50 iterations in 0.23 seconds)
Iteration 850: error is 1.169657 (50 iterations in 0.24 seconds)
Iteration 900: error is 1.168471 (50 iterations in 0.24 seconds)
Iteration 950: error is 1.167039 (50 iterations in 0.24 seconds)
Iteration 1000: error is 1.165873 (50 iterations in 0.26 seconds)
Fitting performed in 4.81 seconds.
[ FAIL 0 | WARN 3 | SKIP 0 | PASS 72 ]
>
> proc.time()
user system elapsed
29.224 0.528 29.813
Sconify.Rcheck/Sconify-Ex.timings
| name | user | system | elapsed | |
| FcsToTibble | 0.211 | 0.007 | 0.219 | |
| Fnn | 0.566 | 1.354 | 1.958 | |
| GetKnnDe | 0.104 | 0.010 | 0.113 | |
| GetMarkerNames | 0.039 | 0.003 | 0.043 | |
| ImputeTesting | 4.651 | 0.025 | 4.681 | |
| MakeHist | 0.411 | 0.007 | 0.418 | |
| MakeKnnList | 0.446 | 0.012 | 0.458 | |
| MeaningOfLife | 0.001 | 0.000 | 0.001 | |
| ParseMarkers | 0.362 | 0.017 | 0.383 | |
| PostProcessing | 0.119 | 0.002 | 0.122 | |
| ProcessMultipleFiles | 0.140 | 0.004 | 0.145 | |
| QuantNormalizeElements | 0.172 | 0.001 | 0.174 | |
| SconeValues | 21.122 | 0.255 | 21.388 | |
| SplitFile | 0.089 | 0.002 | 0.091 | |
| StringToNumbers | 0.001 | 0.001 | 0.001 | |
| SubsampleAndTsne | 2.447 | 0.005 | 2.453 | |
| TsneVis | 0.226 | 0.005 | 0.231 | |