Back to Multiple platform build/check report for BioC 3.13 |
|
This page was generated on 2021-10-15 15:06:24 -0400 (Fri, 15 Oct 2021).
To the developers/maintainers of the SPONGE package: - Please allow up to 24 hours (and sometimes 48 hours) for your latest push to git@git.bioconductor.org:packages/SPONGE.git to reflect on this report. See How and When does the builder pull? When will my changes propagate? here for more information. - Make sure to use the following settings in order to reproduce any error or warning you see on this page. |
Package 1834/2041 | Hostname | OS / Arch | INSTALL | BUILD | CHECK | BUILD BIN | ||||||||
SPONGE 1.14.0 (landing page) Markus List
| nebbiolo1 | Linux (Ubuntu 20.04.2 LTS) / x86_64 | OK | OK | WARNINGS | ![]() | ||||||||
tokay2 | Windows Server 2012 R2 Standard / x64 | OK | OK | WARNINGS | OK | ![]() | ||||||||
machv2 | macOS 10.14.6 Mojave / x86_64 | OK | OK | WARNINGS | OK | ![]() | ||||||||
Package: SPONGE |
Version: 1.14.0 |
Command: rm -rf SPONGE.buildbin-libdir && mkdir SPONGE.buildbin-libdir && C:\Users\biocbuild\bbs-3.13-bioc\R\bin\R.exe CMD INSTALL --merge-multiarch --build --library=SPONGE.buildbin-libdir SPONGE_1.14.0.tar.gz |
StartedAt: 2021-10-15 11:58:45 -0400 (Fri, 15 Oct 2021) |
EndedAt: 2021-10-15 12:00:15 -0400 (Fri, 15 Oct 2021) |
EllapsedTime: 90.2 seconds |
RetCode: 0 |
Status: OK |
PackageFile: SPONGE_1.14.0.zip |
PackageFileSize: 8.338 MiB |
############################################################################## ############################################################################## ### ### Running command: ### ### rm -rf SPONGE.buildbin-libdir && mkdir SPONGE.buildbin-libdir && C:\Users\biocbuild\bbs-3.13-bioc\R\bin\R.exe CMD INSTALL --merge-multiarch --build --library=SPONGE.buildbin-libdir SPONGE_1.14.0.tar.gz ### ############################################################################## ############################################################################## install for i386 * installing *source* package 'SPONGE' ... ** using staged installation ** R ** data *** moving datasets to lazyload DB ** inst ** byte-compile and prepare package for lazy loading ** help *** installing help indices converting help for package 'SPONGE' finding HTML links ... done ceRNA_interactions html check_and_convert_expression_data html fn_elasticnet html fn_gene_miRNA_F_test html fn_get_model_coef html fn_get_rss html fn_get_shared_miRNAs html gene_expr html genes_pairwise_combinations html mir_expr html mir_interactions html mircode_ensg html mircode_symbol html precomputed_cov_matrices html precomputed_null_model html sample_zero_mscor_cov html sample_zero_mscor_data html sponge html sponge_build_null_model html sponge_compute_p_values html sponge_edge_centralities html sponge_gene_miRNA_interaction_filter html sponge_network html sponge_node_centralities html sponge_plot_network html sponge_plot_network_centralities html sponge_plot_simulation_results html sponge_run_benchmark html sponge_subsampling html targetscan_ensg html targetscan_symbol html ** building package indices ** installing vignettes ** testing if installed package can be loaded from temporary location ** testing if installed package can be loaded from final location ** testing if installed package keeps a record of temporary installation path install for x64 * installing *source* package 'SPONGE' ... ** testing if installed package can be loaded * MD5 sums packaged installation of 'SPONGE' as SPONGE_1.14.0.zip * DONE (SPONGE)