| Back to Multiple platform build/check report for BioC 3.13 |
|
This page was generated on 2021-10-15 15:06:21 -0400 (Fri, 15 Oct 2021).
|
To the developers/maintainers of the SCATE package: - Please allow up to 24 hours (and sometimes 48 hours) for your latest push to git@git.bioconductor.org:packages/SCATE.git to reflect on this report. See How and When does the builder pull? When will my changes propagate? here for more information. - Make sure to use the following settings in order to reproduce any error or warning you see on this page. |
| Package 1683/2041 | Hostname | OS / Arch | INSTALL | BUILD | CHECK | BUILD BIN | ||||||||
| SCATE 1.2.0 (landing page) Wenpin Hou
| nebbiolo1 | Linux (Ubuntu 20.04.2 LTS) / x86_64 | OK | OK | OK | |||||||||
| tokay2 | Windows Server 2012 R2 Standard / x64 | OK | OK | OK | OK | |||||||||
| machv2 | macOS 10.14.6 Mojave / x86_64 | OK | OK | OK | OK | |||||||||
| Package: SCATE |
| Version: 1.2.0 |
| Command: C:\cygwin\bin\curl.exe -O http://155.52.207.165/BBS/3.13/bioc/src/contrib/SCATE_1.2.0.tar.gz && rm -rf SCATE.buildbin-libdir && mkdir SCATE.buildbin-libdir && C:\Users\biocbuild\bbs-3.13-bioc\R\bin\R.exe CMD INSTALL --merge-multiarch --build --library=SCATE.buildbin-libdir SCATE_1.2.0.tar.gz && C:\Users\biocbuild\bbs-3.13-bioc\R\bin\R.exe CMD INSTALL SCATE_1.2.0.zip && rm SCATE_1.2.0.tar.gz SCATE_1.2.0.zip |
| StartedAt: 2021-10-14 08:51:23 -0400 (Thu, 14 Oct 2021) |
| EndedAt: 2021-10-14 08:53:01 -0400 (Thu, 14 Oct 2021) |
| EllapsedTime: 98.7 seconds |
| RetCode: 0 |
| Status: OK |
##############################################################################
##############################################################################
###
### Running command:
###
### C:\cygwin\bin\curl.exe -O http://155.52.207.165/BBS/3.13/bioc/src/contrib/SCATE_1.2.0.tar.gz && rm -rf SCATE.buildbin-libdir && mkdir SCATE.buildbin-libdir && C:\Users\biocbuild\bbs-3.13-bioc\R\bin\R.exe CMD INSTALL --merge-multiarch --build --library=SCATE.buildbin-libdir SCATE_1.2.0.tar.gz && C:\Users\biocbuild\bbs-3.13-bioc\R\bin\R.exe CMD INSTALL SCATE_1.2.0.zip && rm SCATE_1.2.0.tar.gz SCATE_1.2.0.zip
###
##############################################################################
##############################################################################
% Total % Received % Xferd Average Speed Time Time Time Current
Dload Upload Total Spent Left Speed
0 0 0 0 0 0 0 0 --:--:-- --:--:-- --:--:-- 0
100 256k 100 256k 0 0 768k 0 --:--:-- --:--:-- --:--:-- 770k
install for i386
* installing *source* package 'SCATE' ...
** using staged installation
** R
** inst
** byte-compile and prepare package for lazy loading
snapshotDate(): 2021-05-18
** help
*** installing help indices
converting help for package 'SCATE'
finding HTML links ... done
SCATE html
SCATEpipeline html
cellcluster html
extractfeature html
makedatabase html
peakcall html
satacprocess html
** building package indices
** installing vignettes
** testing if installed package can be loaded from temporary location
snapshotDate(): 2021-05-18
** testing if installed package can be loaded from final location
snapshotDate(): 2021-05-18
** testing if installed package keeps a record of temporary installation path
install for x64
* installing *source* package 'SCATE' ...
** testing if installed package can be loaded
snapshotDate(): 2021-05-18
* MD5 sums
packaged installation of 'SCATE' as SCATE_1.2.0.zip
* DONE (SCATE)
* installing to library 'C:/Users/biocbuild/bbs-3.13-bioc/R/library'
package 'SCATE' successfully unpacked and MD5 sums checked