Back to Multiple platform build/check report for BioC 3.13 |
|
This page was generated on 2021-10-15 15:06:51 -0400 (Fri, 15 Oct 2021).
To the developers/maintainers of the SCATE package: - Please allow up to 24 hours (and sometimes 48 hours) for your latest push to git@git.bioconductor.org:packages/SCATE.git to reflect on this report. See How and When does the builder pull? When will my changes propagate? here for more information. - Make sure to use the following settings in order to reproduce any error or warning you see on this page. |
Package 1683/2041 | Hostname | OS / Arch | INSTALL | BUILD | CHECK | BUILD BIN | ||||||||
SCATE 1.2.0 (landing page) Wenpin Hou
| nebbiolo1 | Linux (Ubuntu 20.04.2 LTS) / x86_64 | OK | OK | OK | ![]() | ||||||||
tokay2 | Windows Server 2012 R2 Standard / x64 | OK | OK | OK | OK | ![]() | ||||||||
machv2 | macOS 10.14.6 Mojave / x86_64 | OK | OK | OK | OK | ![]() | ||||||||
Package: SCATE |
Version: 1.2.0 |
Command: /Library/Frameworks/R.framework/Versions/Current/Resources/bin/R CMD check --install=check:SCATE.install-out.txt --library=/Library/Frameworks/R.framework/Versions/Current/Resources/library --no-vignettes --timings SCATE_1.2.0.tar.gz |
StartedAt: 2021-10-14 23:35:10 -0400 (Thu, 14 Oct 2021) |
EndedAt: 2021-10-14 23:48:11 -0400 (Thu, 14 Oct 2021) |
EllapsedTime: 781.0 seconds |
RetCode: 0 |
Status: OK |
CheckDir: SCATE.Rcheck |
Warnings: 0 |
############################################################################## ############################################################################## ### ### Running command: ### ### /Library/Frameworks/R.framework/Versions/Current/Resources/bin/R CMD check --install=check:SCATE.install-out.txt --library=/Library/Frameworks/R.framework/Versions/Current/Resources/library --no-vignettes --timings SCATE_1.2.0.tar.gz ### ############################################################################## ############################################################################## * using log directory ‘/Users/biocbuild/bbs-3.13-bioc/meat/SCATE.Rcheck’ * using R version 4.1.1 (2021-08-10) * using platform: x86_64-apple-darwin17.0 (64-bit) * using session charset: UTF-8 * using option ‘--no-vignettes’ * checking for file ‘SCATE/DESCRIPTION’ ... OK * this is package ‘SCATE’ version ‘1.2.0’ * package encoding: UTF-8 * checking package namespace information ... OK * checking package dependencies ... NOTE Depends: includes the non-default packages: 'parallel', 'preprocessCore', 'splines', 'splines2', 'xgboost', 'SCATEData', 'Rtsne', 'mclust' Adding so many packages to the search path is excessive and importing selectively is preferable. * checking if this is a source package ... OK * checking if there is a namespace ... OK * checking for hidden files and directories ... NOTE Found the following hidden files and directories: .git_fetch_output.txt .git_merge_output.txt These were most likely included in error. See section ‘Package structure’ in the ‘Writing R Extensions’ manual. * checking for portable file names ... OK * checking for sufficient/correct file permissions ... OK * checking whether package ‘SCATE’ can be installed ... OK * checking installed package size ... OK * checking package directory ... OK * checking ‘build’ directory ... OK * checking DESCRIPTION meta-information ... OK * checking top-level files ... OK * checking for left-over files ... OK * checking index information ... OK * checking package subdirectories ... OK * checking R files for non-ASCII characters ... OK * checking R files for syntax errors ... OK * checking whether the package can be loaded ... OK * checking whether the package can be loaded with stated dependencies ... OK * checking whether the package can be unloaded cleanly ... OK * checking whether the namespace can be loaded with stated dependencies ... OK * checking whether the namespace can be unloaded cleanly ... OK * checking dependencies in R code ... NOTE Package in Depends field not imported from: ‘SCATEData’ These packages need to be imported from (in the NAMESPACE file) for when this namespace is loaded but not attached. * checking S3 generic/method consistency ... OK * checking replacement functions ... OK * checking foreign function calls ... OK * checking R code for possible problems ... NOTE SCATE : SCATEsingle: no visible global function definition for ‘IRanges’ cellcluster : <anonymous>: no visible global function definition for ‘IRanges’ extractfeature: no visible global function definition for ‘IRanges’ makedatabase: no visible global function definition for ‘IRanges’ makedatabase: no visible global function definition for ‘seqlevels’ peakcall: no visible global function definition for ‘IRanges’ Undefined global functions or variables: IRanges seqlevels * checking Rd files ... OK * checking Rd metadata ... OK * checking Rd cross-references ... OK * checking for missing documentation entries ... OK * checking for code/documentation mismatches ... OK * checking Rd \usage sections ... OK * checking Rd contents ... OK * checking for unstated dependencies in examples ... OK * checking files in ‘vignettes’ ... OK * checking examples ... OK Examples with CPU (user + system) or elapsed time > 5s user system elapsed SCATEpipeline 151.289 4.582 156.913 SCATE 147.749 5.367 153.307 peakcall 120.331 2.531 123.916 cellcluster 31.410 1.356 32.788 * checking for unstated dependencies in vignettes ... OK * checking package vignettes in ‘inst/doc’ ... OK * checking running R code from vignettes ... SKIPPED * checking re-building of vignette outputs ... SKIPPED * checking PDF version of manual ... OK * DONE Status: 4 NOTEs See ‘/Users/biocbuild/bbs-3.13-bioc/meat/SCATE.Rcheck/00check.log’ for details.
SCATE.Rcheck/00install.out
############################################################################## ############################################################################## ### ### Running command: ### ### /Library/Frameworks/R.framework/Versions/Current/Resources/bin/R CMD INSTALL SCATE ### ############################################################################## ############################################################################## * installing to library ‘/Library/Frameworks/R.framework/Versions/4.1/Resources/library’ * installing *source* package ‘SCATE’ ... ** using staged installation ** R ** inst ** byte-compile and prepare package for lazy loading snapshotDate(): 2021-05-18 ** help *** installing help indices ** building package indices ** installing vignettes ** testing if installed package can be loaded from temporary location snapshotDate(): 2021-05-18 ** testing if installed package can be loaded from final location snapshotDate(): 2021-05-18 ** testing if installed package keeps a record of temporary installation path * DONE (SCATE)
SCATE.Rcheck/SCATE-Ex.timings
name | user | system | elapsed | |
SCATE | 147.749 | 5.367 | 153.307 | |
SCATEpipeline | 151.289 | 4.582 | 156.913 | |
cellcluster | 31.410 | 1.356 | 32.788 | |
extractfeature | 0.048 | 0.000 | 0.049 | |
peakcall | 120.331 | 2.531 | 123.916 | |
satacprocess | 0.215 | 0.003 | 0.218 | |