| Back to Multiple platform build/check report for BioC 3.13 | 
 | 
This page was generated on 2021-10-15 15:06:19 -0400 (Fri, 15 Oct 2021).
| To the developers/maintainers of the RGMQL package: - Please allow up to 24 hours (and sometimes 48 hours) for your latest push to git@git.bioconductor.org:packages/RGMQL.git to reflect on this report. See How and When does the builder pull? When will my changes propagate? here for more information. - Make sure to use the following settings in order to reproduce any error or warning you see on this page. | 
| Package 1567/2041 | Hostname | OS / Arch | INSTALL | BUILD | CHECK | BUILD BIN | ||||||||
| RGMQL 1.12.4  (landing page) Simone Pallotta 
 | nebbiolo1 | Linux (Ubuntu 20.04.2 LTS) / x86_64 | OK | OK | OK |  | ||||||||
| tokay2 | Windows Server 2012 R2 Standard / x64 | OK | OK | OK | OK |  | ||||||||
| machv2 | macOS 10.14.6 Mojave / x86_64 | OK | ERROR | skipped | skipped | |||||||||
| Package: RGMQL | 
| Version: 1.12.4 | 
| Command: C:\Users\biocbuild\bbs-3.13-bioc\R\bin\R.exe --arch x64 CMD INSTALL --no-multiarch RGMQL | 
| StartedAt: 2021-10-14 10:29:50 -0400 (Thu, 14 Oct 2021) | 
| EndedAt: 2021-10-14 10:33:20 -0400 (Thu, 14 Oct 2021) | 
| EllapsedTime: 209.8 seconds | 
| RetCode: 0 | 
| Status: OK | 
##############################################################################
##############################################################################
###
### Running command:
###
###   C:\Users\biocbuild\bbs-3.13-bioc\R\bin\R.exe --arch x64 CMD INSTALL --no-multiarch RGMQL
###
##############################################################################
##############################################################################
* installing to library 'C:/Users/biocbuild/bbs-3.13-bioc/R/library'
* installing *source* package 'RGMQL' ...
** using staged installation
** R
** inst
** byte-compile and prepare package for lazy loading
** help
*** installing help indices
  converting help for package 'RGMQL'
    finding HTML links ... done
    aggr-class                              html  
    aggregate                               html  
    arrange                                 html  
    collect                                 html  
    compile_query                           html  
    condition_eval_func                     html  
    cover-param-class                       html  
    cover                                   html  
    delete_dataset                          html  
    distal-class                            html  
    download_dataset                        html  
    execute                                 html  
    export_gmql                             html  
    extend                                  html  
    filter-extract-param-class              html  
    filter                                  html  
    filter_and_extract                      html  
    group_by                                html  
    import_gmql                             html  
    init_gmql                               html  
    log_job                                 html  
    login_gmql                              html  
    logout_gmql                             html  
    map                                     html  
    merge                                   html  
    operator-class                          html  
    ordering-class                          html  
    read-function                           html  
    register_gmql                           html  
    remote_processing                       html  
    run_query                               html  
    sample_metadata                         html  
    sample_region                           html  
    save_query                              html  
    select                                  html  
    semijoin                                html  
    setdiff                                 html  
    show_all_metadata                       html  
    show_dataset                            html  
    show_jobs_list                          html  
    show_queries_list                       html  
    show_samples_list                       html  
    show_schema                             html  
    stop_gmql                               html  
    stop_job                                html  
    take                                    html  
    union                                   html  
    upload_dataset                          html  
** building package indices
** installing vignettes
** testing if installed package can be loaded from temporary location
** testing if installed package can be loaded from final location
** testing if installed package keeps a record of temporary installation path
* DONE (RGMQL)
Making 'packages.html' ... done